{"text_format":"1","workbook":"xlsx","n_sheets":19,"sheets":["List2 ","FORM","FORM 1-25","FORM 26-50","FORM 51-75","FORM 76-100","FORM 101-125","FORM 126-150","FORM 151-175","FORM 176-200","FORM 201-225","FORM 226-250","FORM 251-275","FORM 276-300","FORM IMDS","Vykres","Posudek","Ostatni","Data"],"not_rendered":{"charts":0,"images":3,"macros":1,"external_links":1,"defined_names":25,"comments":0,"pivot_tables":0},"unopened":[],"bounds":{"document_bytes":16777216,"sheet_cells":100000,"rows_first":2000,"rows_last":500,"rows_between":2000,"halvings":0,"cell_chars":16384,"cell_head_chars":4096},"cells_cut":0,"cells_raw":0,"read":"whole","date_system":"1900"}

{"sheet":"List2 ","index":0,"n_rows":21,"n_cols":2,"rows_kept":21,"cut":false,"hidden":false,"merged":[[20,1,20,13],[0,1,0,13],[14,1,14,13],[15,1,15,13],[3,1,3,13],[8,1,8,13],[13,1,13,13],[5,1,5,13],[4,1,4,13],[9,1,9,13],[10,1,10,13],[19,1,19,13],[18,1,18,13]]}
[null,"Před použitím / vor Nutzung / before using / Перед использованием"]
[]
["·        ","ČESKY"]
[null,"Musíte se ujistit, že \"stupeň zabezpečení\" maker v Excel, je nastavený na \"střední\". Bez této konfigurace makra nefungují."]
[null,"Na každém listě zvolte jazyk."]
[null,"Vyplňujte žlutě označená pole a FORM, FORM ……., FORM IMDS"]
[]
["·         ","ENGLISH"]
[null,"You must make sure, that the “security level” of the macros in Excel, is set to “medium”. Without this configuration, it’s not possible to enable the macros. "]
[null,"On every paper choose language."]
[null,"Fill in the places marked in yellow and FORM, FORM ……., FORM IMDS"]
[]
["·         ","DEUTSCH"]
[null,"Es muss in Excel sichergestellt sein, dass die “Sicherheitsstufe” der Makros als “Mittel” definiert ist. Ohne diese Konfiguration, funktionieren die Makros nicht."]
[null,"Für jeden Blatt die Sprache auswählen."]
[null,"Die gelb gekennzeichnete Felder und FORM, FORM ……., FORM IMDS ausfüllen."]
[]
["·         ","ПО-РУССКИ"]
[null,"Вы должы удостовериться что\"ступень обеспечении\" maker в Excel, наставлен на \"средний\". Без данной конфигурации makra бездействует."]
[null,"На каждой странице укажите язык"]
[null,"Заполняйте поля обозначенные желтой краской и FORM, FORM ……., FORM IMDS"]

{"sheet":"FORM","index":1,"n_rows":64,"n_cols":46,"rows_kept":64,"cut":false,"hidden":false,"merged":[[0,0,0,45],[5,23,5,45],[6,23,6,42],[7,23,7,42],[5,1,5,20],[6,1,6,20],[2,0,2,45],[29,43,29,45],[1,23,1,44],[4,1,4,20],[7,1,7,20],[9,23,9,42],[8,23,8,42],[4,23,4,42],[8,1,8,20],[28,1,28,13],[28,23,28,35],[9,1,9,20],[10,23,10,42],[11,1,11,20],[28,14,28,20],[12,23,12,42],[13,23,13,42],[14,23,14,42],[11,23,11,42],[14,1,14,20],[12,1,12,20],[15,23,15,42],[13,1,13,20],[28,36,28,45],[16,23,16,42],[16,1,16,20],[15,1,15,20],[18,0,18,45],[61,2,61,5],[53,17,53,19],[54,17,54,19],[59,1,59,7],[61,7,61,19],[57,1,57,7],[60,1,60,20],[57,8,57,20],[55,13,55,45],[55,1,55,12],[59,16,59,20],[54,1,54,16],[62,24,62,40],[47,7,47,19],[48,7,48,19],[62,7,62,19],[57,23,57,26],[48,24,48,40],[58,23,61,44],[52,17,52,19],[50,17,50,19],[59,8,59,15],[45,16,45,20],[50,20,50,42],[41,1,41,45],[47,2,47,5],[37,9,37,20],[34,8,34,20],[42,1,42,45],[39,1,39,8],[37,23,37,29],[37,30,37,45],[34,29,34,45],[36,35,36,45],[58,1,58,7],[52,1,52,16],[56,13,56,45],[32,1,32,7],[33,1,33,7],[33,23,33,28],[33,8,33,20],[35,22,35,45],[36,13,36,20],[37,1,37,8],[58,8,58,20],[38,1,38,8],[38,22,39,44],[39,9,39,20],[38,9,38,20],[44,1,44,7],[44,8,44,20],[43,8,43,20],[44,23,47,44],[53,1,53,16],[43,1,43,7],[46,1,46,20],[45,1,45,7],[45,8,45,15],[35,8,35,20],[36,23,36,34],[34,23,34,28],[36,1,36,12],[30,1,30,7],[31,1,31,7],[30,23,30,28],[33,29,33,45],[32,23,32,28],[31,8,31,20],[32,8,32,20],[30,29,30,45],[31,23,31,28],[31,29,31,45],[32,29,32,45],[29,19,29,21],[29,16,29,18],[30,8,30,20],[29,13,29,15],[29,23,29,33],[29,37,29,42],[29,34,29,36],[29,1,29,12],[34,1,34,7]]}
[{"$f":"Data!IB2","v":0}]
[null,null,null,null,null,null,null,null,null,null,null,null,null,null,null,null,null,null,null,null,null,null,null,{"$f":"Data!B3","v":"Vzorkování"}]
[{"$f":"Data!B4","v":"Titulní list"}]
[]
[null,{"$f":"Data!B5","v":"Dodavatel"},null,null,null,null,null,null,null,null,null,null,null,null,null,null,null,null,null,null,null,null,null,{"$f":"Data!B7","v":"Zpráva o kontrole prvních vzorků "}]
[null,null,null,null,null,null,null,null,null,null,null,null,null,null,null,null,null,null,null,null,null,null,null,{"$f":"Data!B8","v":"Kontrola prvních vzorků"}]
[null,null,null,null,null,null,null,null,null,null,null,null,null,null,null,null,null,null,null,null,null,null,null,{"$f":"Data!B9","v":"Nová kontrola vzorků"}]
[null,null,null,null,null,null,null,null,null,null,null,null,null,null,null,null,null,null,null,null,null,null,null,{"$f":"Data!B10","v":"Nový díl"}]
[null,null,null,null,null,null,null,null,null,null,null,null,null,null,null,null,null,null,null,null,null,null,null,{"$f":"Data!B11","v":"Změna výrobku"}]
[null,null,null,null,null,null,null,null,null,null,null,null,null,null,null,null,null,null,null,null,null,null,null,{"$f":"Data!B12","v":"Přemístění a přerušení výroby delší 12 měsíců "}]
[null,null,null,null,null,null,null,null,null,null,null,null,null,null,null,null,null,null,null,null,null,null,null,{"$f":"Data!B13","v":"Změna výrobních postupů"}]
[null,{"$f":"Data!B6","v":"Zákazník"},null,null,null,null,null,null,null,null,null,null,null,null,null,null,null,null,null,null,null,null,null,{"$f":"Data!B14","v":"Delší přerušení výroby"}]
[null,null,null,null,null,null,null,null,null,null,null,null,null,null,null,null,null,null,null,null,null,null,null,{"$f":"Data!B15","v":"Nový subdodavatel"}]
[null,null,null,null,null,null,null,null,null,null,null,null,null,null,null,null,null,null,null,null,null,null,null,{"$f":"Data!B16","v":"Výrobek s DmbA"}]
[null,null,null,null,null,null,null,null,null,null,null,null,null,null,null,null,null,null,null,null,null,null,null,{"$f":"Data!B17","v":"Stanoven plán výroby/kontroly"}]
[null,null,null,null,null,null,null,null,null,null,null,null,null,null,null,null,null,null,null,null,null,null,null,{"$f":"Data!B18","v":"Provedena FMEA"}]
[]
[]
[{"$f":"Data!B19","v":"Přílohy"}]
[null,null,"01",{"$f":"Data!B20","v":"Rozměrová kontrola"},null,null,null,null,null,null,null,null,null,null,"09",{"$f":"Data!B28","v":"EMC-elmag. kompatabilita"},null,null,null,null,null,null,null,null,null,null,null,null,null,null,null,17,{"$f":"Data!B36","v":"Dokladování způsobilosti procesu"}]
[null,null,"02",{"$f":"Data!B21","v":"Funkční kontrola"},null,null,null,null,null,null,null,null,null,null,"10",{"$f":"Data!B29","v":"Kontrola spolehlivosti"},null,null,null,null,null,null,null,null,null,null,null,null,null,null,null,18,{"$f":"Data!B37","v":"List dat o bezpečnosti dle ES"}]
[null,null,"03",{"$f":"Data!B22","v":"Kontrola materiálu"},null,null,null,null,null,null,null,null,null,null,"11",{"$f":"Data!B30","v":"Konstrukční FMEA"},null,null,null,null,null,null,null,null,null,null,null,null,null,null,null,19,{"$f":"Data!B38","v":"Materiálový list IMDS"}]
[null,null,"04",{"$f":"Data!B23","v":"Pohmat"},null,null,null,null,null,null,null,null,null,null,"12",{"$f":"Data!B31","v":"Uvolnění konstrukce"},null,null,null,null,null,null,null,null,null,null,null,null,null,null,null,20,{"$f":"Data!B39","v":"Certifikáty"}]
[null,null,"05",{"$f":"Data!B24","v":"Hluk"},null,null,null,null,null,null,null,null,null,null,"13",{"$f":"Data!B32","v":"Procesní FMEA"},null,null,null,null,null,null,null,null,null,null,null,null,null,null,null,21,{"$f":"Data!B40","v":"Transportní prostředky, balení"}]
[null,null,"06",{"$f":"Data!B25","v":"Pach"},null,null,null,null,null,null,null,null,null,null,"14",{"$f":"Data!B33","v":"Diagram průběhu procesu"},null,null,null,null,null,null,null,null,null,null,null,null,null,null,null,22,{"$f":"Data!B41","v":"Prověrka procesu"}]
[null,null,"07",{"$f":"Data!B26","v":"Vzhled"},null,null,null,null,null,null,null,null,null,null,"15",{"$f":"Data!B34","v":"Kontrolní plán a seznam kontrolních prostředků"},null,null,null,null,null,null,null,null,null,null,null,null,null,null,null,23,{"$f":"Data!B42","v":"Ostatní"}]
[null,null,"08",{"$f":"Data!B27","v":"Povrch"},null,null,null,null,null,null,null,null,null,null,"16",{"$f":"Data!B35","v":"Průkaz způsobilosti kontr. prostředků"}]
[]
[null,{"$f":"Data!B43","v":"Identifikační číslo dodavatele:"},null,null,null,null,null,null,null,null,null,null,null,null,null,null,null,null,null,null,null,null,null,{"$f":"Data!B52","v":"Identifikační číslo zákazníka"}]
[null,{"$f":"Data!B44","v":"Číslo zprávy o kontrole: "},null,null,null,null,null,null,null,null,null,null,null,null,null,null,{"$f":"Data!B45","v":"Verze:"},null,null,null,null,null,null,{"$f":"Data!B53","v":"Číslo zprávy o kontrole: "},null,null,null,null,null,null,null,null,null,null,null,null,null,{"$f":"Data!B54","v":"Verze:"}]
[null,{"$f":"Data!B46","v":"Číslo dílu:"},null,null,null,null,null,null,null,null,null,null,null,null,null,null,null,null,null,null,null,null,null,{"$f":"Data!B55","v":"Číslo dílu:"}]
[null,{"$f":"Data!B47","v":"Číslo výkresu: "},null,null,null,null,null,null,null,null,null,null,null,null,null,null,null,null,null,null,null,null,null,{"$f":"Data!B56","v":"Číslo výkresu: "}]
[null,{"$f":"Data!B48","v":"Stav / Datum:"},null,null,null,null,null,null,null,null,null,null,null,null,null,null,null,null,null,null,null,null,null,{"$f":"Data!B57","v":"Stav / Datum:"}]
[null,{"$f":"Data!B49","v":"Číslo změny:"},null,null,null,null,null,null,null,null,null,null,null,null,null,null,null,null,null,null,null,null,null,{"$f":"Data!B58","v":"Číslo změny:"}]
[null,{"$f":"Data!B50","v":"Název:"},null,null,null,null,null,null,null,null,null,null,null,null,null,null,null,null,null,null,null,null,null,{"$f":"Data!B59","v":"Název:"}]
[null,{"$f":"Data!B51","v":"Číslo a datum dodávky:"}]
[null,{"$f":"Data!B60","v":"Číslo dodacího listu/datum:"},null,null,null,null,null,null,null,null,null,null,null,null,null,null,null,null,null,null,null,null,null,{"$f":"Data!B64","v":"Číslo příjmu zboží/datum:"}]
[null,{"$f":"Data!B61","v":"Dodané množství:"},null,null,null,null,null,null,null,null,null,null,null,null,null,null,null,null,null,null,null,null,null,{"$f":"Data!B65","v":"Místo složení:  "}]
[null,{"$f":"Data!B62","v":"Číslo šarže:"}]
[null,{"$f":"Data!B63","v":"Hmotnost vzorku:"}]
[]
[null,{"$f":"Data!B66","v":"Potvrzení, dodavatel: "}]
[null,{"$f":"Data!B67","v":"Tímto se potvrzuje, že byla provedena kontrola vzorků v souladu se svazkem VDA 2, kap.4"}]
[null,{"$f":"Data!B68","v":"Jméno:"},null,null,null,null,null,null,null,null,null,null,null,null,null,null,null,null,null,null,null,null,null,{"$f":"Data!B73","v":"Poznámka: "}]
[null,{"$f":"Data!B69","v":"Oddělení: "}]
[null,{"$f":"Data!B70","v":"E-Mail/Telefon:"}]
[]
[]
[null,null,null,{"$f":"Data!B71","v":"Datum:"},null,null,null,{"$f":"Data!B72","v":"Podpis:"}]
[]
[null,{"$f":"Data!B74","v":"Rozhodnutí zákazníka:"},null,null,null,null,null,null,null,null,null,null,null,null,null,null,null,{"$f":"Data!B75","v":"Celkem"},null,null,{"$f":"Data!B76","v":"Podle druhu"}]
[null,null,null,null,null,null,null,null,null,null,null,null,null,null,null,null,null,null,null,null,"01","02","02","03","04","05","06","07","08","09","10",11,12,13,14,15,16,17,18,19,21,22,20,21,22,23]
[null,{"$f":"Data!B77","v":"Uvolněno: "}]
[null,{"$f":"Data!B78","v":"Podmínečně uvolněno:"}]
[null,{"$f":"Data!B79","v":"Zamítnuto, nutná nová kontrola vzorků:"}]
[null,{"$f":"Data!B80","v":"Číslo povolení odchylky:"}]
[null,{"$f":"Data!B81","v":"Při vrácení číslo a datum dodacího listu:"}]
[null,{"$f":"Data!B82","v":"Jméno:"},null,null,null,null,null,null,null,null,null,null,null,null,null,null,null,null,null,null,null,null,null,{"$f":"Data!B87","v":"Poznámka: "}]
[null,{"$f":"Data!B83","v":"Oddělení: "}]
[null,{"$f":"Data!B84","v":"E-Mail/Telefon:"}]
[]
[]
[null,null,null,{"$f":"Data!B85","v":"Datum:"},null,null,null,{"$f":"Data!B86","v":"Podpis:"}]
["ŘK-11-4-013-11-0   "]

{"sheet":"FORM 1-25","index":2,"n_rows":68,"n_cols":32,"rows_kept":68,"cut":false,"hidden":false,"merged":[[4,2,4,20],[9,2,9,20],[8,2,8,20],[33,0,33,2],[33,3,33,16],[44,0,44,2],[43,3,43,16],[7,22,7,32],[8,22,8,32],[9,22,9,32],[5,2,5,20],[7,2,7,20],[6,2,6,20],[13,23,13,32],[22,1,22,11],[22,12,22,15],[22,26,22,29],[14,23,14,32],[15,23,15,32],[17,23,17,32],[18,23,18,32],[22,19,22,23],[38,31,38,32],[35,31,35,32],[61,1,61,7],[23,1,23,7],[56,19,60,32],[43,29,43,30],[45,31,45,32],[45,29,45,30],[44,29,44,30],[49,0,49,2],[34,0,34,2],[43,0,43,2],[33,29,33,30],[26,22,26,32],[33,31,33,32],[31,29,31,30],[30,29,30,30],[30,31,30,32],[42,3,42,16],[39,3,39,16],[62,23,62,32],[55,19,55,32],[46,29,46,30],[46,31,46,32],[62,19,62,22],[61,23,61,32],[51,29,51,30],[52,29,52,30],[44,31,44,32],[49,29,49,30],[49,31,49,32],[27,19,27,21],[61,19,61,22],[61,8,61,18],[27,22,27,32],[34,3,34,16],[66,23,66,30],[63,19,63,22],[65,20,65,21],[64,19,64,32],[65,23,65,30],[66,20,66,21],[63,23,63,25],[63,26,63,32],[54,29,54,30],[54,31,54,32],[65,2,65,5],[66,7,66,17],[55,1,55,18],[65,7,65,17],[56,1,60,18],[64,1,64,18],[63,1,63,7],[62,8,62,18],[66,2,66,5],[62,1,62,7],[63,8,63,15],[63,16,63,18],[53,29,53,30],[51,31,51,32],[53,3,53,16],[49,3,49,16],[50,3,50,16],[51,3,51,16],[54,0,54,2],[54,3,54,16],[53,0,53,2],[52,3,52,16],[52,0,52,2],[51,0,51,2],[50,0,50,2],[53,31,53,32],[39,31,39,32],[47,31,47,32],[39,29,39,30],[52,31,52,32],[50,29,50,30],[50,31,50,32],[43,31,43,32],[40,31,40,32],[42,29,42,30],[42,31,42,32],[48,31,48,32],[48,29,48,30],[41,31,41,32],[37,0,37,2],[37,3,37,16],[38,29,38,30],[38,0,38,2],[38,3,38,16],[46,0,46,2],[40,0,40,2],[40,3,40,16],[45,3,45,16],[42,0,42,2],[45,0,45,2],[44,3,44,16],[36,29,36,30],[32,31,32,32],[34,29,34,30],[34,31,34,32],[35,29,35,30],[32,29,32,30],[39,0,39,2],[47,0,47,2],[48,0,48,2],[40,29,40,30],[47,3,47,16],[48,3,48,16],[41,29,41,30],[47,29,47,30],[41,3,41,16],[46,3,46,16],[35,0,35,2],[35,3,35,16],[41,0,41,2],[36,31,36,32],[37,29,37,30],[36,0,36,2],[36,3,36,16],[37,31,37,32],[22,24,22,25],[27,1,27,7],[12,23,12,32],[23,8,23,18],[26,19,26,21],[25,19,25,21],[22,30,22,32],[24,19,24,21],[23,19,23,21],[23,22,23,32],[21,1,21,13],[24,22,24,32],[25,22,25,32],[29,29,29,30],[29,31,29,32],[28,29,28,32],[29,27,29,28],[32,0,32,2],[32,3,32,16],[0,0,0,32],[22,16,22,17],[1,18,1,31],[11,0,11,32],[2,0,2,32],[21,19,21,24],[21,25,21,32],[21,14,21,18],[4,22,4,32],[5,22,5,32],[31,31,31,32],[16,23,16,32],[6,22,6,32],[30,3,30,16],[28,3,29,16],[24,8,24,18],[25,8,25,18],[24,1,24,7],[27,8,27,18],[25,1,25,7],[26,8,26,18],[31,3,31,16],[28,0,29,2],[26,1,26,7],[28,17,28,21],[31,0,31,2],[28,22,28,26],[30,0,30,2]]}
[{"$f":"Data!IF90","v":0}]
[null,null,null,null,null,null,null,null,null,null,null,null,null,null,null,null,null,null,{"$f":"Data!B91","v":"Vzorkování"}]
[{"$f":"Data!B92","v":"Výsledky kontrol"}]
[]
[null,null,{"$f":"Data!B93","v":"Zpráva o kontrole prvních vzorků "},null,null,null,null,null,null,null,null,null,null,null,null,null,null,null,null,null,null,null,{"$f":"Data!B99","v":"Změna výrobních postupů"}]
[null,null,{"$f":"Data!B94","v":"Kontrola prvních vzorků"},null,null,null,null,null,null,null,null,null,null,null,null,null,null,null,null,null,null,null,{"$f":"Data!B100","v":"Delší přerušení výroby"}]
[null,null,{"$f":"Data!B95","v":"Nová kontrola vzorků"},null,null,null,null,null,null,null,null,null,null,null,null,null,null,null,null,null,null,null,{"$f":"Data!B101","v":"Nový subdodavatel"}]
[null,null,{"$f":"Data!B96","v":"Nový díl"},null,null,null,null,null,null,null,null,null,null,null,null,null,null,null,null,null,null,null,{"$f":"Data!B102","v":"Výrobek s DmbA"}]
[null,null,{"$f":"Data!B97","v":"Změna výrobku"},null,null,null,null,null,null,null,null,null,null,null,null,null,null,null,null,null,null,null,{"$f":"Data!B103","v":"Stanoven plán výroby/kontroly"}]
[null,null,{"$f":"Data!B98","v":"Přemístění a přerušení výroby delší 12 měsíců "},null,null,null,null,null,null,null,null,null,null,null,null,null,null,null,null,null,null,null,{"$f":"Data!B104","v":"Provedena FMEA"}]
[]
[{"$f":"Data!B105","v":"Přílohy"}]
[null,null,"01",{"$f":"Data!B106","v":"Rozměrová kontrola"},null,null,null,null,null,null,null,null,null,null,"09",{"$f":"Data!B114","v":"EMC-elmag. kompatabilita"},null,null,null,null,null,null,17,{"$f":"Data!B122","v":"Dokladování způsobilosti procesu"}]
[null,null,"02",{"$f":"Data!B107","v":"Funkční kontrola"},null,null,null,null,null,null,null,null,null,null,"10",{"$f":"Data!B115","v":"Kontrola spolehlivosti"},null,null,null,null,null,null,18,{"$f":"Data!B123","v":"List dat o bezpečnosti dle ES"}]
[null,null,"03",{"$f":"Data!B108","v":"Kontrola materiálu"},null,null,null,null,null,null,null,null,null,null,"11",{"$f":"Data!B116","v":"Konstrukční FMEA"},null,null,null,null,null,null,19,{"$f":"Data!B124","v":"Materiálový list IMDS"}]
[null,null,"04",{"$f":"Data!B109","v":"Pohmat"},null,null,null,null,null,null,null,null,null,null,"12",{"$f":"Data!B117","v":"Uvolnění konstrukce"},null,null,null,null,null,null,20,{"$f":"Data!B125","v":"Certifikáty"}]
[null,null,"05",{"$f":"Data!B110","v":"Hluk"},null,null,null,null,null,null,null,null,null,null,"13",{"$f":"Data!B118","v":"Procesní FMEA"},null,null,null,null,null,null,21,{"$f":"Data!B126","v":"Transportní prostředky, balení"}]
[null,null,"06",{"$f":"Data!B111","v":"Pach"},null,null,null,null,null,null,null,null,null,null,"14",{"$f":"Data!B119","v":"Diagram průběhu procesu"},null,null,null,null,null,null,22,{"$f":"Data!B127","v":"Prověrka procesu"}]
[null,null,"07",{"$f":"Data!B112","v":"Vzhled"},null,null,null,null,null,null,null,null,null,null,"15",{"$f":"Data!B120","v":"Kontrolní plán a seznam kontrolních prostředků"},null,null,null,null,null,null,23,{"$f":"Data!B128","v":"Ostatní"}]
[null,null,"08",{"$f":"Data!B113","v":"Povrch"},null,null,null,null,null,null,null,null,null,null,"16",{"$f":"Data!B121","v":"Průkaz způsobilosti kontr. prostředků"}]
[]
[null,{"$f":"Data!B129","v":"Identifikační číslo dodavatele:"},null,null,null,null,null,null,null,null,null,null,null,null,{"$f":"FORM!O29","v":0},null,null,null,null,{"$f":"Data!B137","v":"Identifikační číslo zákazníka"},null,null,null,null,null,{"$f":"FORM!AK29","v":0}]
[null,{"$f":"Data!B130","v":"Číslo zprávy o kontrole: "},null,null,null,null,null,null,null,null,null,null,{"$f":"FORM!N30","v":0},null,null,null,{"$f":"Data!B131","v":"Verze:"},null,{"$f":"FORM!T30","v":0},{"$f":"Data!B138","v":"Číslo zprávy o kontrole: "},null,null,null,null,{"$f":"FORM!AI30","v":0},null,{"$f":"Data!B139","v":"Verze:"},null,null,null,{"$f":"FORM!AR30","v":0}]
[null,{"$f":"Data!B132","v":"Číslo dílu:"},null,null,null,null,null,null,{"$f":"FORM!I31","v":0},null,null,null,null,null,null,null,null,null,null,{"$f":"Data!B140","v":"Číslo dílu:"},null,null,{"$f":"FORM!AD31","v":0}]
[null,{"$f":"Data!B133","v":"Číslo výkresu: "},null,null,null,null,null,null,{"$f":"FORM!I32","v":0},null,null,null,null,null,null,null,null,null,null,{"$f":"Data!B141","v":"Číslo výkresu: "},null,null,{"$f":"FORM!AD32","v":0}]
[null,{"$f":"Data!B134","v":"Stav / Datum:"},null,null,null,null,null,null,{"$f":"FORM!I33","v":0},null,null,null,null,null,null,null,null,null,null,{"$f":"Data!B142","v":"Stav / Datum:"},null,null,{"$f":"FORM!AD33","v":0}]
[null,{"$f":"Data!B135","v":"Číslo změny:"},null,null,null,null,null,null,{"$f":"FORM!I34","v":0},null,null,null,null,null,null,null,null,null,null,{"$f":"Data!B143","v":"Číslo změny:"},null,null,{"$f":"FORM!AD34","v":0}]
[null,{"$f":"Data!B136","v":"Název:"},null,null,null,null,null,null,{"$f":"FORM!I35","v":0},null,null,null,null,null,null,null,null,null,null,{"$f":"Data!B144","v":"Název:"},null,null,{"$f":"FORM!AD35","v":0}]
[{"$f":"Data!B145","v":"Číslo"},null,null,{"$f":"Data!B146","v":"Požadavky"},null,null,null,null,null,null,null,null,null,null,null,null,null,{"$f":"Data!B147","v":"Skutečné hodnoty - dodavatel"},null,null,null,null,{"$f":"Data!B148","v":"Skutečné hodnoty - zákazník"},null,null,null,null,"=Data!R[119]C[-23]",null,{"$f":"Data!B149","v":"Hodnocení"}]
[null,null,null,null,null,null,null,null,null,null,null,null,null,null,null,null,null,"1.","2.","3.","4.","5.","1.","2.","3.","4.","5.","Ano",null,{"$f":"Data!B150","v":"Ano"},null,{"$f":"Data!B151","v":"Ne"}]
["1."]
["2."]
["3."]
["4."]
["5."]
["6."]
["7."]
["8."]
["9."]
["10."]
["11."]
["12."]
["13."]
["14."]
["15."]
["16."]
["17."]
["18."]
["19."]
["20."]
["21."]
["22."]
["23."]
["24."]
["25."]
[null,{"$f":"Data!B152","v":"Dodavatel/poznámka:"},null,null,null,null,null,null,null,null,null,null,null,null,null,null,null,null,null,{"$f":"Data!B153","v":"Zákazník/poznámka:"}]
[]
[]
[]
[]
[]
[null,{"$f":"Data!B154","v":"Jméno:"},null,null,null,null,null,null,null,null,null,null,null,null,null,null,null,null,null,{"$f":"Data!B159","v":"Jméno:"}]
[null,{"$f":"Data!B155","v":"Oddělení: "},null,null,null,null,null,null,null,null,null,null,null,null,null,null,null,null,null,{"$f":"Data!B160","v":"Oddělení: "}]
[null,{"$f":"Data!B156","v":"E-Mail/Telefon:"},null,null,null,null,null,null,null,null,null,null,null,null,null,null,null,null,null,{"$f":"Data!B161","v":"E-Mail/Telefon:"}]
[]
[]
[null,null,{"$f":"Data!B157","v":"Datum:"},null,null,null,null,{"$f":"Data!B158","v":"Podpis:"},null,null,null,null,null,null,null,null,null,null,null,null,{"$f":"Data!B162","v":"Datum:"},null,null,{"$f":"Data!B163","v":"Podpis:"}]
["ŘK-11-4-013-11-0  "]

{"sheet":"FORM 26-50","index":3,"n_rows":68,"n_cols":32,"rows_kept":68,"cut":false,"hidden":false,"merged":[[30,0,30,2],[32,0,32,2],[31,0,31,2],[31,3,31,16],[27,19,27,21],[23,1,23,7],[32,3,32,16],[28,3,29,16],[30,3,30,16],[28,17,28,21],[28,0,29,2],[27,8,27,18],[25,1,25,7],[26,8,26,18],[23,8,23,18],[22,24,22,25],[22,19,22,23],[12,23,12,32],[13,23,13,32],[14,23,14,32],[15,23,15,32],[16,23,16,32],[17,23,17,32],[22,1,22,11],[22,12,22,15],[22,30,22,32],[22,26,22,29],[0,0,0,32],[22,16,22,17],[1,18,1,31],[11,0,11,32],[2,0,2,32],[21,19,21,24],[18,23,18,32],[21,1,21,13],[21,14,21,18],[21,25,21,32],[6,2,6,20],[5,2,5,20],[4,2,4,20],[4,22,4,32],[5,22,5,32],[6,22,6,32],[9,2,9,20],[8,2,8,20],[7,2,7,20],[7,22,7,32],[8,22,8,32],[9,22,9,32],[32,31,32,32],[31,29,31,30],[27,22,27,32],[24,22,24,32],[25,22,25,32],[28,22,28,26],[30,29,30,30],[30,31,30,32],[31,31,31,32],[32,29,32,30],[29,31,29,32],[28,29,28,32],[29,29,29,30],[25,8,25,18],[24,1,24,7],[29,27,29,28],[27,1,27,7],[26,1,26,7],[26,19,26,21],[25,19,25,21],[24,8,24,18],[26,22,26,32],[33,0,33,2],[36,0,36,2],[35,0,35,2],[40,0,40,2],[34,0,34,2],[33,29,33,30],[36,3,36,16],[35,3,35,16],[34,29,34,30],[40,3,40,16],[39,3,39,16],[37,29,37,30],[34,3,34,16],[39,29,39,30],[40,29,40,30],[40,31,40,32],[48,31,48,32],[48,29,48,30],[47,29,47,30],[46,29,46,30],[46,31,46,32],[42,29,42,30],[33,31,33,32],[36,29,36,30],[37,31,37,32],[35,31,35,32],[35,29,35,30],[34,31,34,32],[41,29,41,30],[39,31,39,32],[47,31,47,32],[42,31,42,32],[41,31,41,32],[44,29,44,30],[44,31,44,32],[38,31,38,32],[37,3,37,16],[38,0,38,2],[38,3,38,16],[39,0,39,2],[41,0,41,2],[41,3,41,16],[47,3,47,16],[48,3,48,16],[52,0,52,2],[46,0,46,2],[46,3,46,16],[51,0,51,2],[49,3,49,16],[47,0,47,2],[48,0,48,2],[49,0,49,2],[45,3,45,16],[50,3,50,16],[63,8,63,15],[63,16,63,18],[66,2,66,5],[62,1,62,7],[65,2,65,5],[66,23,66,30],[63,19,63,22],[65,20,65,21],[64,19,64,32],[65,23,65,30],[62,8,62,18],[62,23,62,32],[66,7,66,17],[63,1,63,7],[62,19,62,22],[65,7,65,17],[64,1,64,18],[66,20,66,21],[63,23,63,25],[63,26,63,32],[24,19,24,21],[23,19,23,21],[23,22,23,32],[55,19,55,32],[56,19,60,32],[52,31,52,32],[54,29,54,30],[61,23,61,32],[61,19,61,22],[50,31,50,32],[51,31,51,32],[49,29,49,30],[49,31,49,32],[51,29,51,30],[45,31,45,32],[45,29,45,30],[50,29,50,30],[53,31,53,32],[54,31,54,32],[53,29,53,30],[43,31,43,32],[61,1,61,7],[53,3,53,16],[51,3,51,16],[52,29,52,30],[42,0,42,2],[38,29,38,30],[36,31,36,32],[43,29,43,30],[33,3,33,16],[44,0,44,2],[44,3,44,16],[61,8,61,18],[45,0,45,2],[50,0,50,2],[56,1,60,18],[54,0,54,2],[54,3,54,16],[52,3,52,16],[55,1,55,18],[53,0,53,2],[43,0,43,2],[43,3,43,16],[42,3,42,16],[37,0,37,2]]}
[{"$f":"Data!IF90","v":0}]
[null,null,null,null,null,null,null,null,null,null,null,null,null,null,null,null,null,null,{"$f":"Data!B91","v":"Vzorkování"}]
[{"$f":"Data!B92","v":"Výsledky kontrol"}]
[]
[null,null,{"$f":"Data!B93","v":"Zpráva o kontrole prvních vzorků "},null,null,null,null,null,null,null,null,null,null,null,null,null,null,null,null,null,null,null,{"$f":"Data!B99","v":"Změna výrobních postupů"}]
[null,null,{"$f":"Data!B94","v":"Kontrola prvních vzorků"},null,null,null,null,null,null,null,null,null,null,null,null,null,null,null,null,null,null,null,{"$f":"Data!B100","v":"Delší přerušení výroby"}]
[null,null,{"$f":"Data!B95","v":"Nová kontrola vzorků"},null,null,null,null,null,null,null,null,null,null,null,null,null,null,null,null,null,null,null,{"$f":"Data!B101","v":"Nový subdodavatel"}]
[null,null,{"$f":"Data!B96","v":"Nový díl"},null,null,null,null,null,null,null,null,null,null,null,null,null,null,null,null,null,null,null,{"$f":"Data!B102","v":"Výrobek s DmbA"}]
[null,null,{"$f":"Data!B97","v":"Změna výrobku"},null,null,null,null,null,null,null,null,null,null,null,null,null,null,null,null,null,null,null,{"$f":"Data!B103","v":"Stanoven plán výroby/kontroly"}]
[null,null,{"$f":"Data!B98","v":"Přemístění a přerušení výroby delší 12 měsíců "},null,null,null,null,null,null,null,null,null,null,null,null,null,null,null,null,null,null,null,{"$f":"Data!B104","v":"Provedena FMEA"}]
[]
[{"$f":"Data!B105","v":"Přílohy"}]
[null,null,"01",{"$f":"Data!B106","v":"Rozměrová kontrola"},null,null,null,null,null,null,null,null,null,null,"09",{"$f":"Data!B114","v":"EMC-elmag. kompatabilita"},null,null,null,null,null,null,17,{"$f":"Data!B122","v":"Dokladování způsobilosti procesu"}]
[null,null,"02",{"$f":"Data!B107","v":"Funkční kontrola"},null,null,null,null,null,null,null,null,null,null,"10",{"$f":"Data!B115","v":"Kontrola spolehlivosti"},null,null,null,null,null,null,18,{"$f":"Data!B123","v":"List dat o bezpečnosti dle ES"}]
[null,null,"03",{"$f":"Data!B108","v":"Kontrola materiálu"},null,null,null,null,null,null,null,null,null,null,"11",{"$f":"Data!B116","v":"Konstrukční FMEA"},null,null,null,null,null,null,19,{"$f":"Data!B124","v":"Materiálový list IMDS"}]
[null,null,"04",{"$f":"Data!B109","v":"Pohmat"},null,null,null,null,null,null,null,null,null,null,"12",{"$f":"Data!B117","v":"Uvolnění konstrukce"},null,null,null,null,null,null,20,{"$f":"Data!B125","v":"Certifikáty"}]
[null,null,"05",{"$f":"Data!B110","v":"Hluk"},null,null,null,null,null,null,null,null,null,null,"13",{"$f":"Data!B118","v":"Procesní FMEA"},null,null,null,null,null,null,21,{"$f":"Data!B126","v":"Transportní prostředky, balení"}]
[null,null,"06",{"$f":"Data!B111","v":"Pach"},null,null,null,null,null,null,null,null,null,null,"14",{"$f":"Data!B119","v":"Diagram průběhu procesu"},null,null,null,null,null,null,22,{"$f":"Data!B127","v":"Prověrka procesu"}]
[null,null,"07",{"$f":"Data!B112","v":"Vzhled"},null,null,null,null,null,null,null,null,null,null,"15",{"$f":"Data!B120","v":"Kontrolní plán a seznam kontrolních prostředků"},null,null,null,null,null,null,23,{"$f":"Data!B128","v":"Ostatní"}]
[null,null,"08",{"$f":"Data!B113","v":"Povrch"},null,null,null,null,null,null,null,null,null,null,"16",{"$f":"Data!B121","v":"Průkaz způsobilosti kontr. prostředků"}]
[]
[null,{"$f":"Data!B129","v":"Identifikační číslo dodavatele:"},null,null,null,null,null,null,null,null,null,null,null,null,{"$f":"FORM!O29","v":0},null,null,null,null,{"$f":"Data!B137","v":"Identifikační číslo zákazníka"},null,null,null,null,null,{"$f":"FORM!AK29","v":0}]
[null,{"$f":"Data!B130","v":"Číslo zprávy o kontrole: "},null,null,null,null,null,null,null,null,null,null,{"$f":"FORM!N30","v":0},null,null,null,{"$f":"Data!B131","v":"Verze:"},null,{"$f":"FORM!T30","v":0},{"$f":"Data!B138","v":"Číslo zprávy o kontrole: "},null,null,null,null,{"$f":"FORM!AI30","v":0},null,{"$f":"Data!B139","v":"Verze:"},null,null,null,{"$f":"FORM!AR30","v":0}]
[null,{"$f":"Data!B132","v":"Číslo dílu:"},null,null,null,null,null,null,{"$f":"FORM!I31","v":0},null,null,null,null,null,null,null,null,null,null,{"$f":"Data!B140","v":"Číslo dílu:"},null,null,{"$f":"FORM!AD31","v":0}]
[null,{"$f":"Data!B133","v":"Číslo výkresu: "},null,null,null,null,null,null,{"$f":"FORM!I32","v":0},null,null,null,null,null,null,null,null,null,null,{"$f":"Data!B141","v":"Číslo výkresu: "},null,null,{"$f":"FORM!AD32","v":0}]
[null,{"$f":"Data!B134","v":"Stav / Datum:"},null,null,null,null,null,null,{"$f":"FORM!I33","v":0},null,null,null,null,null,null,null,null,null,null,{"$f":"Data!B142","v":"Stav / Datum:"},null,null,{"$f":"FORM!AD33","v":0}]
[null,{"$f":"Data!B135","v":"Číslo změny:"},null,null,null,null,null,null,{"$f":"FORM!I34","v":0},null,null,null,null,null,null,null,null,null,null,{"$f":"Data!B143","v":"Číslo změny:"},null,null,{"$f":"FORM!AD34","v":0}]
[null,{"$f":"Data!B136","v":"Název:"},null,null,null,null,null,null,{"$f":"FORM!I35","v":0},null,null,null,null,null,null,null,null,null,null,{"$f":"Data!B144","v":"Název:"},null,null,{"$f":"FORM!AD35","v":0}]
[{"$f":"Data!B145","v":"Číslo"},null,null,{"$f":"Data!B146","v":"Požadavky"},null,null,null,null,null,null,null,null,null,null,null,null,null,{"$f":"Data!B147","v":"Skutečné hodnoty - dodavatel"},null,null,null,null,{"$f":"Data!B148","v":"Skutečné hodnoty - zákazník"},null,null,null,null,"=Data!R[119]C[-23]",null,{"$f":"Data!B149","v":"Hodnocení"}]
[null,null,null,null,null,null,null,null,null,null,null,null,null,null,null,null,null,"1.","2.","3.","4.","5.","1.","2.","3.","4.","5.","Ano",null,{"$f":"Data!B150","v":"Ano"},null,{"$f":"Data!B151","v":"Ne"}]
["26."]
["27."]
["28."]
["29."]
["30."]
["31."]
["32."]
["33."]
["34."]
["35."]
["36."]
["37."]
["38."]
["39."]
["40."]
["41."]
["42."]
["43."]
["44."]
["45."]
["46."]
["47."]
["48."]
["49."]
["50."]
[null,{"$f":"Data!B152","v":"Dodavatel/poznámka:"},null,null,null,null,null,null,null,null,null,null,null,null,null,null,null,null,null,{"$f":"Data!B153","v":"Zákazník/poznámka:"}]
[]
[]
[]
[]
[]
[null,{"$f":"Data!B154","v":"Jméno:"},null,null,null,null,null,null,{"$f":"'FORM 1-25'!I62:S62","v":0},null,null,null,null,null,null,null,null,null,null,{"$f":"Data!B159","v":"Jméno:"},null,null,null,{"$f":"'FORM 1-25'!X62:AG62","v":0}]
[null,{"$f":"Data!B155","v":"Oddělení: "},null,null,null,null,null,null,{"$f":"'FORM 1-25'!I63:S63","v":0},null,null,null,null,null,null,null,null,null,null,{"$f":"Data!B160","v":"Oddělení: "},null,null,null,{"$f":"'FORM 1-25'!X63:AG63","v":0}]
[null,{"$f":"Data!B156","v":"E-Mail/Telefon:"},null,null,null,null,null,null,{"$f":"'FORM 1-25'!I64:P64","v":0},null,null,null,null,null,null,null,{"$f":"'FORM 1-25'!Q64:S64","v":0},null,null,{"$f":"Data!B161","v":"E-Mail/Telefon:"},null,null,null,{"$f":"'FORM 1-25'!X64:Z64","v":0},null,null,{"$f":"'FORM 1-25'!AA64:AG64","v":0}]
[]
[null,null,{"$f":"'FORM 1-25'!C66:F66","v":0},null,null,null,null,{"$f":"'FORM 1-25'!H66:R66","v":0},null,null,null,null,null,null,null,null,null,null,null,null,{"$f":"'FORM 1-25'!U66:V66","v":0},null,null,{"$f":"'FORM 1-25'!X66:AE66","v":0}]
[null,null,{"$f":"Data!B157","v":"Datum:"},null,null,null,null,{"$f":"Data!B158","v":"Podpis:"},null,null,null,null,null,null,null,null,null,null,null,null,{"$f":"Data!B162","v":"Datum:"},null,null,{"$f":"Data!B163","v":"Podpis:"}]
["ŘK-11-4-013-11-0  "]

{"sheet":"FORM 51-75","index":4,"n_rows":68,"n_cols":32,"rows_kept":68,"cut":false,"hidden":true,"merged":[[21,1,21,13],[61,1,61,7],[61,23,61,32],[61,19,61,22],[46,29,46,30],[46,31,46,32],[44,3,44,16],[45,3,45,16],[45,31,45,32],[49,3,49,16],[50,3,50,16],[55,19,55,32],[66,23,66,30],[63,19,63,22],[65,20,65,21],[64,19,64,32],[21,14,21,18],[23,8,23,18],[23,19,23,21],[23,22,23,32],[61,8,61,18],[63,8,63,15],[62,8,62,18],[48,3,48,16],[47,3,47,16],[48,31,48,32],[44,31,44,32],[49,29,49,30],[49,31,49,32],[47,31,47,32],[45,29,45,30],[21,25,21,32],[43,29,43,30],[22,1,22,11],[22,12,22,15],[66,2,66,5],[62,1,62,7],[65,2,65,5],[50,31,50,32],[46,0,46,2],[46,3,46,16],[47,0,47,2],[48,0,48,2],[49,0,49,2],[50,0,50,2],[65,23,65,30],[63,23,63,25],[63,26,63,32],[62,23,62,32],[66,7,66,17],[55,1,55,18],[65,7,65,17],[56,1,60,18],[64,1,64,18],[63,1,63,7],[66,20,66,21],[63,16,63,18],[62,19,62,22],[56,19,60,32],[53,31,53,32],[53,0,53,2],[54,29,54,30],[54,31,54,32],[54,0,54,2],[53,3,53,16],[39,31,39,32],[41,29,41,30],[41,31,41,32],[40,31,40,32],[51,31,51,32],[52,29,52,30],[52,31,52,32],[48,29,48,30],[47,29,47,30],[39,29,39,30],[51,3,51,16],[52,3,52,16],[39,3,39,16],[41,3,41,16],[39,0,39,2],[40,0,40,2],[40,3,40,16],[51,0,51,2],[54,3,54,16],[53,29,53,30],[37,29,37,30],[36,29,36,30],[50,29,50,30],[38,29,38,30],[35,29,35,30],[42,29,42,30],[52,0,52,2],[51,29,51,30],[37,0,37,2],[37,3,37,16],[42,0,42,2],[45,0,45,2],[41,0,41,2],[43,31,43,32],[44,0,44,2],[42,31,42,32],[43,0,43,2],[43,3,43,16],[42,3,42,16],[44,29,44,30],[40,29,40,30],[32,29,32,30],[33,29,33,30],[33,31,33,32],[32,0,32,2],[28,3,29,16],[34,29,34,30],[34,31,34,32],[37,31,37,32],[35,31,35,32],[36,31,36,32],[38,31,38,32],[35,3,35,16],[38,0,38,2],[38,3,38,16],[33,0,33,2],[33,3,33,16],[36,0,36,2],[36,3,36,16],[34,0,34,2],[34,3,34,16],[35,0,35,2],[31,0,31,2],[31,3,31,16],[0,0,0,32],[22,16,22,17],[1,18,1,31],[11,0,11,32],[2,0,2,32],[21,19,21,24],[18,23,18,32],[17,23,17,32],[7,2,7,20],[6,2,6,20],[8,22,8,32],[8,2,8,20],[16,23,16,32],[5,2,5,20],[4,2,4,20],[4,22,4,32],[5,22,5,32],[6,22,6,32],[7,22,7,32],[9,2,9,20],[13,23,13,32],[9,22,9,32],[14,23,14,32],[15,23,15,32],[28,0,29,2],[25,8,25,18],[29,27,29,28],[12,23,12,32],[32,3,32,16],[24,1,24,7],[32,31,32,32],[31,29,31,30],[30,3,30,16],[28,17,28,21],[28,22,28,26],[29,29,29,30],[28,29,28,32],[24,8,24,18],[30,29,30,30],[31,31,31,32],[27,19,27,21],[26,1,26,7],[30,0,30,2],[24,19,24,21],[30,31,30,32],[29,31,29,32],[27,22,27,32],[26,19,26,21],[22,24,22,25],[22,19,22,23],[27,1,27,7],[23,1,23,7],[27,8,27,18],[25,1,25,7],[26,22,26,32],[24,22,24,32],[25,22,25,32],[26,8,26,18],[25,19,25,21],[22,30,22,32],[22,26,22,29]]}
[{"$f":"Data!IF90","v":0}]
[null,null,null,null,null,null,null,null,null,null,null,null,null,null,null,null,null,null,{"$f":"Data!B91","v":"Vzorkování"}]
[{"$f":"Data!B92","v":"Výsledky kontrol"}]
[]
[null,null,{"$f":"Data!B93","v":"Zpráva o kontrole prvních vzorků "},null,null,null,null,null,null,null,null,null,null,null,null,null,null,null,null,null,null,null,{"$f":"Data!B99","v":"Změna výrobních postupů"}]
[null,null,{"$f":"Data!B94","v":"Kontrola prvních vzorků"},null,null,null,null,null,null,null,null,null,null,null,null,null,null,null,null,null,null,null,{"$f":"Data!B100","v":"Delší přerušení výroby"}]
[null,null,{"$f":"Data!B95","v":"Nová kontrola vzorků"},null,null,null,null,null,null,null,null,null,null,null,null,null,null,null,null,null,null,null,{"$f":"Data!B101","v":"Nový subdodavatel"}]
[null,null,{"$f":"Data!B96","v":"Nový díl"},null,null,null,null,null,null,null,null,null,null,null,null,null,null,null,null,null,null,null,{"$f":"Data!B102","v":"Výrobek s DmbA"}]
[null,null,{"$f":"Data!B97","v":"Změna výrobku"},null,null,null,null,null,null,null,null,null,null,null,null,null,null,null,null,null,null,null,{"$f":"Data!B103","v":"Stanoven plán výroby/kontroly"}]
[null,null,{"$f":"Data!B98","v":"Přemístění a přerušení výroby delší 12 měsíců "},null,null,null,null,null,null,null,null,null,null,null,null,null,null,null,null,null,null,null,{"$f":"Data!B104","v":"Provedena FMEA"}]
[]
[{"$f":"Data!B105","v":"Přílohy"}]
[null,null,"01",{"$f":"Data!B106","v":"Rozměrová kontrola"},null,null,null,null,null,null,null,null,null,null,"09",{"$f":"Data!B114","v":"EMC-elmag. kompatabilita"},null,null,null,null,null,null,17,{"$f":"Data!B122","v":"Dokladování způsobilosti procesu"}]
[null,null,"02",{"$f":"Data!B107","v":"Funkční kontrola"},null,null,null,null,null,null,null,null,null,null,"10",{"$f":"Data!B115","v":"Kontrola spolehlivosti"},null,null,null,null,null,null,18,{"$f":"Data!B123","v":"List dat o bezpečnosti dle ES"}]
[null,null,"03",{"$f":"Data!B108","v":"Kontrola materiálu"},null,null,null,null,null,null,null,null,null,null,"11",{"$f":"Data!B116","v":"Konstrukční FMEA"},null,null,null,null,null,null,19,{"$f":"Data!B124","v":"Materiálový list IMDS"}]
[null,null,"04",{"$f":"Data!B109","v":"Pohmat"},null,null,null,null,null,null,null,null,null,null,"12",{"$f":"Data!B117","v":"Uvolnění konstrukce"},null,null,null,null,null,null,20,{"$f":"Data!B125","v":"Certifikáty"}]
[null,null,"05",{"$f":"Data!B110","v":"Hluk"},null,null,null,null,null,null,null,null,null,null,"13",{"$f":"Data!B118","v":"Procesní FMEA"},null,null,null,null,null,null,21,{"$f":"Data!B126","v":"Transportní prostředky, balení"}]
[null,null,"06",{"$f":"Data!B111","v":"Pach"},null,null,null,null,null,null,null,null,null,null,"14",{"$f":"Data!B119","v":"Diagram průběhu procesu"},null,null,null,null,null,null,22,{"$f":"Data!B127","v":"Prověrka procesu"}]
[null,null,"07",{"$f":"Data!B112","v":"Vzhled"},null,null,null,null,null,null,null,null,null,null,"15",{"$f":"Data!B120","v":"Kontrolní plán a seznam kontrolních prostředků"},null,null,null,null,null,null,23,{"$f":"Data!B128","v":"Ostatní"}]
[null,null,"08",{"$f":"Data!B113","v":"Povrch"},null,null,null,null,null,null,null,null,null,null,"16",{"$f":"Data!B121","v":"Průkaz způsobilosti kontr. prostředků"}]
[]
[null,{"$f":"Data!B129","v":"Identifikační číslo dodavatele:"},null,null,null,null,null,null,null,null,null,null,null,null,{"$f":"FORM!O29","v":0},null,null,null,null,{"$f":"Data!B137","v":"Identifikační číslo zákazníka"},null,null,null,null,null,{"$f":"FORM!AK29","v":0}]
[null,{"$f":"Data!B130","v":"Číslo zprávy o kontrole: "},null,null,null,null,null,null,null,null,null,null,{"$f":"FORM!N30","v":0},null,null,null,{"$f":"Data!B131","v":"Verze:"},null,{"$f":"FORM!T30","v":0},{"$f":"Data!B138","v":"Číslo zprávy o kontrole: "},null,null,null,null,{"$f":"FORM!AI30","v":0},null,{"$f":"Data!B139","v":"Verze:"},null,null,null,{"$f":"FORM!AR30","v":0}]
[null,{"$f":"Data!B132","v":"Číslo dílu:"},null,null,null,null,null,null,{"$f":"FORM!I31","v":0},null,null,null,null,null,null,null,null,null,null,{"$f":"Data!B140","v":"Číslo dílu:"},null,null,{"$f":"FORM!AD31","v":0}]
[null,{"$f":"Data!B133","v":"Číslo výkresu: "},null,null,null,null,null,null,{"$f":"FORM!I32","v":0},null,null,null,null,null,null,null,null,null,null,{"$f":"Data!B141","v":"Číslo výkresu: "},null,null,{"$f":"FORM!AD32","v":0}]
[null,{"$f":"Data!B134","v":"Stav / Datum:"},null,null,null,null,null,null,{"$f":"FORM!I33","v":0},null,null,null,null,null,null,null,null,null,null,{"$f":"Data!B142","v":"Stav / Datum:"},null,null,{"$f":"FORM!AD33","v":0}]
[null,{"$f":"Data!B135","v":"Číslo změny:"},null,null,null,null,null,null,{"$f":"FORM!I34","v":0},null,null,null,null,null,null,null,null,null,null,{"$f":"Data!B143","v":"Číslo změny:"},null,null,{"$f":"FORM!AD34","v":0}]
[null,{"$f":"Data!B136","v":"Název:"},null,null,null,null,null,null,{"$f":"FORM!I35","v":0},null,null,null,null,null,null,null,null,null,null,{"$f":"Data!B144","v":"Název:"},null,null,{"$f":"FORM!AD35","v":0}]
[{"$f":"Data!B145","v":"Číslo"},null,null,{"$f":"Data!B146","v":"Požadavky"},null,null,null,null,null,null,null,null,null,null,null,null,null,{"$f":"Data!B147","v":"Skutečné hodnoty - dodavatel"},null,null,null,null,{"$f":"Data!B148","v":"Skutečné hodnoty - zákazník"},null,null,null,null,"=Data!R[119]C[-23]",null,{"$f":"Data!B149","v":"Hodnocení"}]
[null,null,null,null,null,null,null,null,null,null,null,null,null,null,null,null,null,"1.","2.","3.","4.","5.","1.","2.","3.","4.","5.","Ano",null,{"$f":"Data!B150","v":"Ano"},null,{"$f":"Data!B151","v":"Ne"}]
["51."]
["52."]
["53."]
["54."]
["55."]
["56."]
["57."]
["58."]
["59."]
["60."]
["61."]
["62."]
["63."]
["64."]
["65."]
["66."]
["67."]
["68."]
["69."]
["70."]
["71."]
["72."]
["73."]
["74."]
["75."]
[null,{"$f":"Data!B152","v":"Dodavatel/poznámka:"},null,null,null,null,null,null,null,null,null,null,null,null,null,null,null,null,null,{"$f":"Data!B153","v":"Zákazník/poznámka:"}]
[]
[]
[]
[]
[]
[null,{"$f":"Data!B154","v":"Jméno:"},null,null,null,null,null,null,{"$f":"'FORM 1-25'!I62:S62","v":0},null,null,null,null,null,null,null,null,null,null,{"$f":"Data!B159","v":"Jméno:"},null,null,null,{"$f":"'FORM 1-25'!X62:AG62","v":0}]
[null,{"$f":"Data!B155","v":"Oddělení: "},null,null,null,null,null,null,{"$f":"'FORM 1-25'!I63:S63","v":0},null,null,null,null,null,null,null,null,null,null,{"$f":"Data!B160","v":"Oddělení: "},null,null,null,{"$f":"'FORM 1-25'!X63:AG63","v":0}]
[null,{"$f":"Data!B156","v":"E-Mail/Telefon:"},null,null,null,null,null,null,{"$f":"'FORM 1-25'!I64:P64","v":0},null,null,null,null,null,null,null,{"$f":"'FORM 1-25'!Q64:S64","v":0},null,null,{"$f":"Data!B161","v":"E-Mail/Telefon:"},null,null,null,{"$f":"'FORM 1-25'!X64:Z64","v":0},null,null,{"$f":"'FORM 1-25'!AA64:AG64","v":0}]
[]
[null,null,{"$f":"'FORM 1-25'!C66:F66","v":0},null,null,null,null,{"$f":"'FORM 1-25'!H66:R66","v":0},null,null,null,null,null,null,null,null,null,null,null,null,{"$f":"'FORM 1-25'!U66:V66","v":0},null,null,{"$f":"'FORM 1-25'!X66:AE66","v":0}]
[null,null,{"$f":"Data!B157","v":"Datum:"},null,null,null,null,{"$f":"Data!B158","v":"Podpis:"},null,null,null,null,null,null,null,null,null,null,null,null,{"$f":"Data!B162","v":"Datum:"},null,null,{"$f":"Data!B163","v":"Podpis:"}]
["ŘK-11-4-013-11-0   "]

{"sheet":"FORM 76-100","index":5,"n_rows":68,"n_cols":32,"rows_kept":68,"cut":false,"hidden":true,"merged":[[30,0,30,2],[32,0,32,2],[31,0,31,2],[31,3,31,16],[27,19,27,21],[23,1,23,7],[32,3,32,16],[28,3,29,16],[30,3,30,16],[28,17,28,21],[28,0,29,2],[27,8,27,18],[25,1,25,7],[26,8,26,18],[23,8,23,18],[22,24,22,25],[22,19,22,23],[12,23,12,32],[13,23,13,32],[14,23,14,32],[15,23,15,32],[16,23,16,32],[17,23,17,32],[22,1,22,11],[22,12,22,15],[22,30,22,32],[22,26,22,29],[0,0,0,32],[22,16,22,17],[1,18,1,31],[11,0,11,32],[2,0,2,32],[21,19,21,24],[18,23,18,32],[21,1,21,13],[21,14,21,18],[21,25,21,32],[6,2,6,20],[5,2,5,20],[4,2,4,20],[4,22,4,32],[5,22,5,32],[6,22,6,32],[9,2,9,20],[8,2,8,20],[7,2,7,20],[7,22,7,32],[8,22,8,32],[9,22,9,32],[32,31,32,32],[31,29,31,30],[27,22,27,32],[24,22,24,32],[25,22,25,32],[28,22,28,26],[30,29,30,30],[30,31,30,32],[31,31,31,32],[32,29,32,30],[29,31,29,32],[28,29,28,32],[29,29,29,30],[25,8,25,18],[24,1,24,7],[29,27,29,28],[27,1,27,7],[26,1,26,7],[26,19,26,21],[25,19,25,21],[24,8,24,18],[26,22,26,32],[33,0,33,2],[36,0,36,2],[35,0,35,2],[40,0,40,2],[34,0,34,2],[33,29,33,30],[36,3,36,16],[35,3,35,16],[34,29,34,30],[40,3,40,16],[39,3,39,16],[37,29,37,30],[34,3,34,16],[39,29,39,30],[40,29,40,30],[40,31,40,32],[48,31,48,32],[48,29,48,30],[47,29,47,30],[46,29,46,30],[46,31,46,32],[42,29,42,30],[33,31,33,32],[36,29,36,30],[37,31,37,32],[35,31,35,32],[35,29,35,30],[34,31,34,32],[41,29,41,30],[39,31,39,32],[47,31,47,32],[42,31,42,32],[41,31,41,32],[44,29,44,30],[44,31,44,32],[38,31,38,32],[37,3,37,16],[38,0,38,2],[38,3,38,16],[39,0,39,2],[41,0,41,2],[41,3,41,16],[47,3,47,16],[48,3,48,16],[52,0,52,2],[46,0,46,2],[46,3,46,16],[51,0,51,2],[49,3,49,16],[47,0,47,2],[48,0,48,2],[49,0,49,2],[45,3,45,16],[50,3,50,16],[63,8,63,15],[63,16,63,18],[66,2,66,5],[62,1,62,7],[65,2,65,5],[66,23,66,30],[63,19,63,22],[65,20,65,21],[64,19,64,32],[65,23,65,30],[62,8,62,18],[62,23,62,32],[66,7,66,17],[63,1,63,7],[62,19,62,22],[65,7,65,17],[64,1,64,18],[66,20,66,21],[63,23,63,25],[63,26,63,32],[24,19,24,21],[23,19,23,21],[23,22,23,32],[55,19,55,32],[56,19,60,32],[52,31,52,32],[54,29,54,30],[61,23,61,32],[61,19,61,22],[50,31,50,32],[51,31,51,32],[49,29,49,30],[49,31,49,32],[51,29,51,30],[45,31,45,32],[45,29,45,30],[50,29,50,30],[53,31,53,32],[54,31,54,32],[53,29,53,30],[43,31,43,32],[61,1,61,7],[53,3,53,16],[51,3,51,16],[52,29,52,30],[42,0,42,2],[38,29,38,30],[36,31,36,32],[43,29,43,30],[33,3,33,16],[44,0,44,2],[44,3,44,16],[61,8,61,18],[45,0,45,2],[50,0,50,2],[56,1,60,18],[54,0,54,2],[54,3,54,16],[52,3,52,16],[55,1,55,18],[53,0,53,2],[43,0,43,2],[43,3,43,16],[42,3,42,16],[37,0,37,2]]}
[{"$f":"Data!IF90","v":0}]
[null,null,null,null,null,null,null,null,null,null,null,null,null,null,null,null,null,null,{"$f":"Data!B91","v":"Vzorkování"}]
[{"$f":"Data!B92","v":"Výsledky kontrol"}]
[]
[null,null,{"$f":"Data!B93","v":"Zpráva o kontrole prvních vzorků "},null,null,null,null,null,null,null,null,null,null,null,null,null,null,null,null,null,null,null,{"$f":"Data!B99","v":"Změna výrobních postupů"}]
[null,null,{"$f":"Data!B94","v":"Kontrola prvních vzorků"},null,null,null,null,null,null,null,null,null,null,null,null,null,null,null,null,null,null,null,{"$f":"Data!B100","v":"Delší přerušení výroby"}]
[null,null,{"$f":"Data!B95","v":"Nová kontrola vzorků"},null,null,null,null,null,null,null,null,null,null,null,null,null,null,null,null,null,null,null,{"$f":"Data!B101","v":"Nový subdodavatel"}]
[null,null,{"$f":"Data!B96","v":"Nový díl"},null,null,null,null,null,null,null,null,null,null,null,null,null,null,null,null,null,null,null,{"$f":"Data!B102","v":"Výrobek s DmbA"}]
[null,null,{"$f":"Data!B97","v":"Změna výrobku"},null,null,null,null,null,null,null,null,null,null,null,null,null,null,null,null,null,null,null,{"$f":"Data!B103","v":"Stanoven plán výroby/kontroly"}]
[null,null,{"$f":"Data!B98","v":"Přemístění a přerušení výroby delší 12 měsíců "},null,null,null,null,null,null,null,null,null,null,null,null,null,null,null,null,null,null,null,{"$f":"Data!B104","v":"Provedena FMEA"}]
[]
[{"$f":"Data!B105","v":"Přílohy"}]
[null,null,"01",{"$f":"Data!B106","v":"Rozměrová kontrola"},null,null,null,null,null,null,null,null,null,null,"09",{"$f":"Data!B114","v":"EMC-elmag. kompatabilita"},null,null,null,null,null,null,17,{"$f":"Data!B122","v":"Dokladování způsobilosti procesu"}]
[null,null,"02",{"$f":"Data!B107","v":"Funkční kontrola"},null,null,null,null,null,null,null,null,null,null,"10",{"$f":"Data!B115","v":"Kontrola spolehlivosti"},null,null,null,null,null,null,18,{"$f":"Data!B123","v":"List dat o bezpečnosti dle ES"}]
[null,null,"03",{"$f":"Data!B108","v":"Kontrola materiálu"},null,null,null,null,null,null,null,null,null,null,"11",{"$f":"Data!B116","v":"Konstrukční FMEA"},null,null,null,null,null,null,19,{"$f":"Data!B124","v":"Materiálový list IMDS"}]
[null,null,"04",{"$f":"Data!B109","v":"Pohmat"},null,null,null,null,null,null,null,null,null,null,"12",{"$f":"Data!B117","v":"Uvolnění konstrukce"},null,null,null,null,null,null,20,{"$f":"Data!B125","v":"Certifikáty"}]
[null,null,"05",{"$f":"Data!B110","v":"Hluk"},null,null,null,null,null,null,null,null,null,null,"13",{"$f":"Data!B118","v":"Procesní FMEA"},null,null,null,null,null,null,21,{"$f":"Data!B126","v":"Transportní prostředky, balení"}]
[null,null,"06",{"$f":"Data!B111","v":"Pach"},null,null,null,null,null,null,null,null,null,null,"14",{"$f":"Data!B119","v":"Diagram průběhu procesu"},null,null,null,null,null,null,22,{"$f":"Data!B127","v":"Prověrka procesu"}]
[null,null,"07",{"$f":"Data!B112","v":"Vzhled"},null,null,null,null,null,null,null,null,null,null,"15",{"$f":"Data!B120","v":"Kontrolní plán a seznam kontrolních prostředků"},null,null,null,null,null,null,23,{"$f":"Data!B128","v":"Ostatní"}]
[null,null,"08",{"$f":"Data!B113","v":"Povrch"},null,null,null,null,null,null,null,null,null,null,"16",{"$f":"Data!B121","v":"Průkaz způsobilosti kontr. prostředků"}]
[]
[null,{"$f":"Data!B129","v":"Identifikační číslo dodavatele:"},null,null,null,null,null,null,null,null,null,null,null,null,{"$f":"FORM!O29","v":0},null,null,null,null,{"$f":"Data!B137","v":"Identifikační číslo zákazníka"},null,null,null,null,null,{"$f":"FORM!AK29","v":0}]
[null,{"$f":"Data!B130","v":"Číslo zprávy o kontrole: "},null,null,null,null,null,null,null,null,null,null,{"$f":"FORM!N30","v":0},null,null,null,{"$f":"Data!B131","v":"Verze:"},null,{"$f":"FORM!T30","v":0},{"$f":"Data!B138","v":"Číslo zprávy o kontrole: "},null,null,null,null,{"$f":"FORM!AI30","v":0},null,{"$f":"Data!B139","v":"Verze:"},null,null,null,{"$f":"FORM!AR30","v":0}]
[null,{"$f":"Data!B132","v":"Číslo dílu:"},null,null,null,null,null,null,{"$f":"FORM!I31","v":0},null,null,null,null,null,null,null,null,null,null,{"$f":"Data!B140","v":"Číslo dílu:"},null,null,{"$f":"FORM!AD31","v":0}]
[null,{"$f":"Data!B133","v":"Číslo výkresu: "},null,null,null,null,null,null,{"$f":"FORM!I32","v":0},null,null,null,null,null,null,null,null,null,null,{"$f":"Data!B141","v":"Číslo výkresu: "},null,null,{"$f":"FORM!AD32","v":0}]
[null,{"$f":"Data!B134","v":"Stav / Datum:"},null,null,null,null,null,null,{"$f":"FORM!I33","v":0},null,null,null,null,null,null,null,null,null,null,{"$f":"Data!B142","v":"Stav / Datum:"},null,null,{"$f":"FORM!AD33","v":0}]
[null,{"$f":"Data!B135","v":"Číslo změny:"},null,null,null,null,null,null,{"$f":"FORM!I34","v":0},null,null,null,null,null,null,null,null,null,null,{"$f":"Data!B143","v":"Číslo změny:"},null,null,{"$f":"FORM!AD34","v":0}]
[null,{"$f":"Data!B136","v":"Název:"},null,null,null,null,null,null,{"$f":"FORM!I35","v":0},null,null,null,null,null,null,null,null,null,null,{"$f":"Data!B144","v":"Název:"},null,null,{"$f":"FORM!AD35","v":0}]
[{"$f":"Data!B145","v":"Číslo"},null,null,{"$f":"Data!B146","v":"Požadavky"},null,null,null,null,null,null,null,null,null,null,null,null,null,{"$f":"Data!B147","v":"Skutečné hodnoty - dodavatel"},null,null,null,null,{"$f":"Data!B148","v":"Skutečné hodnoty - zákazník"},null,null,null,null,"=Data!R[119]C[-23]",null,{"$f":"Data!B149","v":"Hodnocení"}]
[null,null,null,null,null,null,null,null,null,null,null,null,null,null,null,null,null,"1.","2.","3.","4.","5.","1.","2.","3.","4.","5.","Ano",null,{"$f":"Data!B150","v":"Ano"},null,{"$f":"Data!B151","v":"Ne"}]
["76."]
["77."]
["78."]
["79."]
["80."]
["81."]
["82."]
["83."]
["84."]
["85."]
["86."]
["87."]
["88."]
["89."]
["90."]
["91."]
["92."]
["93."]
["94."]
["95."]
["96."]
["97."]
["98."]
["99."]
["100."]
[null,{"$f":"Data!B152","v":"Dodavatel/poznámka:"},null,null,null,null,null,null,null,null,null,null,null,null,null,null,null,null,null,{"$f":"Data!B153","v":"Zákazník/poznámka:"}]
[]
[]
[]
[]
[]
[null,{"$f":"Data!B154","v":"Jméno:"},null,null,null,null,null,null,{"$f":"'FORM 1-25'!I62:S62","v":0},null,null,null,null,null,null,null,null,null,null,{"$f":"Data!B159","v":"Jméno:"},null,null,null,{"$f":"'FORM 1-25'!X62:AG62","v":0}]
[null,{"$f":"Data!B155","v":"Oddělení: "},null,null,null,null,null,null,{"$f":"'FORM 1-25'!I63:S63","v":0},null,null,null,null,null,null,null,null,null,null,{"$f":"Data!B160","v":"Oddělení: "},null,null,null,{"$f":"'FORM 1-25'!X63:AG63","v":0}]
[null,{"$f":"Data!B156","v":"E-Mail/Telefon:"},null,null,null,null,null,null,{"$f":"'FORM 1-25'!I64:P64","v":0},null,null,null,null,null,null,null,{"$f":"'FORM 1-25'!Q64:S64","v":0},null,null,{"$f":"Data!B161","v":"E-Mail/Telefon:"},null,null,null,{"$f":"'FORM 1-25'!X64:Z64","v":0},null,null,{"$f":"'FORM 1-25'!AA64:AG64","v":0}]
[]
[null,null,{"$f":"'FORM 1-25'!C66:F66","v":0},null,null,null,null,{"$f":"'FORM 1-25'!H66:R66","v":0},null,null,null,null,null,null,null,null,null,null,null,null,{"$f":"'FORM 1-25'!U66:V66","v":0},null,null,{"$f":"'FORM 1-25'!X66:AE66","v":0}]
[null,null,{"$f":"Data!B157","v":"Datum:"},null,null,null,null,{"$f":"Data!B158","v":"Podpis:"},null,null,null,null,null,null,null,null,null,null,null,null,{"$f":"Data!B162","v":"Datum:"},null,null,{"$f":"Data!B163","v":"Podpis:"}]
["ŘK-11-4-013-11-0  "]

{"sheet":"FORM 101-125","index":6,"n_rows":68,"n_cols":32,"rows_kept":68,"cut":false,"hidden":true,"merged":[[21,1,21,13],[61,1,61,7],[61,23,61,32],[61,19,61,22],[46,29,46,30],[46,31,46,32],[44,3,44,16],[45,3,45,16],[45,31,45,32],[49,3,49,16],[50,3,50,16],[55,19,55,32],[66,23,66,30],[63,19,63,22],[65,20,65,21],[64,19,64,32],[21,14,21,18],[23,8,23,18],[23,19,23,21],[23,22,23,32],[61,8,61,18],[63,8,63,15],[62,8,62,18],[48,3,48,16],[47,3,47,16],[48,31,48,32],[44,31,44,32],[49,29,49,30],[49,31,49,32],[47,31,47,32],[45,29,45,30],[21,25,21,32],[43,29,43,30],[22,1,22,11],[22,12,22,15],[66,2,66,5],[62,1,62,7],[65,2,65,5],[50,31,50,32],[46,0,46,2],[46,3,46,16],[47,0,47,2],[48,0,48,2],[49,0,49,2],[50,0,50,2],[65,23,65,30],[63,23,63,25],[63,26,63,32],[62,23,62,32],[66,7,66,17],[55,1,55,18],[65,7,65,17],[56,1,60,18],[64,1,64,18],[63,1,63,7],[66,20,66,21],[63,16,63,18],[62,19,62,22],[56,19,60,32],[53,31,53,32],[53,0,53,2],[54,29,54,30],[54,31,54,32],[54,0,54,2],[53,3,53,16],[39,31,39,32],[41,29,41,30],[41,31,41,32],[40,31,40,32],[51,31,51,32],[52,29,52,30],[52,31,52,32],[48,29,48,30],[47,29,47,30],[39,29,39,30],[51,3,51,16],[52,3,52,16],[39,3,39,16],[41,3,41,16],[39,0,39,2],[40,0,40,2],[40,3,40,16],[51,0,51,2],[54,3,54,16],[53,29,53,30],[37,29,37,30],[36,29,36,30],[50,29,50,30],[38,29,38,30],[35,29,35,30],[42,29,42,30],[52,0,52,2],[51,29,51,30],[37,0,37,2],[37,3,37,16],[42,0,42,2],[45,0,45,2],[41,0,41,2],[43,31,43,32],[44,0,44,2],[42,31,42,32],[43,0,43,2],[43,3,43,16],[42,3,42,16],[44,29,44,30],[40,29,40,30],[32,29,32,30],[33,29,33,30],[33,31,33,32],[32,0,32,2],[28,3,29,16],[34,29,34,30],[34,31,34,32],[37,31,37,32],[35,31,35,32],[36,31,36,32],[38,31,38,32],[35,3,35,16],[38,0,38,2],[38,3,38,16],[33,0,33,2],[33,3,33,16],[36,0,36,2],[36,3,36,16],[34,0,34,2],[34,3,34,16],[35,0,35,2],[31,0,31,2],[31,3,31,16],[0,0,0,32],[22,16,22,17],[1,18,1,31],[11,0,11,32],[2,0,2,32],[21,19,21,24],[18,23,18,32],[17,23,17,32],[7,2,7,20],[6,2,6,20],[8,22,8,32],[8,2,8,20],[16,23,16,32],[5,2,5,20],[4,2,4,20],[4,22,4,32],[5,22,5,32],[6,22,6,32],[7,22,7,32],[9,2,9,20],[13,23,13,32],[9,22,9,32],[14,23,14,32],[15,23,15,32],[28,0,29,2],[25,8,25,18],[29,27,29,28],[12,23,12,32],[32,3,32,16],[24,1,24,7],[32,31,32,32],[31,29,31,30],[30,3,30,16],[28,17,28,21],[28,22,28,26],[29,29,29,30],[28,29,28,32],[24,8,24,18],[30,29,30,30],[31,31,31,32],[27,19,27,21],[26,1,26,7],[30,0,30,2],[24,19,24,21],[30,31,30,32],[29,31,29,32],[27,22,27,32],[26,19,26,21],[22,24,22,25],[22,19,22,23],[27,1,27,7],[23,1,23,7],[27,8,27,18],[25,1,25,7],[26,22,26,32],[24,22,24,32],[25,22,25,32],[26,8,26,18],[25,19,25,21],[22,30,22,32],[22,26,22,29]]}
[{"$f":"Data!IF90","v":0}]
[null,null,null,null,null,null,null,null,null,null,null,null,null,null,null,null,null,null,{"$f":"Data!B91","v":"Vzorkování"}]
[{"$f":"Data!B92","v":"Výsledky kontrol"}]
[]
[null,null,{"$f":"Data!B93","v":"Zpráva o kontrole prvních vzorků "},null,null,null,null,null,null,null,null,null,null,null,null,null,null,null,null,null,null,null,{"$f":"Data!B99","v":"Změna výrobních postupů"}]
[null,null,{"$f":"Data!B94","v":"Kontrola prvních vzorků"},null,null,null,null,null,null,null,null,null,null,null,null,null,null,null,null,null,null,null,{"$f":"Data!B100","v":"Delší přerušení výroby"}]
[null,null,{"$f":"Data!B95","v":"Nová kontrola vzorků"},null,null,null,null,null,null,null,null,null,null,null,null,null,null,null,null,null,null,null,{"$f":"Data!B101","v":"Nový subdodavatel"}]
[null,null,{"$f":"Data!B96","v":"Nový díl"},null,null,null,null,null,null,null,null,null,null,null,null,null,null,null,null,null,null,null,{"$f":"Data!B102","v":"Výrobek s DmbA"}]
[null,null,{"$f":"Data!B97","v":"Změna výrobku"},null,null,null,null,null,null,null,null,null,null,null,null,null,null,null,null,null,null,null,{"$f":"Data!B103","v":"Stanoven plán výroby/kontroly"}]
[null,null,{"$f":"Data!B98","v":"Přemístění a přerušení výroby delší 12 měsíců "},null,null,null,null,null,null,null,null,null,null,null,null,null,null,null,null,null,null,null,{"$f":"Data!B104","v":"Provedena FMEA"}]
[]
[{"$f":"Data!B105","v":"Přílohy"}]
[null,null,"01",{"$f":"Data!B106","v":"Rozměrová kontrola"},null,null,null,null,null,null,null,null,null,null,"09",{"$f":"Data!B114","v":"EMC-elmag. kompatabilita"},null,null,null,null,null,null,17,{"$f":"Data!B122","v":"Dokladování způsobilosti procesu"}]
[null,null,"02",{"$f":"Data!B107","v":"Funkční kontrola"},null,null,null,null,null,null,null,null,null,null,"10",{"$f":"Data!B115","v":"Kontrola spolehlivosti"},null,null,null,null,null,null,18,{"$f":"Data!B123","v":"List dat o bezpečnosti dle ES"}]
[null,null,"03",{"$f":"Data!B108","v":"Kontrola materiálu"},null,null,null,null,null,null,null,null,null,null,"11",{"$f":"Data!B116","v":"Konstrukční FMEA"},null,null,null,null,null,null,19,{"$f":"Data!B124","v":"Materiálový list IMDS"}]
[null,null,"04",{"$f":"Data!B109","v":"Pohmat"},null,null,null,null,null,null,null,null,null,null,"12",{"$f":"Data!B117","v":"Uvolnění konstrukce"},null,null,null,null,null,null,20,{"$f":"Data!B125","v":"Certifikáty"}]
[null,null,"05",{"$f":"Data!B110","v":"Hluk"},null,null,null,null,null,null,null,null,null,null,"13",{"$f":"Data!B118","v":"Procesní FMEA"},null,null,null,null,null,null,21,{"$f":"Data!B126","v":"Transportní prostředky, balení"}]
[null,null,"06",{"$f":"Data!B111","v":"Pach"},null,null,null,null,null,null,null,null,null,null,"14",{"$f":"Data!B119","v":"Diagram průběhu procesu"},null,null,null,null,null,null,22,{"$f":"Data!B127","v":"Prověrka procesu"}]
[null,null,"07",{"$f":"Data!B112","v":"Vzhled"},null,null,null,null,null,null,null,null,null,null,"15",{"$f":"Data!B120","v":"Kontrolní plán a seznam kontrolních prostředků"},null,null,null,null,null,null,23,{"$f":"Data!B128","v":"Ostatní"}]
[null,null,"08",{"$f":"Data!B113","v":"Povrch"},null,null,null,null,null,null,null,null,null,null,"16",{"$f":"Data!B121","v":"Průkaz způsobilosti kontr. prostředků"}]
[]
[null,{"$f":"Data!B129","v":"Identifikační číslo dodavatele:"},null,null,null,null,null,null,null,null,null,null,null,null,{"$f":"FORM!O29","v":0},null,null,null,null,{"$f":"Data!B137","v":"Identifikační číslo zákazníka"},null,null,null,null,null,{"$f":"FORM!AK29","v":0}]
[null,{"$f":"Data!B130","v":"Číslo zprávy o kontrole: "},null,null,null,null,null,null,null,null,null,null,{"$f":"FORM!N30","v":0},null,null,null,{"$f":"Data!B131","v":"Verze:"},null,{"$f":"FORM!T30","v":0},{"$f":"Data!B138","v":"Číslo zprávy o kontrole: "},null,null,null,null,{"$f":"FORM!AI30","v":0},null,{"$f":"Data!B139","v":"Verze:"},null,null,null,{"$f":"FORM!AR30","v":0}]
[null,{"$f":"Data!B132","v":"Číslo dílu:"},null,null,null,null,null,null,{"$f":"FORM!I31","v":0},null,null,null,null,null,null,null,null,null,null,{"$f":"Data!B140","v":"Číslo dílu:"},null,null,{"$f":"FORM!AD31","v":0}]
[null,{"$f":"Data!B133","v":"Číslo výkresu: "},null,null,null,null,null,null,{"$f":"FORM!I32","v":0},null,null,null,null,null,null,null,null,null,null,{"$f":"Data!B141","v":"Číslo výkresu: "},null,null,{"$f":"FORM!AD32","v":0}]
[null,{"$f":"Data!B134","v":"Stav / Datum:"},null,null,null,null,null,null,{"$f":"FORM!I33","v":0},null,null,null,null,null,null,null,null,null,null,{"$f":"Data!B142","v":"Stav / Datum:"},null,null,{"$f":"FORM!AD33","v":0}]
[null,{"$f":"Data!B135","v":"Číslo změny:"},null,null,null,null,null,null,{"$f":"FORM!I34","v":0},null,null,null,null,null,null,null,null,null,null,{"$f":"Data!B143","v":"Číslo změny:"},null,null,{"$f":"FORM!AD34","v":0}]
[null,{"$f":"Data!B136","v":"Název:"},null,null,null,null,null,null,{"$f":"FORM!I35","v":0},null,null,null,null,null,null,null,null,null,null,{"$f":"Data!B144","v":"Název:"},null,null,{"$f":"FORM!AD35","v":0}]
[{"$f":"Data!B145","v":"Číslo"},null,null,{"$f":"Data!B146","v":"Požadavky"},null,null,null,null,null,null,null,null,null,null,null,null,null,{"$f":"Data!B147","v":"Skutečné hodnoty - dodavatel"},null,null,null,null,{"$f":"Data!B148","v":"Skutečné hodnoty - zákazník"},null,null,null,null,"=Data!R[119]C[-23]",null,{"$f":"Data!B149","v":"Hodnocení"}]
[null,null,null,null,null,null,null,null,null,null,null,null,null,null,null,null,null,"1.","2.","3.","4.","5.","1.","2.","3.","4.","5.","Ano",null,{"$f":"Data!B150","v":"Ano"},null,{"$f":"Data!B151","v":"Ne"}]
["101."]
["102."]
["103."]
["104."]
["105."]
["106."]
["107."]
["108."]
["109."]
["110."]
["111."]
["112."]
["113."]
["114."]
["115."]
["116."]
["117."]
["118."]
["119."]
["120."]
["121."]
["122."]
["123."]
["124."]
["125."]
[null,{"$f":"Data!B152","v":"Dodavatel/poznámka:"},null,null,null,null,null,null,null,null,null,null,null,null,null,null,null,null,null,{"$f":"Data!B153","v":"Zákazník/poznámka:"}]
[]
[]
[]
[]
[]
[null,{"$f":"Data!B154","v":"Jméno:"},null,null,null,null,null,null,{"$f":"'FORM 1-25'!I62:S62","v":0},null,null,null,null,null,null,null,null,null,null,{"$f":"Data!B159","v":"Jméno:"},null,null,null,{"$f":"'FORM 1-25'!X62:AG62","v":0}]
[null,{"$f":"Data!B155","v":"Oddělení: "},null,null,null,null,null,null,{"$f":"'FORM 1-25'!I63:S63","v":0},null,null,null,null,null,null,null,null,null,null,{"$f":"Data!B160","v":"Oddělení: "},null,null,null,{"$f":"'FORM 1-25'!X63:AG63","v":0}]
[null,{"$f":"Data!B156","v":"E-Mail/Telefon:"},null,null,null,null,null,null,{"$f":"'FORM 1-25'!I64:P64","v":0},null,null,null,null,null,null,null,{"$f":"'FORM 1-25'!Q64:S64","v":0},null,null,{"$f":"Data!B161","v":"E-Mail/Telefon:"},null,null,null,{"$f":"'FORM 1-25'!X64:Z64","v":0},null,null,{"$f":"'FORM 1-25'!AA64:AG64","v":0}]
[]
[null,null,{"$f":"'FORM 1-25'!C66:F66","v":0},null,null,null,null,{"$f":"'FORM 1-25'!H66:R66","v":0},null,null,null,null,null,null,null,null,null,null,null,null,{"$f":"'FORM 1-25'!U66:V66","v":0},null,null,{"$f":"'FORM 1-25'!X66:AE66","v":0}]
[null,null,{"$f":"Data!B157","v":"Datum:"},null,null,null,null,{"$f":"Data!B158","v":"Podpis:"},null,null,null,null,null,null,null,null,null,null,null,null,{"$f":"Data!B162","v":"Datum:"},null,null,{"$f":"Data!B163","v":"Podpis:"}]
["ŘK-11-4-013-11-0  "]

{"sheet":"FORM 126-150","index":7,"n_rows":68,"n_cols":32,"rows_kept":68,"cut":false,"hidden":true,"merged":[[30,0,30,2],[32,0,32,2],[31,0,31,2],[31,3,31,16],[27,19,27,21],[23,1,23,7],[32,3,32,16],[28,3,29,16],[30,3,30,16],[28,17,28,21],[28,0,29,2],[27,8,27,18],[25,1,25,7],[26,8,26,18],[23,8,23,18],[22,24,22,25],[22,19,22,23],[12,23,12,32],[13,23,13,32],[14,23,14,32],[15,23,15,32],[16,23,16,32],[17,23,17,32],[22,1,22,11],[22,12,22,15],[22,30,22,32],[22,26,22,29],[0,0,0,32],[22,16,22,17],[1,18,1,31],[11,0,11,32],[2,0,2,32],[21,19,21,24],[18,23,18,32],[21,1,21,13],[21,14,21,18],[21,25,21,32],[6,2,6,20],[5,2,5,20],[4,2,4,20],[4,22,4,32],[5,22,5,32],[6,22,6,32],[9,2,9,20],[8,2,8,20],[7,2,7,20],[7,22,7,32],[8,22,8,32],[9,22,9,32],[32,31,32,32],[31,29,31,30],[27,22,27,32],[24,22,24,32],[25,22,25,32],[28,22,28,26],[30,29,30,30],[30,31,30,32],[31,31,31,32],[32,29,32,30],[29,31,29,32],[28,29,28,32],[29,29,29,30],[25,8,25,18],[24,1,24,7],[29,27,29,28],[27,1,27,7],[26,1,26,7],[26,19,26,21],[25,19,25,21],[24,8,24,18],[26,22,26,32],[33,0,33,2],[36,0,36,2],[35,0,35,2],[40,0,40,2],[34,0,34,2],[33,29,33,30],[36,3,36,16],[35,3,35,16],[34,29,34,30],[40,3,40,16],[39,3,39,16],[37,29,37,30],[34,3,34,16],[39,29,39,30],[40,29,40,30],[40,31,40,32],[48,31,48,32],[48,29,48,30],[47,29,47,30],[46,29,46,30],[46,31,46,32],[42,29,42,30],[33,31,33,32],[36,29,36,30],[37,31,37,32],[35,31,35,32],[35,29,35,30],[34,31,34,32],[41,29,41,30],[39,31,39,32],[47,31,47,32],[42,31,42,32],[41,31,41,32],[44,29,44,30],[44,31,44,32],[38,31,38,32],[37,3,37,16],[38,0,38,2],[38,3,38,16],[39,0,39,2],[41,0,41,2],[41,3,41,16],[47,3,47,16],[48,3,48,16],[52,0,52,2],[46,0,46,2],[46,3,46,16],[51,0,51,2],[49,3,49,16],[47,0,47,2],[48,0,48,2],[49,0,49,2],[45,3,45,16],[50,3,50,16],[63,8,63,15],[63,16,63,18],[66,2,66,5],[62,1,62,7],[65,2,65,5],[66,23,66,30],[63,19,63,22],[65,20,65,21],[64,19,64,32],[65,23,65,30],[62,8,62,18],[62,23,62,32],[66,7,66,17],[63,1,63,7],[62,19,62,22],[65,7,65,17],[64,1,64,18],[66,20,66,21],[63,23,63,25],[63,26,63,32],[24,19,24,21],[23,19,23,21],[23,22,23,32],[55,19,55,32],[56,19,60,32],[52,31,52,32],[54,29,54,30],[61,23,61,32],[61,19,61,22],[50,31,50,32],[51,31,51,32],[49,29,49,30],[49,31,49,32],[51,29,51,30],[45,31,45,32],[45,29,45,30],[50,29,50,30],[53,31,53,32],[54,31,54,32],[53,29,53,30],[43,31,43,32],[61,1,61,7],[53,3,53,16],[51,3,51,16],[52,29,52,30],[42,0,42,2],[38,29,38,30],[36,31,36,32],[43,29,43,30],[33,3,33,16],[44,0,44,2],[44,3,44,16],[61,8,61,18],[45,0,45,2],[50,0,50,2],[56,1,60,18],[54,0,54,2],[54,3,54,16],[52,3,52,16],[55,1,55,18],[53,0,53,2],[43,0,43,2],[43,3,43,16],[42,3,42,16],[37,0,37,2]]}
[{"$f":"Data!IF90","v":0}]
[null,null,null,null,null,null,null,null,null,null,null,null,null,null,null,null,null,null,{"$f":"Data!B91","v":"Vzorkování"}]
[{"$f":"Data!B92","v":"Výsledky kontrol"}]
[]
[null,null,{"$f":"Data!B93","v":"Zpráva o kontrole prvních vzorků "},null,null,null,null,null,null,null,null,null,null,null,null,null,null,null,null,null,null,null,{"$f":"Data!B99","v":"Změna výrobních postupů"}]
[null,null,{"$f":"Data!B94","v":"Kontrola prvních vzorků"},null,null,null,null,null,null,null,null,null,null,null,null,null,null,null,null,null,null,null,{"$f":"Data!B100","v":"Delší přerušení výroby"}]
[null,null,{"$f":"Data!B95","v":"Nová kontrola vzorků"},null,null,null,null,null,null,null,null,null,null,null,null,null,null,null,null,null,null,null,{"$f":"Data!B101","v":"Nový subdodavatel"}]
[null,null,{"$f":"Data!B96","v":"Nový díl"},null,null,null,null,null,null,null,null,null,null,null,null,null,null,null,null,null,null,null,{"$f":"Data!B102","v":"Výrobek s DmbA"}]
[null,null,{"$f":"Data!B97","v":"Změna výrobku"},null,null,null,null,null,null,null,null,null,null,null,null,null,null,null,null,null,null,null,{"$f":"Data!B103","v":"Stanoven plán výroby/kontroly"}]
[null,null,{"$f":"Data!B98","v":"Přemístění a přerušení výroby delší 12 měsíců "},null,null,null,null,null,null,null,null,null,null,null,null,null,null,null,null,null,null,null,{"$f":"Data!B104","v":"Provedena FMEA"}]
[]
[{"$f":"Data!B105","v":"Přílohy"}]
[null,null,"01",{"$f":"Data!B106","v":"Rozměrová kontrola"},null,null,null,null,null,null,null,null,null,null,"09",{"$f":"Data!B114","v":"EMC-elmag. kompatabilita"},null,null,null,null,null,null,17,{"$f":"Data!B122","v":"Dokladování způsobilosti procesu"}]
[null,null,"02",{"$f":"Data!B107","v":"Funkční kontrola"},null,null,null,null,null,null,null,null,null,null,"10",{"$f":"Data!B115","v":"Kontrola spolehlivosti"},null,null,null,null,null,null,18,{"$f":"Data!B123","v":"List dat o bezpečnosti dle ES"}]
[null,null,"03",{"$f":"Data!B108","v":"Kontrola materiálu"},null,null,null,null,null,null,null,null,null,null,"11",{"$f":"Data!B116","v":"Konstrukční FMEA"},null,null,null,null,null,null,19,{"$f":"Data!B124","v":"Materiálový list IMDS"}]
[null,null,"04",{"$f":"Data!B109","v":"Pohmat"},null,null,null,null,null,null,null,null,null,null,"12",{"$f":"Data!B117","v":"Uvolnění konstrukce"},null,null,null,null,null,null,20,{"$f":"Data!B125","v":"Certifikáty"}]
[null,null,"05",{"$f":"Data!B110","v":"Hluk"},null,null,null,null,null,null,null,null,null,null,"13",{"$f":"Data!B118","v":"Procesní FMEA"},null,null,null,null,null,null,21,{"$f":"Data!B126","v":"Transportní prostředky, balení"}]
[null,null,"06",{"$f":"Data!B111","v":"Pach"},null,null,null,null,null,null,null,null,null,null,"14",{"$f":"Data!B119","v":"Diagram průběhu procesu"},null,null,null,null,null,null,22,{"$f":"Data!B127","v":"Prověrka procesu"}]
[null,null,"07",{"$f":"Data!B112","v":"Vzhled"},null,null,null,null,null,null,null,null,null,null,"15",{"$f":"Data!B120","v":"Kontrolní plán a seznam kontrolních prostředků"},null,null,null,null,null,null,23,{"$f":"Data!B128","v":"Ostatní"}]
[null,null,"08",{"$f":"Data!B113","v":"Povrch"},null,null,null,null,null,null,null,null,null,null,"16",{"$f":"Data!B121","v":"Průkaz způsobilosti kontr. prostředků"}]
[]
[null,{"$f":"Data!B129","v":"Identifikační číslo dodavatele:"},null,null,null,null,null,null,null,null,null,null,null,null,{"$f":"FORM!O29","v":0},null,null,null,null,{"$f":"Data!B137","v":"Identifikační číslo zákazníka"},null,null,null,null,null,{"$f":"FORM!AK29","v":0}]
[null,{"$f":"Data!B130","v":"Číslo zprávy o kontrole: "},null,null,null,null,null,null,null,null,null,null,{"$f":"FORM!N30","v":0},null,null,null,{"$f":"Data!B131","v":"Verze:"},null,{"$f":"FORM!T30","v":0},{"$f":"Data!B138","v":"Číslo zprávy o kontrole: "},null,null,null,null,{"$f":"FORM!AI30","v":0},null,{"$f":"Data!B139","v":"Verze:"},null,null,null,{"$f":"FORM!AR30","v":0}]
[null,{"$f":"Data!B132","v":"Číslo dílu:"},null,null,null,null,null,null,{"$f":"FORM!I31","v":0},null,null,null,null,null,null,null,null,null,null,{"$f":"Data!B140","v":"Číslo dílu:"},null,null,{"$f":"FORM!AD31","v":0}]
[null,{"$f":"Data!B133","v":"Číslo výkresu: "},null,null,null,null,null,null,{"$f":"FORM!I32","v":0},null,null,null,null,null,null,null,null,null,null,{"$f":"Data!B141","v":"Číslo výkresu: "},null,null,{"$f":"FORM!AD32","v":0}]
[null,{"$f":"Data!B134","v":"Stav / Datum:"},null,null,null,null,null,null,{"$f":"FORM!I33","v":0},null,null,null,null,null,null,null,null,null,null,{"$f":"Data!B142","v":"Stav / Datum:"},null,null,{"$f":"FORM!AD33","v":0}]
[null,{"$f":"Data!B135","v":"Číslo změny:"},null,null,null,null,null,null,{"$f":"FORM!I34","v":0},null,null,null,null,null,null,null,null,null,null,{"$f":"Data!B143","v":"Číslo změny:"},null,null,{"$f":"FORM!AD34","v":0}]
[null,{"$f":"Data!B136","v":"Název:"},null,null,null,null,null,null,{"$f":"FORM!I35","v":0},null,null,null,null,null,null,null,null,null,null,{"$f":"Data!B144","v":"Název:"},null,null,{"$f":"FORM!AD35","v":0}]
[{"$f":"Data!B145","v":"Číslo"},null,null,{"$f":"Data!B146","v":"Požadavky"},null,null,null,null,null,null,null,null,null,null,null,null,null,{"$f":"Data!B147","v":"Skutečné hodnoty - dodavatel"},null,null,null,null,{"$f":"Data!B148","v":"Skutečné hodnoty - zákazník"},null,null,null,null,"=Data!R[119]C[-23]",null,{"$f":"Data!B149","v":"Hodnocení"}]
[null,null,null,null,null,null,null,null,null,null,null,null,null,null,null,null,null,"1.","2.","3.","4.","5.","1.","2.","3.","4.","5.","Ano",null,{"$f":"Data!B150","v":"Ano"},null,{"$f":"Data!B151","v":"Ne"}]
["126."]
["127."]
["128."]
["129."]
["130."]
["131."]
["132."]
["133."]
["134."]
["135."]
["136."]
["137."]
["138."]
["139."]
["140."]
["141."]
["142."]
["143."]
["144."]
["145."]
["146."]
["147."]
["148."]
["149."]
["150."]
[null,{"$f":"Data!B152","v":"Dodavatel/poznámka:"},null,null,null,null,null,null,null,null,null,null,null,null,null,null,null,null,null,{"$f":"Data!B153","v":"Zákazník/poznámka:"}]
[]
[]
[]
[]
[]
[null,{"$f":"Data!B154","v":"Jméno:"},null,null,null,null,null,null,{"$f":"'FORM 1-25'!I62:S62","v":0},null,null,null,null,null,null,null,null,null,null,{"$f":"Data!B159","v":"Jméno:"},null,null,null,{"$f":"'FORM 1-25'!X62:AG62","v":0}]
[null,{"$f":"Data!B155","v":"Oddělení: "},null,null,null,null,null,null,{"$f":"'FORM 1-25'!I63:S63","v":0},null,null,null,null,null,null,null,null,null,null,{"$f":"Data!B160","v":"Oddělení: "},null,null,null,{"$f":"'FORM 1-25'!X63:AG63","v":0}]
[null,{"$f":"Data!B156","v":"E-Mail/Telefon:"},null,null,null,null,null,null,{"$f":"'FORM 1-25'!I64:P64","v":0},null,null,null,null,null,null,null,{"$f":"'FORM 1-25'!Q64:S64","v":0},null,null,{"$f":"Data!B161","v":"E-Mail/Telefon:"},null,null,null,{"$f":"'FORM 1-25'!X64:Z64","v":0},null,null,{"$f":"'FORM 1-25'!AA64:AG64","v":0}]
[]
[null,null,{"$f":"'FORM 1-25'!C66:F66","v":0},null,null,null,null,{"$f":"'FORM 1-25'!H66:R66","v":0},null,null,null,null,null,null,null,null,null,null,null,null,{"$f":"'FORM 1-25'!U66:V66","v":0},null,null,{"$f":"'FORM 1-25'!X66:AE66","v":0}]
[null,null,{"$f":"Data!B157","v":"Datum:"},null,null,null,null,{"$f":"Data!B158","v":"Podpis:"},null,null,null,null,null,null,null,null,null,null,null,null,{"$f":"Data!B162","v":"Datum:"},null,null,{"$f":"Data!B163","v":"Podpis:"}]
["ŘK-11-4-013-11-0   "]

{"sheet":"FORM 151-175","index":8,"n_rows":68,"n_cols":32,"rows_kept":68,"cut":false,"hidden":true,"merged":[[21,1,21,13],[61,1,61,7],[61,23,61,32],[61,19,61,22],[46,29,46,30],[46,31,46,32],[44,3,44,16],[45,3,45,16],[45,31,45,32],[49,3,49,16],[50,3,50,16],[55,19,55,32],[66,23,66,30],[63,19,63,22],[65,20,65,21],[64,19,64,32],[21,14,21,18],[23,8,23,18],[23,19,23,21],[23,22,23,32],[61,8,61,18],[63,8,63,15],[62,8,62,18],[48,3,48,16],[47,3,47,16],[48,31,48,32],[44,31,44,32],[49,29,49,30],[49,31,49,32],[47,31,47,32],[45,29,45,30],[21,25,21,32],[43,29,43,30],[22,1,22,11],[22,12,22,15],[66,2,66,5],[62,1,62,7],[65,2,65,5],[50,31,50,32],[46,0,46,2],[46,3,46,16],[47,0,47,2],[48,0,48,2],[49,0,49,2],[50,0,50,2],[65,23,65,30],[63,23,63,25],[63,26,63,32],[62,23,62,32],[66,7,66,17],[55,1,55,18],[65,7,65,17],[56,1,60,18],[64,1,64,18],[63,1,63,7],[66,20,66,21],[63,16,63,18],[62,19,62,22],[56,19,60,32],[53,31,53,32],[53,0,53,2],[54,29,54,30],[54,31,54,32],[54,0,54,2],[53,3,53,16],[39,31,39,32],[41,29,41,30],[41,31,41,32],[40,31,40,32],[51,31,51,32],[52,29,52,30],[52,31,52,32],[48,29,48,30],[47,29,47,30],[39,29,39,30],[51,3,51,16],[52,3,52,16],[39,3,39,16],[41,3,41,16],[39,0,39,2],[40,0,40,2],[40,3,40,16],[51,0,51,2],[54,3,54,16],[53,29,53,30],[37,29,37,30],[36,29,36,30],[50,29,50,30],[38,29,38,30],[35,29,35,30],[42,29,42,30],[52,0,52,2],[51,29,51,30],[37,0,37,2],[37,3,37,16],[42,0,42,2],[45,0,45,2],[41,0,41,2],[43,31,43,32],[44,0,44,2],[42,31,42,32],[43,0,43,2],[43,3,43,16],[42,3,42,16],[44,29,44,30],[40,29,40,30],[32,29,32,30],[33,29,33,30],[33,31,33,32],[32,0,32,2],[28,3,29,16],[34,29,34,30],[34,31,34,32],[37,31,37,32],[35,31,35,32],[36,31,36,32],[38,31,38,32],[35,3,35,16],[38,0,38,2],[38,3,38,16],[33,0,33,2],[33,3,33,16],[36,0,36,2],[36,3,36,16],[34,0,34,2],[34,3,34,16],[35,0,35,2],[31,0,31,2],[31,3,31,16],[0,0,0,32],[22,16,22,17],[1,18,1,31],[11,0,11,32],[2,0,2,32],[21,19,21,24],[18,23,18,32],[17,23,17,32],[7,2,7,20],[6,2,6,20],[8,22,8,32],[8,2,8,20],[16,23,16,32],[5,2,5,20],[4,2,4,20],[4,22,4,32],[5,22,5,32],[6,22,6,32],[7,22,7,32],[9,2,9,20],[13,23,13,32],[9,22,9,32],[14,23,14,32],[15,23,15,32],[28,0,29,2],[25,8,25,18],[29,27,29,28],[12,23,12,32],[32,3,32,16],[24,1,24,7],[32,31,32,32],[31,29,31,30],[30,3,30,16],[28,17,28,21],[28,22,28,26],[29,29,29,30],[28,29,28,32],[24,8,24,18],[30,29,30,30],[31,31,31,32],[27,19,27,21],[26,1,26,7],[30,0,30,2],[24,19,24,21],[30,31,30,32],[29,31,29,32],[27,22,27,32],[26,19,26,21],[22,24,22,25],[22,19,22,23],[27,1,27,7],[23,1,23,7],[27,8,27,18],[25,1,25,7],[26,22,26,32],[24,22,24,32],[25,22,25,32],[26,8,26,18],[25,19,25,21],[22,30,22,32],[22,26,22,29]]}
[{"$f":"Data!IF90","v":0}]
[null,null,null,null,null,null,null,null,null,null,null,null,null,null,null,null,null,null,{"$f":"Data!B91","v":"Vzorkování"}]
[{"$f":"Data!B92","v":"Výsledky kontrol"}]
[]
[null,null,{"$f":"Data!B93","v":"Zpráva o kontrole prvních vzorků "},null,null,null,null,null,null,null,null,null,null,null,null,null,null,null,null,null,null,null,{"$f":"Data!B99","v":"Změna výrobních postupů"}]
[null,null,{"$f":"Data!B94","v":"Kontrola prvních vzorků"},null,null,null,null,null,null,null,null,null,null,null,null,null,null,null,null,null,null,null,{"$f":"Data!B100","v":"Delší přerušení výroby"}]
[null,null,{"$f":"Data!B95","v":"Nová kontrola vzorků"},null,null,null,null,null,null,null,null,null,null,null,null,null,null,null,null,null,null,null,{"$f":"Data!B101","v":"Nový subdodavatel"}]
[null,null,{"$f":"Data!B96","v":"Nový díl"},null,null,null,null,null,null,null,null,null,null,null,null,null,null,null,null,null,null,null,{"$f":"Data!B102","v":"Výrobek s DmbA"}]
[null,null,{"$f":"Data!B97","v":"Změna výrobku"},null,null,null,null,null,null,null,null,null,null,null,null,null,null,null,null,null,null,null,{"$f":"Data!B103","v":"Stanoven plán výroby/kontroly"}]
[null,null,{"$f":"Data!B98","v":"Přemístění a přerušení výroby delší 12 měsíců "},null,null,null,null,null,null,null,null,null,null,null,null,null,null,null,null,null,null,null,{"$f":"Data!B104","v":"Provedena FMEA"}]
[]
[{"$f":"Data!B105","v":"Přílohy"}]
[null,null,"01",{"$f":"Data!B106","v":"Rozměrová kontrola"},null,null,null,null,null,null,null,null,null,null,"09",{"$f":"Data!B114","v":"EMC-elmag. kompatabilita"},null,null,null,null,null,null,17,{"$f":"Data!B122","v":"Dokladování způsobilosti procesu"}]
[null,null,"02",{"$f":"Data!B107","v":"Funkční kontrola"},null,null,null,null,null,null,null,null,null,null,"10",{"$f":"Data!B115","v":"Kontrola spolehlivosti"},null,null,null,null,null,null,18,{"$f":"Data!B123","v":"List dat o bezpečnosti dle ES"}]
[null,null,"03",{"$f":"Data!B108","v":"Kontrola materiálu"},null,null,null,null,null,null,null,null,null,null,"11",{"$f":"Data!B116","v":"Konstrukční FMEA"},null,null,null,null,null,null,19,{"$f":"Data!B124","v":"Materiálový list IMDS"}]
[null,null,"04",{"$f":"Data!B109","v":"Pohmat"},null,null,null,null,null,null,null,null,null,null,"12",{"$f":"Data!B117","v":"Uvolnění konstrukce"},null,null,null,null,null,null,20,{"$f":"Data!B125","v":"Certifikáty"}]
[null,null,"05",{"$f":"Data!B110","v":"Hluk"},null,null,null,null,null,null,null,null,null,null,"13",{"$f":"Data!B118","v":"Procesní FMEA"},null,null,null,null,null,null,21,{"$f":"Data!B126","v":"Transportní prostředky, balení"}]
[null,null,"06",{"$f":"Data!B111","v":"Pach"},null,null,null,null,null,null,null,null,null,null,"14",{"$f":"Data!B119","v":"Diagram průběhu procesu"},null,null,null,null,null,null,22,{"$f":"Data!B127","v":"Prověrka procesu"}]
[null,null,"07",{"$f":"Data!B112","v":"Vzhled"},null,null,null,null,null,null,null,null,null,null,"15",{"$f":"Data!B120","v":"Kontrolní plán a seznam kontrolních prostředků"},null,null,null,null,null,null,23,{"$f":"Data!B128","v":"Ostatní"}]
[null,null,"08",{"$f":"Data!B113","v":"Povrch"},null,null,null,null,null,null,null,null,null,null,"16",{"$f":"Data!B121","v":"Průkaz způsobilosti kontr. prostředků"}]
[]
[null,{"$f":"Data!B129","v":"Identifikační číslo dodavatele:"},null,null,null,null,null,null,null,null,null,null,null,null,{"$f":"FORM!O29","v":0},null,null,null,null,{"$f":"Data!B137","v":"Identifikační číslo zákazníka"},null,null,null,null,null,{"$f":"FORM!AK29","v":0}]
[null,{"$f":"Data!B130","v":"Číslo zprávy o kontrole: "},null,null,null,null,null,null,null,null,null,null,{"$f":"FORM!N30","v":0},null,null,null,{"$f":"Data!B131","v":"Verze:"},null,{"$f":"FORM!T30","v":0},{"$f":"Data!B138","v":"Číslo zprávy o kontrole: "},null,null,null,null,{"$f":"FORM!AI30","v":0},null,{"$f":"Data!B139","v":"Verze:"},null,null,null,{"$f":"FORM!AR30","v":0}]
[null,{"$f":"Data!B132","v":"Číslo dílu:"},null,null,null,null,null,null,{"$f":"FORM!I31","v":0},null,null,null,null,null,null,null,null,null,null,{"$f":"Data!B140","v":"Číslo dílu:"},null,null,{"$f":"FORM!AD31","v":0}]
[null,{"$f":"Data!B133","v":"Číslo výkresu: "},null,null,null,null,null,null,{"$f":"FORM!I32","v":0},null,null,null,null,null,null,null,null,null,null,{"$f":"Data!B141","v":"Číslo výkresu: "},null,null,{"$f":"FORM!AD32","v":0}]
[null,{"$f":"Data!B134","v":"Stav / Datum:"},null,null,null,null,null,null,{"$f":"FORM!I33","v":0},null,null,null,null,null,null,null,null,null,null,{"$f":"Data!B142","v":"Stav / Datum:"},null,null,{"$f":"FORM!AD33","v":0}]
[null,{"$f":"Data!B135","v":"Číslo změny:"},null,null,null,null,null,null,{"$f":"FORM!I34","v":0},null,null,null,null,null,null,null,null,null,null,{"$f":"Data!B143","v":"Číslo změny:"},null,null,{"$f":"FORM!AD34","v":0}]
[null,{"$f":"Data!B136","v":"Název:"},null,null,null,null,null,null,{"$f":"FORM!I35","v":0},null,null,null,null,null,null,null,null,null,null,{"$f":"Data!B144","v":"Název:"},null,null,{"$f":"FORM!AD35","v":0}]
[{"$f":"Data!B145","v":"Číslo"},null,null,{"$f":"Data!B146","v":"Požadavky"},null,null,null,null,null,null,null,null,null,null,null,null,null,{"$f":"Data!B147","v":"Skutečné hodnoty - dodavatel"},null,null,null,null,{"$f":"Data!B148","v":"Skutečné hodnoty - zákazník"},null,null,null,null,"=Data!R[119]C[-23]",null,{"$f":"Data!B149","v":"Hodnocení"}]
[null,null,null,null,null,null,null,null,null,null,null,null,null,null,null,null,null,"1.","2.","3.","4.","5.","1.","2.","3.","4.","5.","Ano",null,{"$f":"Data!B150","v":"Ano"},null,{"$f":"Data!B151","v":"Ne"}]
["151."]
["152."]
["153."]
["154."]
["155."]
["156."]
["157."]
["158."]
["159."]
["160."]
["161."]
["162."]
["163."]
["164."]
["165."]
["166."]
["167."]
["168."]
["169."]
["170."]
["171."]
["172."]
["173."]
["174."]
["175."]
[null,{"$f":"Data!B152","v":"Dodavatel/poznámka:"},null,null,null,null,null,null,null,null,null,null,null,null,null,null,null,null,null,{"$f":"Data!B153","v":"Zákazník/poznámka:"}]
[]
[]
[]
[]
[]
[null,{"$f":"Data!B154","v":"Jméno:"},null,null,null,null,null,null,{"$f":"'FORM 1-25'!I62:S62","v":0},null,null,null,null,null,null,null,null,null,null,{"$f":"Data!B159","v":"Jméno:"},null,null,null,{"$f":"'FORM 1-25'!X62:AG62","v":0}]
[null,{"$f":"Data!B155","v":"Oddělení: "},null,null,null,null,null,null,{"$f":"'FORM 1-25'!I63:S63","v":0},null,null,null,null,null,null,null,null,null,null,{"$f":"Data!B160","v":"Oddělení: "},null,null,null,{"$f":"'FORM 1-25'!X63:AG63","v":0}]
[null,{"$f":"Data!B156","v":"E-Mail/Telefon:"},null,null,null,null,null,null,{"$f":"'FORM 1-25'!I64:P64","v":0},null,null,null,null,null,null,null,{"$f":"'FORM 1-25'!Q64:S64","v":0},null,null,{"$f":"Data!B161","v":"E-Mail/Telefon:"},null,null,null,{"$f":"'FORM 1-25'!X64:Z64","v":0},null,null,{"$f":"'FORM 1-25'!AA64:AG64","v":0}]
[]
[null,null,{"$f":"'FORM 1-25'!C66:F66","v":0},null,null,null,null,{"$f":"'FORM 1-25'!H66:R66","v":0},null,null,null,null,null,null,null,null,null,null,null,null,{"$f":"'FORM 1-25'!U66:V66","v":0},null,null,{"$f":"'FORM 1-25'!X66:AE66","v":0}]
[null,null,{"$f":"Data!B157","v":"Datum:"},null,null,null,null,{"$f":"Data!B158","v":"Podpis:"},null,null,null,null,null,null,null,null,null,null,null,null,{"$f":"Data!B162","v":"Datum:"},null,null,{"$f":"Data!B163","v":"Podpis:"}]
["ŘK-11-4-013-11-0   "]

{"sheet":"FORM 176-200","index":9,"n_rows":68,"n_cols":32,"rows_kept":68,"cut":false,"hidden":true,"merged":[[30,0,30,2],[32,0,32,2],[31,0,31,2],[31,3,31,16],[27,19,27,21],[23,1,23,7],[32,3,32,16],[28,3,29,16],[30,3,30,16],[28,17,28,21],[28,0,29,2],[27,8,27,18],[25,1,25,7],[26,8,26,18],[23,8,23,18],[22,24,22,25],[22,19,22,23],[12,23,12,32],[13,23,13,32],[14,23,14,32],[15,23,15,32],[16,23,16,32],[17,23,17,32],[22,1,22,11],[22,12,22,15],[22,30,22,32],[22,26,22,29],[0,0,0,32],[22,16,22,17],[1,18,1,31],[11,0,11,32],[2,0,2,32],[21,19,21,24],[18,23,18,32],[21,1,21,13],[21,14,21,18],[21,25,21,32],[6,2,6,20],[5,2,5,20],[4,2,4,20],[4,22,4,32],[5,22,5,32],[6,22,6,32],[9,2,9,20],[8,2,8,20],[7,2,7,20],[7,22,7,32],[8,22,8,32],[9,22,9,32],[32,31,32,32],[31,29,31,30],[27,22,27,32],[24,22,24,32],[25,22,25,32],[28,22,28,26],[30,29,30,30],[30,31,30,32],[31,31,31,32],[32,29,32,30],[29,31,29,32],[28,29,28,32],[29,29,29,30],[25,8,25,18],[24,1,24,7],[29,27,29,28],[27,1,27,7],[26,1,26,7],[26,19,26,21],[25,19,25,21],[24,8,24,18],[26,22,26,32],[33,0,33,2],[36,0,36,2],[35,0,35,2],[40,0,40,2],[34,0,34,2],[33,29,33,30],[36,3,36,16],[35,3,35,16],[34,29,34,30],[40,3,40,16],[39,3,39,16],[37,29,37,30],[34,3,34,16],[39,29,39,30],[40,29,40,30],[40,31,40,32],[48,31,48,32],[48,29,48,30],[47,29,47,30],[46,29,46,30],[46,31,46,32],[42,29,42,30],[33,31,33,32],[36,29,36,30],[37,31,37,32],[35,31,35,32],[35,29,35,30],[34,31,34,32],[41,29,41,30],[39,31,39,32],[47,31,47,32],[42,31,42,32],[41,31,41,32],[44,29,44,30],[44,31,44,32],[38,31,38,32],[37,3,37,16],[38,0,38,2],[38,3,38,16],[39,0,39,2],[41,0,41,2],[41,3,41,16],[47,3,47,16],[48,3,48,16],[52,0,52,2],[46,0,46,2],[46,3,46,16],[51,0,51,2],[49,3,49,16],[47,0,47,2],[48,0,48,2],[49,0,49,2],[45,3,45,16],[50,3,50,16],[63,8,63,15],[63,16,63,18],[66,2,66,5],[62,1,62,7],[65,2,65,5],[66,23,66,30],[63,19,63,22],[65,20,65,21],[64,19,64,32],[65,23,65,30],[62,8,62,18],[62,23,62,32],[66,7,66,17],[63,1,63,7],[62,19,62,22],[65,7,65,17],[64,1,64,18],[66,20,66,21],[63,23,63,25],[63,26,63,32],[24,19,24,21],[23,19,23,21],[23,22,23,32],[55,19,55,32],[56,19,60,32],[52,31,52,32],[54,29,54,30],[61,23,61,32],[61,19,61,22],[50,31,50,32],[51,31,51,32],[49,29,49,30],[49,31,49,32],[51,29,51,30],[45,31,45,32],[45,29,45,30],[50,29,50,30],[53,31,53,32],[54,31,54,32],[53,29,53,30],[43,31,43,32],[61,1,61,7],[53,3,53,16],[51,3,51,16],[52,29,52,30],[42,0,42,2],[38,29,38,30],[36,31,36,32],[43,29,43,30],[33,3,33,16],[44,0,44,2],[44,3,44,16],[61,8,61,18],[45,0,45,2],[50,0,50,2],[56,1,60,18],[54,0,54,2],[54,3,54,16],[52,3,52,16],[55,1,55,18],[53,0,53,2],[43,0,43,2],[43,3,43,16],[42,3,42,16],[37,0,37,2]]}
[{"$f":"Data!IF90","v":0}]
[null,null,null,null,null,null,null,null,null,null,null,null,null,null,null,null,null,null,{"$f":"Data!B91","v":"Vzorkování"}]
[{"$f":"Data!B92","v":"Výsledky kontrol"}]
[]
[null,null,{"$f":"Data!B93","v":"Zpráva o kontrole prvních vzorků "},null,null,null,null,null,null,null,null,null,null,null,null,null,null,null,null,null,null,null,{"$f":"Data!B99","v":"Změna výrobních postupů"}]
[null,null,{"$f":"Data!B94","v":"Kontrola prvních vzorků"},null,null,null,null,null,null,null,null,null,null,null,null,null,null,null,null,null,null,null,{"$f":"Data!B100","v":"Delší přerušení výroby"}]
[null,null,{"$f":"Data!B95","v":"Nová kontrola vzorků"},null,null,null,null,null,null,null,null,null,null,null,null,null,null,null,null,null,null,null,{"$f":"Data!B101","v":"Nový subdodavatel"}]
[null,null,{"$f":"Data!B96","v":"Nový díl"},null,null,null,null,null,null,null,null,null,null,null,null,null,null,null,null,null,null,null,{"$f":"Data!B102","v":"Výrobek s DmbA"}]
[null,null,{"$f":"Data!B97","v":"Změna výrobku"},null,null,null,null,null,null,null,null,null,null,null,null,null,null,null,null,null,null,null,{"$f":"Data!B103","v":"Stanoven plán výroby/kontroly"}]
[null,null,{"$f":"Data!B98","v":"Přemístění a přerušení výroby delší 12 měsíců "},null,null,null,null,null,null,null,null,null,null,null,null,null,null,null,null,null,null,null,{"$f":"Data!B104","v":"Provedena FMEA"}]
[]
[{"$f":"Data!B105","v":"Přílohy"}]
[null,null,"01",{"$f":"Data!B106","v":"Rozměrová kontrola"},null,null,null,null,null,null,null,null,null,null,"09",{"$f":"Data!B114","v":"EMC-elmag. kompatabilita"},null,null,null,null,null,null,17,{"$f":"Data!B122","v":"Dokladování způsobilosti procesu"}]
[null,null,"02",{"$f":"Data!B107","v":"Funkční kontrola"},null,null,null,null,null,null,null,null,null,null,"10",{"$f":"Data!B115","v":"Kontrola spolehlivosti"},null,null,null,null,null,null,18,{"$f":"Data!B123","v":"List dat o bezpečnosti dle ES"}]
[null,null,"03",{"$f":"Data!B108","v":"Kontrola materiálu"},null,null,null,null,null,null,null,null,null,null,"11",{"$f":"Data!B116","v":"Konstrukční FMEA"},null,null,null,null,null,null,19,{"$f":"Data!B124","v":"Materiálový list IMDS"}]
[null,null,"04",{"$f":"Data!B109","v":"Pohmat"},null,null,null,null,null,null,null,null,null,null,"12",{"$f":"Data!B117","v":"Uvolnění konstrukce"},null,null,null,null,null,null,20,{"$f":"Data!B125","v":"Certifikáty"}]
[null,null,"05",{"$f":"Data!B110","v":"Hluk"},null,null,null,null,null,null,null,null,null,null,"13",{"$f":"Data!B118","v":"Procesní FMEA"},null,null,null,null,null,null,21,{"$f":"Data!B126","v":"Transportní prostředky, balení"}]
[null,null,"06",{"$f":"Data!B111","v":"Pach"},null,null,null,null,null,null,null,null,null,null,"14",{"$f":"Data!B119","v":"Diagram průběhu procesu"},null,null,null,null,null,null,22,{"$f":"Data!B127","v":"Prověrka procesu"}]
[null,null,"07",{"$f":"Data!B112","v":"Vzhled"},null,null,null,null,null,null,null,null,null,null,"15",{"$f":"Data!B120","v":"Kontrolní plán a seznam kontrolních prostředků"},null,null,null,null,null,null,23,{"$f":"Data!B128","v":"Ostatní"}]
[null,null,"08",{"$f":"Data!B113","v":"Povrch"},null,null,null,null,null,null,null,null,null,null,"16",{"$f":"Data!B121","v":"Průkaz způsobilosti kontr. prostředků"}]
[]
[null,{"$f":"Data!B129","v":"Identifikační číslo dodavatele:"},null,null,null,null,null,null,null,null,null,null,null,null,{"$f":"FORM!O29","v":0},null,null,null,null,{"$f":"Data!B137","v":"Identifikační číslo zákazníka"},null,null,null,null,null,{"$f":"FORM!AK29","v":0}]
[null,{"$f":"Data!B130","v":"Číslo zprávy o kontrole: "},null,null,null,null,null,null,null,null,null,null,{"$f":"FORM!N30","v":0},null,null,null,{"$f":"Data!B131","v":"Verze:"},null,{"$f":"FORM!T30","v":0},{"$f":"Data!B138","v":"Číslo zprávy o kontrole: "},null,null,null,null,{"$f":"FORM!AI30","v":0},null,{"$f":"Data!B139","v":"Verze:"},null,null,null,{"$f":"FORM!AR30","v":0}]
[null,{"$f":"Data!B132","v":"Číslo dílu:"},null,null,null,null,null,null,{"$f":"FORM!I31","v":0},null,null,null,null,null,null,null,null,null,null,{"$f":"Data!B140","v":"Číslo dílu:"},null,null,{"$f":"FORM!AD31","v":0}]
[null,{"$f":"Data!B133","v":"Číslo výkresu: "},null,null,null,null,null,null,{"$f":"FORM!I32","v":0},null,null,null,null,null,null,null,null,null,null,{"$f":"Data!B141","v":"Číslo výkresu: "},null,null,{"$f":"FORM!AD32","v":0}]
[null,{"$f":"Data!B134","v":"Stav / Datum:"},null,null,null,null,null,null,{"$f":"FORM!I33","v":0},null,null,null,null,null,null,null,null,null,null,{"$f":"Data!B142","v":"Stav / Datum:"},null,null,{"$f":"FORM!AD33","v":0}]
[null,{"$f":"Data!B135","v":"Číslo změny:"},null,null,null,null,null,null,{"$f":"FORM!I34","v":0},null,null,null,null,null,null,null,null,null,null,{"$f":"Data!B143","v":"Číslo změny:"},null,null,{"$f":"FORM!AD34","v":0}]
[null,{"$f":"Data!B136","v":"Název:"},null,null,null,null,null,null,{"$f":"FORM!I35","v":0},null,null,null,null,null,null,null,null,null,null,{"$f":"Data!B144","v":"Název:"},null,null,{"$f":"FORM!AD35","v":0}]
[{"$f":"Data!B145","v":"Číslo"},null,null,{"$f":"Data!B146","v":"Požadavky"},null,null,null,null,null,null,null,null,null,null,null,null,null,{"$f":"Data!B147","v":"Skutečné hodnoty - dodavatel"},null,null,null,null,{"$f":"Data!B148","v":"Skutečné hodnoty - zákazník"},null,null,null,null,"=Data!R[119]C[-23]",null,{"$f":"Data!B149","v":"Hodnocení"}]
[null,null,null,null,null,null,null,null,null,null,null,null,null,null,null,null,null,"1.","2.","3.","4.","5.","1.","2.","3.","4.","5.","Ano",null,{"$f":"Data!B150","v":"Ano"},null,{"$f":"Data!B151","v":"Ne"}]
["176."]
["177."]
["178."]
["179."]
["180."]
["181."]
["182."]
["183."]
["184."]
["185."]
["186."]
["187."]
["188."]
["189."]
["190."]
["191."]
["192."]
["193."]
["194."]
["195."]
["196."]
["197."]
["198."]
["199."]
["200."]
[null,{"$f":"Data!B152","v":"Dodavatel/poznámka:"},null,null,null,null,null,null,null,null,null,null,null,null,null,null,null,null,null,{"$f":"Data!B153","v":"Zákazník/poznámka:"}]
[]
[]
[]
[]
[]
[null,{"$f":"Data!B154","v":"Jméno:"},null,null,null,null,null,null,{"$f":"'FORM 1-25'!I62:S62","v":0},null,null,null,null,null,null,null,null,null,null,{"$f":"Data!B159","v":"Jméno:"},null,null,null,{"$f":"'FORM 1-25'!X62:AG62","v":0}]
[null,{"$f":"Data!B155","v":"Oddělení: "},null,null,null,null,null,null,{"$f":"'FORM 1-25'!I63:S63","v":0},null,null,null,null,null,null,null,null,null,null,{"$f":"Data!B160","v":"Oddělení: "},null,null,null,{"$f":"'FORM 1-25'!X63:AG63","v":0}]
[null,{"$f":"Data!B156","v":"E-Mail/Telefon:"},null,null,null,null,null,null,{"$f":"'FORM 1-25'!I64:P64","v":0},null,null,null,null,null,null,null,{"$f":"'FORM 1-25'!Q64:S64","v":0},null,null,{"$f":"Data!B161","v":"E-Mail/Telefon:"},null,null,null,{"$f":"'FORM 1-25'!X64:Z64","v":0},null,null,{"$f":"'FORM 1-25'!AA64:AG64","v":0}]
[]
[null,null,{"$f":"'FORM 1-25'!C66:F66","v":0},null,null,null,null,{"$f":"'FORM 1-25'!H66:R66","v":0},null,null,null,null,null,null,null,null,null,null,null,null,{"$f":"'FORM 1-25'!U66:V66","v":0},null,null,{"$f":"'FORM 1-25'!X66:AE66","v":0}]
[null,null,{"$f":"Data!B157","v":"Datum:"},null,null,null,null,{"$f":"Data!B158","v":"Podpis:"},null,null,null,null,null,null,null,null,null,null,null,null,{"$f":"Data!B162","v":"Datum:"},null,null,{"$f":"Data!B163","v":"Podpis:"}]
["ŘK-11-4-013-11-0 "]

{"sheet":"FORM 201-225","index":10,"n_rows":68,"n_cols":32,"rows_kept":68,"cut":false,"hidden":true,"merged":[[21,1,21,13],[61,1,61,7],[61,23,61,32],[61,19,61,22],[46,29,46,30],[46,31,46,32],[44,3,44,16],[45,3,45,16],[45,31,45,32],[49,3,49,16],[50,3,50,16],[55,19,55,32],[66,23,66,30],[63,19,63,22],[65,20,65,21],[64,19,64,32],[21,14,21,18],[23,8,23,18],[23,19,23,21],[23,22,23,32],[61,8,61,18],[63,8,63,15],[62,8,62,18],[48,3,48,16],[47,3,47,16],[48,31,48,32],[44,31,44,32],[49,29,49,30],[49,31,49,32],[47,31,47,32],[45,29,45,30],[21,25,21,32],[43,29,43,30],[22,1,22,11],[22,12,22,15],[66,2,66,5],[62,1,62,7],[65,2,65,5],[50,31,50,32],[46,0,46,2],[46,3,46,16],[47,0,47,2],[48,0,48,2],[49,0,49,2],[50,0,50,2],[65,23,65,30],[63,23,63,25],[63,26,63,32],[62,23,62,32],[66,7,66,17],[55,1,55,18],[65,7,65,17],[56,1,60,18],[64,1,64,18],[63,1,63,7],[66,20,66,21],[63,16,63,18],[62,19,62,22],[56,19,60,32],[53,31,53,32],[53,0,53,2],[54,29,54,30],[54,31,54,32],[54,0,54,2],[53,3,53,16],[39,31,39,32],[41,29,41,30],[41,31,41,32],[40,31,40,32],[51,31,51,32],[52,29,52,30],[52,31,52,32],[48,29,48,30],[47,29,47,30],[39,29,39,30],[51,3,51,16],[52,3,52,16],[39,3,39,16],[41,3,41,16],[39,0,39,2],[40,0,40,2],[40,3,40,16],[51,0,51,2],[54,3,54,16],[53,29,53,30],[37,29,37,30],[36,29,36,30],[50,29,50,30],[38,29,38,30],[35,29,35,30],[42,29,42,30],[52,0,52,2],[51,29,51,30],[37,0,37,2],[37,3,37,16],[42,0,42,2],[45,0,45,2],[41,0,41,2],[43,31,43,32],[44,0,44,2],[42,31,42,32],[43,0,43,2],[43,3,43,16],[42,3,42,16],[44,29,44,30],[40,29,40,30],[32,29,32,30],[33,29,33,30],[33,31,33,32],[32,0,32,2],[28,3,29,16],[34,29,34,30],[34,31,34,32],[37,31,37,32],[35,31,35,32],[36,31,36,32],[38,31,38,32],[35,3,35,16],[38,0,38,2],[38,3,38,16],[33,0,33,2],[33,3,33,16],[36,0,36,2],[36,3,36,16],[34,0,34,2],[34,3,34,16],[35,0,35,2],[31,0,31,2],[31,3,31,16],[0,0,0,32],[22,16,22,17],[1,18,1,31],[11,0,11,32],[2,0,2,32],[21,19,21,24],[18,23,18,32],[17,23,17,32],[7,2,7,20],[6,2,6,20],[8,22,8,32],[8,2,8,20],[16,23,16,32],[5,2,5,20],[4,2,4,20],[4,22,4,32],[5,22,5,32],[6,22,6,32],[7,22,7,32],[9,2,9,20],[13,23,13,32],[9,22,9,32],[14,23,14,32],[15,23,15,32],[28,0,29,2],[25,8,25,18],[29,27,29,28],[12,23,12,32],[32,3,32,16],[24,1,24,7],[32,31,32,32],[31,29,31,30],[30,3,30,16],[28,17,28,21],[28,22,28,26],[29,29,29,30],[28,29,28,32],[24,8,24,18],[30,29,30,30],[31,31,31,32],[27,19,27,21],[26,1,26,7],[30,0,30,2],[24,19,24,21],[30,31,30,32],[29,31,29,32],[27,22,27,32],[26,19,26,21],[22,24,22,25],[22,19,22,23],[27,1,27,7],[23,1,23,7],[27,8,27,18],[25,1,25,7],[26,22,26,32],[24,22,24,32],[25,22,25,32],[26,8,26,18],[25,19,25,21],[22,30,22,32],[22,26,22,29]]}
[{"$f":"Data!IF90","v":0}]
[null,null,null,null,null,null,null,null,null,null,null,null,null,null,null,null,null,null,{"$f":"Data!B91","v":"Vzorkování"}]
[{"$f":"Data!B92","v":"Výsledky kontrol"}]
[]
[null,null,{"$f":"Data!B93","v":"Zpráva o kontrole prvních vzorků "},null,null,null,null,null,null,null,null,null,null,null,null,null,null,null,null,null,null,null,{"$f":"Data!B99","v":"Změna výrobních postupů"}]
[null,null,{"$f":"Data!B94","v":"Kontrola prvních vzorků"},null,null,null,null,null,null,null,null,null,null,null,null,null,null,null,null,null,null,null,{"$f":"Data!B100","v":"Delší přerušení výroby"}]
[null,null,{"$f":"Data!B95","v":"Nová kontrola vzorků"},null,null,null,null,null,null,null,null,null,null,null,null,null,null,null,null,null,null,null,{"$f":"Data!B101","v":"Nový subdodavatel"}]
[null,null,{"$f":"Data!B96","v":"Nový díl"},null,null,null,null,null,null,null,null,null,null,null,null,null,null,null,null,null,null,null,{"$f":"Data!B102","v":"Výrobek s DmbA"}]
[null,null,{"$f":"Data!B97","v":"Změna výrobku"},null,null,null,null,null,null,null,null,null,null,null,null,null,null,null,null,null,null,null,{"$f":"Data!B103","v":"Stanoven plán výroby/kontroly"}]
[null,null,{"$f":"Data!B98","v":"Přemístění a přerušení výroby delší 12 měsíců "},null,null,null,null,null,null,null,null,null,null,null,null,null,null,null,null,null,null,null,{"$f":"Data!B104","v":"Provedena FMEA"}]
[]
[{"$f":"Data!B105","v":"Přílohy"}]
[null,null,"01",{"$f":"Data!B106","v":"Rozměrová kontrola"},null,null,null,null,null,null,null,null,null,null,"09",{"$f":"Data!B114","v":"EMC-elmag. kompatabilita"},null,null,null,null,null,null,17,{"$f":"Data!B122","v":"Dokladování způsobilosti procesu"}]
[null,null,"02",{"$f":"Data!B107","v":"Funkční kontrola"},null,null,null,null,null,null,null,null,null,null,"10",{"$f":"Data!B115","v":"Kontrola spolehlivosti"},null,null,null,null,null,null,18,{"$f":"Data!B123","v":"List dat o bezpečnosti dle ES"}]
[null,null,"03",{"$f":"Data!B108","v":"Kontrola materiálu"},null,null,null,null,null,null,null,null,null,null,"11",{"$f":"Data!B116","v":"Konstrukční FMEA"},null,null,null,null,null,null,19,{"$f":"Data!B124","v":"Materiálový list IMDS"}]
[null,null,"04",{"$f":"Data!B109","v":"Pohmat"},null,null,null,null,null,null,null,null,null,null,"12",{"$f":"Data!B117","v":"Uvolnění konstrukce"},null,null,null,null,null,null,20,{"$f":"Data!B125","v":"Certifikáty"}]
[null,null,"05",{"$f":"Data!B110","v":"Hluk"},null,null,null,null,null,null,null,null,null,null,"13",{"$f":"Data!B118","v":"Procesní FMEA"},null,null,null,null,null,null,21,{"$f":"Data!B126","v":"Transportní prostředky, balení"}]
[null,null,"06",{"$f":"Data!B111","v":"Pach"},null,null,null,null,null,null,null,null,null,null,"14",{"$f":"Data!B119","v":"Diagram průběhu procesu"},null,null,null,null,null,null,22,{"$f":"Data!B127","v":"Prověrka procesu"}]
[null,null,"07",{"$f":"Data!B112","v":"Vzhled"},null,null,null,null,null,null,null,null,null,null,"15",{"$f":"Data!B120","v":"Kontrolní plán a seznam kontrolních prostředků"},null,null,null,null,null,null,23,{"$f":"Data!B128","v":"Ostatní"}]
[null,null,"08",{"$f":"Data!B113","v":"Povrch"},null,null,null,null,null,null,null,null,null,null,"16",{"$f":"Data!B121","v":"Průkaz způsobilosti kontr. prostředků"}]
[]
[null,{"$f":"Data!B129","v":"Identifikační číslo dodavatele:"},null,null,null,null,null,null,null,null,null,null,null,null,{"$f":"FORM!O29","v":0},null,null,null,null,{"$f":"Data!B137","v":"Identifikační číslo zákazníka"},null,null,null,null,null,{"$f":"FORM!AK29","v":0}]
[null,{"$f":"Data!B130","v":"Číslo zprávy o kontrole: "},null,null,null,null,null,null,null,null,null,null,{"$f":"FORM!N30","v":0},null,null,null,{"$f":"Data!B131","v":"Verze:"},null,{"$f":"FORM!T30","v":0},{"$f":"Data!B138","v":"Číslo zprávy o kontrole: "},null,null,null,null,{"$f":"FORM!AI30","v":0},null,{"$f":"Data!B139","v":"Verze:"},null,null,null,{"$f":"FORM!AR30","v":0}]
[null,{"$f":"Data!B132","v":"Číslo dílu:"},null,null,null,null,null,null,{"$f":"FORM!I31","v":0},null,null,null,null,null,null,null,null,null,null,{"$f":"Data!B140","v":"Číslo dílu:"},null,null,{"$f":"FORM!AD31","v":0}]
[null,{"$f":"Data!B133","v":"Číslo výkresu: "},null,null,null,null,null,null,{"$f":"FORM!I32","v":0},null,null,null,null,null,null,null,null,null,null,{"$f":"Data!B141","v":"Číslo výkresu: "},null,null,{"$f":"FORM!AD32","v":0}]
[null,{"$f":"Data!B134","v":"Stav / Datum:"},null,null,null,null,null,null,{"$f":"FORM!I33","v":0},null,null,null,null,null,null,null,null,null,null,{"$f":"Data!B142","v":"Stav / Datum:"},null,null,{"$f":"FORM!AD33","v":0}]
[null,{"$f":"Data!B135","v":"Číslo změny:"},null,null,null,null,null,null,{"$f":"FORM!I34","v":0},null,null,null,null,null,null,null,null,null,null,{"$f":"Data!B143","v":"Číslo změny:"},null,null,{"$f":"FORM!AD34","v":0}]
[null,{"$f":"Data!B136","v":"Název:"},null,null,null,null,null,null,{"$f":"FORM!I35","v":0},null,null,null,null,null,null,null,null,null,null,{"$f":"Data!B144","v":"Název:"},null,null,{"$f":"FORM!AD35","v":0}]
[{"$f":"Data!B145","v":"Číslo"},null,null,{"$f":"Data!B146","v":"Požadavky"},null,null,null,null,null,null,null,null,null,null,null,null,null,{"$f":"Data!B147","v":"Skutečné hodnoty - dodavatel"},null,null,null,null,{"$f":"Data!B148","v":"Skutečné hodnoty - zákazník"},null,null,null,null,"=Data!R[119]C[-23]",null,{"$f":"Data!B149","v":"Hodnocení"}]
[null,null,null,null,null,null,null,null,null,null,null,null,null,null,null,null,null,"1.","2.","3.","4.","5.","1.","2.","3.","4.","5.","Ano",null,{"$f":"Data!B150","v":"Ano"},null,{"$f":"Data!B151","v":"Ne"}]
["201."]
["202."]
["203."]
["204."]
["205."]
["206."]
["207."]
["208."]
["209."]
["210."]
["211."]
["212."]
["213."]
["214."]
["215."]
["216."]
["217."]
["218."]
["219."]
["220."]
["221."]
["222."]
["223."]
["224."]
["225."]
[null,{"$f":"Data!B152","v":"Dodavatel/poznámka:"},null,null,null,null,null,null,null,null,null,null,null,null,null,null,null,null,null,{"$f":"Data!B153","v":"Zákazník/poznámka:"}]
[]
[]
[]
[]
[]
[null,{"$f":"Data!B154","v":"Jméno:"},null,null,null,null,null,null,{"$f":"'FORM 1-25'!I62:S62","v":0},null,null,null,null,null,null,null,null,null,null,{"$f":"Data!B159","v":"Jméno:"},null,null,null,{"$f":"'FORM 1-25'!X62:AG62","v":0}]
[null,{"$f":"Data!B155","v":"Oddělení: "},null,null,null,null,null,null,{"$f":"'FORM 1-25'!I63:S63","v":0},null,null,null,null,null,null,null,null,null,null,{"$f":"Data!B160","v":"Oddělení: "},null,null,null,{"$f":"'FORM 1-25'!X63:AG63","v":0}]
[null,{"$f":"Data!B156","v":"E-Mail/Telefon:"},null,null,null,null,null,null,{"$f":"'FORM 1-25'!I64:P64","v":0},null,null,null,null,null,null,null,{"$f":"'FORM 1-25'!Q64:S64","v":0},null,null,{"$f":"Data!B161","v":"E-Mail/Telefon:"},null,null,null,{"$f":"'FORM 1-25'!X64:Z64","v":0},null,null,{"$f":"'FORM 1-25'!AA64:AG64","v":0}]
[]
[null,null,{"$f":"'FORM 1-25'!C66:F66","v":0},null,null,null,null,{"$f":"'FORM 1-25'!H66:R66","v":0},null,null,null,null,null,null,null,null,null,null,null,null,{"$f":"'FORM 1-25'!U66:V66","v":0},null,null,{"$f":"'FORM 1-25'!X66:AE66","v":0}]
[null,null,{"$f":"Data!B157","v":"Datum:"},null,null,null,null,{"$f":"Data!B158","v":"Podpis:"},null,null,null,null,null,null,null,null,null,null,null,null,{"$f":"Data!B162","v":"Datum:"},null,null,{"$f":"Data!B163","v":"Podpis:"}]
["ŘK-11-4-013-11-0   "]

{"sheet":"FORM 226-250","index":11,"n_rows":68,"n_cols":32,"rows_kept":68,"cut":false,"hidden":true,"merged":[[30,0,30,2],[32,0,32,2],[31,0,31,2],[31,3,31,16],[27,19,27,21],[23,1,23,7],[32,3,32,16],[28,3,29,16],[30,3,30,16],[28,17,28,21],[28,0,29,2],[27,8,27,18],[25,1,25,7],[26,8,26,18],[23,8,23,18],[22,24,22,25],[22,19,22,23],[12,23,12,32],[13,23,13,32],[14,23,14,32],[15,23,15,32],[16,23,16,32],[17,23,17,32],[22,1,22,11],[22,12,22,15],[22,30,22,32],[22,26,22,29],[0,0,0,32],[22,16,22,17],[1,18,1,31],[11,0,11,32],[2,0,2,32],[21,19,21,24],[18,23,18,32],[21,1,21,13],[21,14,21,18],[21,25,21,32],[6,2,6,20],[5,2,5,20],[4,2,4,20],[4,22,4,32],[5,22,5,32],[6,22,6,32],[9,2,9,20],[8,2,8,20],[7,2,7,20],[7,22,7,32],[8,22,8,32],[9,22,9,32],[32,31,32,32],[31,29,31,30],[27,22,27,32],[24,22,24,32],[25,22,25,32],[28,22,28,26],[30,29,30,30],[30,31,30,32],[31,31,31,32],[32,29,32,30],[29,31,29,32],[28,29,28,32],[29,29,29,30],[25,8,25,18],[24,1,24,7],[29,27,29,28],[27,1,27,7],[26,1,26,7],[26,19,26,21],[25,19,25,21],[24,8,24,18],[26,22,26,32],[33,0,33,2],[36,0,36,2],[35,0,35,2],[40,0,40,2],[34,0,34,2],[33,29,33,30],[36,3,36,16],[35,3,35,16],[34,29,34,30],[40,3,40,16],[39,3,39,16],[37,29,37,30],[34,3,34,16],[39,29,39,30],[40,29,40,30],[40,31,40,32],[48,31,48,32],[48,29,48,30],[47,29,47,30],[46,29,46,30],[46,31,46,32],[42,29,42,30],[33,31,33,32],[36,29,36,30],[37,31,37,32],[35,31,35,32],[35,29,35,30],[34,31,34,32],[41,29,41,30],[39,31,39,32],[47,31,47,32],[42,31,42,32],[41,31,41,32],[44,29,44,30],[44,31,44,32],[38,31,38,32],[37,3,37,16],[38,0,38,2],[38,3,38,16],[39,0,39,2],[41,0,41,2],[41,3,41,16],[47,3,47,16],[48,3,48,16],[52,0,52,2],[46,0,46,2],[46,3,46,16],[51,0,51,2],[49,3,49,16],[47,0,47,2],[48,0,48,2],[49,0,49,2],[45,3,45,16],[50,3,50,16],[63,8,63,15],[63,16,63,18],[66,2,66,5],[62,1,62,7],[65,2,65,5],[66,23,66,30],[63,19,63,22],[65,20,65,21],[64,19,64,32],[65,23,65,30],[62,8,62,18],[62,23,62,32],[66,7,66,17],[63,1,63,7],[62,19,62,22],[65,7,65,17],[64,1,64,18],[66,20,66,21],[63,23,63,25],[63,26,63,32],[24,19,24,21],[23,19,23,21],[23,22,23,32],[55,19,55,32],[56,19,60,32],[52,31,52,32],[54,29,54,30],[61,23,61,32],[61,19,61,22],[50,31,50,32],[51,31,51,32],[49,29,49,30],[49,31,49,32],[51,29,51,30],[45,31,45,32],[45,29,45,30],[50,29,50,30],[53,31,53,32],[54,31,54,32],[53,29,53,30],[43,31,43,32],[61,1,61,7],[53,3,53,16],[51,3,51,16],[52,29,52,30],[42,0,42,2],[38,29,38,30],[36,31,36,32],[43,29,43,30],[33,3,33,16],[44,0,44,2],[44,3,44,16],[61,8,61,18],[45,0,45,2],[50,0,50,2],[56,1,60,18],[54,0,54,2],[54,3,54,16],[52,3,52,16],[55,1,55,18],[53,0,53,2],[43,0,43,2],[43,3,43,16],[42,3,42,16],[37,0,37,2]]}
[{"$f":"Data!IF90","v":0}]
[null,null,null,null,null,null,null,null,null,null,null,null,null,null,null,null,null,null,{"$f":"Data!B91","v":"Vzorkování"}]
[{"$f":"Data!B92","v":"Výsledky kontrol"}]
[]
[null,null,{"$f":"Data!B93","v":"Zpráva o kontrole prvních vzorků "},null,null,null,null,null,null,null,null,null,null,null,null,null,null,null,null,null,null,null,{"$f":"Data!B99","v":"Změna výrobních postupů"}]
[null,null,{"$f":"Data!B94","v":"Kontrola prvních vzorků"},null,null,null,null,null,null,null,null,null,null,null,null,null,null,null,null,null,null,null,{"$f":"Data!B100","v":"Delší přerušení výroby"}]
[null,null,{"$f":"Data!B95","v":"Nová kontrola vzorků"},null,null,null,null,null,null,null,null,null,null,null,null,null,null,null,null,null,null,null,{"$f":"Data!B101","v":"Nový subdodavatel"}]
[null,null,{"$f":"Data!B96","v":"Nový díl"},null,null,null,null,null,null,null,null,null,null,null,null,null,null,null,null,null,null,null,{"$f":"Data!B102","v":"Výrobek s DmbA"}]
[null,null,{"$f":"Data!B97","v":"Změna výrobku"},null,null,null,null,null,null,null,null,null,null,null,null,null,null,null,null,null,null,null,{"$f":"Data!B103","v":"Stanoven plán výroby/kontroly"}]
[null,null,{"$f":"Data!B98","v":"Přemístění a přerušení výroby delší 12 měsíců "},null,null,null,null,null,null,null,null,null,null,null,null,null,null,null,null,null,null,null,{"$f":"Data!B104","v":"Provedena FMEA"}]
[]
[{"$f":"Data!B105","v":"Přílohy"}]
[null,null,"01",{"$f":"Data!B106","v":"Rozměrová kontrola"},null,null,null,null,null,null,null,null,null,null,"09",{"$f":"Data!B114","v":"EMC-elmag. kompatabilita"},null,null,null,null,null,null,17,{"$f":"Data!B122","v":"Dokladování způsobilosti procesu"}]
[null,null,"02",{"$f":"Data!B107","v":"Funkční kontrola"},null,null,null,null,null,null,null,null,null,null,"10",{"$f":"Data!B115","v":"Kontrola spolehlivosti"},null,null,null,null,null,null,18,{"$f":"Data!B123","v":"List dat o bezpečnosti dle ES"}]
[null,null,"03",{"$f":"Data!B108","v":"Kontrola materiálu"},null,null,null,null,null,null,null,null,null,null,"11",{"$f":"Data!B116","v":"Konstrukční FMEA"},null,null,null,null,null,null,19,{"$f":"Data!B124","v":"Materiálový list IMDS"}]
[null,null,"04",{"$f":"Data!B109","v":"Pohmat"},null,null,null,null,null,null,null,null,null,null,"12",{"$f":"Data!B117","v":"Uvolnění konstrukce"},null,null,null,null,null,null,20,{"$f":"Data!B125","v":"Certifikáty"}]
[null,null,"05",{"$f":"Data!B110","v":"Hluk"},null,null,null,null,null,null,null,null,null,null,"13",{"$f":"Data!B118","v":"Procesní FMEA"},null,null,null,null,null,null,21,{"$f":"Data!B126","v":"Transportní prostředky, balení"}]
[null,null,"06",{"$f":"Data!B111","v":"Pach"},null,null,null,null,null,null,null,null,null,null,"14",{"$f":"Data!B119","v":"Diagram průběhu procesu"},null,null,null,null,null,null,22,{"$f":"Data!B127","v":"Prověrka procesu"}]
[null,null,"07",{"$f":"Data!B112","v":"Vzhled"},null,null,null,null,null,null,null,null,null,null,"15",{"$f":"Data!B120","v":"Kontrolní plán a seznam kontrolních prostředků"},null,null,null,null,null,null,23,{"$f":"Data!B128","v":"Ostatní"}]
[null,null,"08",{"$f":"Data!B113","v":"Povrch"},null,null,null,null,null,null,null,null,null,null,"16",{"$f":"Data!B121","v":"Průkaz způsobilosti kontr. prostředků"}]
[]
[null,{"$f":"Data!B129","v":"Identifikační číslo dodavatele:"},null,null,null,null,null,null,null,null,null,null,null,null,{"$f":"FORM!O29","v":0},null,null,null,null,{"$f":"Data!B137","v":"Identifikační číslo zákazníka"},null,null,null,null,null,{"$f":"FORM!AK29","v":0}]
[null,{"$f":"Data!B130","v":"Číslo zprávy o kontrole: "},null,null,null,null,null,null,null,null,null,null,{"$f":"FORM!N30","v":0},null,null,null,{"$f":"Data!B131","v":"Verze:"},null,{"$f":"FORM!T30","v":0},{"$f":"Data!B138","v":"Číslo zprávy o kontrole: "},null,null,null,null,{"$f":"FORM!AI30","v":0},null,{"$f":"Data!B139","v":"Verze:"},null,null,null,{"$f":"FORM!AR30","v":0}]
[null,{"$f":"Data!B132","v":"Číslo dílu:"},null,null,null,null,null,null,{"$f":"FORM!I31","v":0},null,null,null,null,null,null,null,null,null,null,{"$f":"Data!B140","v":"Číslo dílu:"},null,null,{"$f":"FORM!AD31","v":0}]
[null,{"$f":"Data!B133","v":"Číslo výkresu: "},null,null,null,null,null,null,{"$f":"FORM!I32","v":0},null,null,null,null,null,null,null,null,null,null,{"$f":"Data!B141","v":"Číslo výkresu: "},null,null,{"$f":"FORM!AD32","v":0}]
[null,{"$f":"Data!B134","v":"Stav / Datum:"},null,null,null,null,null,null,{"$f":"FORM!I33","v":0},null,null,null,null,null,null,null,null,null,null,{"$f":"Data!B142","v":"Stav / Datum:"},null,null,{"$f":"FORM!AD33","v":0}]
[null,{"$f":"Data!B135","v":"Číslo změny:"},null,null,null,null,null,null,{"$f":"FORM!I34","v":0},null,null,null,null,null,null,null,null,null,null,{"$f":"Data!B143","v":"Číslo změny:"},null,null,{"$f":"FORM!AD34","v":0}]
[null,{"$f":"Data!B136","v":"Název:"},null,null,null,null,null,null,{"$f":"FORM!I35","v":0},null,null,null,null,null,null,null,null,null,null,{"$f":"Data!B144","v":"Název:"},null,null,{"$f":"FORM!AD35","v":0}]
[{"$f":"Data!B145","v":"Číslo"},null,null,{"$f":"Data!B146","v":"Požadavky"},null,null,null,null,null,null,null,null,null,null,null,null,null,{"$f":"Data!B147","v":"Skutečné hodnoty - dodavatel"},null,null,null,null,{"$f":"Data!B148","v":"Skutečné hodnoty - zákazník"},null,null,null,null,"=Data!R[119]C[-23]",null,{"$f":"Data!B149","v":"Hodnocení"}]
[null,null,null,null,null,null,null,null,null,null,null,null,null,null,null,null,null,"1.","2.","3.","4.","5.","1.","2.","3.","4.","5.","Ano",null,{"$f":"Data!B150","v":"Ano"},null,{"$f":"Data!B151","v":"Ne"}]
["226."]
["227."]
["228."]
["229."]
["230."]
["231."]
["232."]
["233."]
["234."]
["235."]
["236."]
["237."]
["238."]
["239."]
["240."]
["241."]
["242."]
["243."]
["244."]
["245."]
["246."]
["247."]
["248."]
["249."]
["250."]
[null,{"$f":"Data!B152","v":"Dodavatel/poznámka:"},null,null,null,null,null,null,null,null,null,null,null,null,null,null,null,null,null,{"$f":"Data!B153","v":"Zákazník/poznámka:"}]
[]
[]
[]
[]
[]
[null,{"$f":"Data!B154","v":"Jméno:"},null,null,null,null,null,null,{"$f":"'FORM 1-25'!I62:S62","v":0},null,null,null,null,null,null,null,null,null,null,{"$f":"Data!B159","v":"Jméno:"},null,null,null,{"$f":"'FORM 1-25'!X62:AG62","v":0}]
[null,{"$f":"Data!B155","v":"Oddělení: "},null,null,null,null,null,null,{"$f":"'FORM 1-25'!I63:S63","v":0},null,null,null,null,null,null,null,null,null,null,{"$f":"Data!B160","v":"Oddělení: "},null,null,null,{"$f":"'FORM 1-25'!X63:AG63","v":0}]
[null,{"$f":"Data!B156","v":"E-Mail/Telefon:"},null,null,null,null,null,null,{"$f":"'FORM 1-25'!I64:P64","v":0},null,null,null,null,null,null,null,{"$f":"'FORM 1-25'!Q64:S64","v":0},null,null,{"$f":"Data!B161","v":"E-Mail/Telefon:"},null,null,null,{"$f":"'FORM 1-25'!X64:Z64","v":0},null,null,{"$f":"'FORM 1-25'!AA64:AG64","v":0}]
[]
[null,null,{"$f":"'FORM 1-25'!C66:F66","v":0},null,null,null,null,{"$f":"'FORM 1-25'!H66:R66","v":0},null,null,null,null,null,null,null,null,null,null,null,null,{"$f":"'FORM 1-25'!U66:V66","v":0},null,null,{"$f":"'FORM 1-25'!X66:AE66","v":0}]
[null,null,{"$f":"Data!B157","v":"Datum:"},null,null,null,null,{"$f":"Data!B158","v":"Podpis:"},null,null,null,null,null,null,null,null,null,null,null,null,{"$f":"Data!B162","v":"Datum:"},null,null,{"$f":"Data!B163","v":"Podpis:"}]
["ŘK-11-4-013-11-0  "]

{"sheet":"FORM 251-275","index":12,"n_rows":68,"n_cols":32,"rows_kept":68,"cut":false,"hidden":true,"merged":[[21,1,21,13],[61,1,61,7],[61,23,61,32],[61,19,61,22],[46,29,46,30],[46,31,46,32],[44,3,44,16],[45,3,45,16],[45,31,45,32],[49,3,49,16],[50,3,50,16],[55,19,55,32],[66,23,66,30],[63,19,63,22],[65,20,65,21],[64,19,64,32],[21,14,21,18],[23,8,23,18],[23,19,23,21],[23,22,23,32],[61,8,61,18],[63,8,63,15],[62,8,62,18],[48,3,48,16],[47,3,47,16],[48,31,48,32],[44,31,44,32],[49,29,49,30],[49,31,49,32],[47,31,47,32],[45,29,45,30],[21,25,21,32],[43,29,43,30],[22,1,22,11],[22,12,22,15],[66,2,66,5],[62,1,62,7],[65,2,65,5],[50,31,50,32],[46,0,46,2],[46,3,46,16],[47,0,47,2],[48,0,48,2],[49,0,49,2],[50,0,50,2],[65,23,65,30],[63,23,63,25],[63,26,63,32],[62,23,62,32],[66,7,66,17],[55,1,55,18],[65,7,65,17],[56,1,60,18],[64,1,64,18],[63,1,63,7],[66,20,66,21],[63,16,63,18],[62,19,62,22],[56,19,60,32],[53,31,53,32],[53,0,53,2],[54,29,54,30],[54,31,54,32],[54,0,54,2],[53,3,53,16],[39,31,39,32],[41,29,41,30],[41,31,41,32],[40,31,40,32],[51,31,51,32],[52,29,52,30],[52,31,52,32],[48,29,48,30],[47,29,47,30],[39,29,39,30],[51,3,51,16],[52,3,52,16],[39,3,39,16],[41,3,41,16],[39,0,39,2],[40,0,40,2],[40,3,40,16],[51,0,51,2],[54,3,54,16],[53,29,53,30],[37,29,37,30],[36,29,36,30],[50,29,50,30],[38,29,38,30],[35,29,35,30],[42,29,42,30],[52,0,52,2],[51,29,51,30],[37,0,37,2],[37,3,37,16],[42,0,42,2],[45,0,45,2],[41,0,41,2],[43,31,43,32],[44,0,44,2],[42,31,42,32],[43,0,43,2],[43,3,43,16],[42,3,42,16],[44,29,44,30],[40,29,40,30],[32,29,32,30],[33,29,33,30],[33,31,33,32],[32,0,32,2],[28,3,29,16],[34,29,34,30],[34,31,34,32],[37,31,37,32],[35,31,35,32],[36,31,36,32],[38,31,38,32],[35,3,35,16],[38,0,38,2],[38,3,38,16],[33,0,33,2],[33,3,33,16],[36,0,36,2],[36,3,36,16],[34,0,34,2],[34,3,34,16],[35,0,35,2],[31,0,31,2],[31,3,31,16],[0,0,0,32],[22,16,22,17],[1,18,1,31],[11,0,11,32],[2,0,2,32],[21,19,21,24],[18,23,18,32],[17,23,17,32],[7,2,7,20],[6,2,6,20],[8,22,8,32],[8,2,8,20],[16,23,16,32],[5,2,5,20],[4,2,4,20],[4,22,4,32],[5,22,5,32],[6,22,6,32],[7,22,7,32],[9,2,9,20],[13,23,13,32],[9,22,9,32],[14,23,14,32],[15,23,15,32],[28,0,29,2],[25,8,25,18],[29,27,29,28],[12,23,12,32],[32,3,32,16],[24,1,24,7],[32,31,32,32],[31,29,31,30],[30,3,30,16],[28,17,28,21],[28,22,28,26],[29,29,29,30],[28,29,28,32],[24,8,24,18],[30,29,30,30],[31,31,31,32],[27,19,27,21],[26,1,26,7],[30,0,30,2],[24,19,24,21],[30,31,30,32],[29,31,29,32],[27,22,27,32],[26,19,26,21],[22,24,22,25],[22,19,22,23],[27,1,27,7],[23,1,23,7],[27,8,27,18],[25,1,25,7],[26,22,26,32],[24,22,24,32],[25,22,25,32],[26,8,26,18],[25,19,25,21],[22,30,22,32],[22,26,22,29]]}
[{"$f":"Data!IF90","v":0}]
[null,null,null,null,null,null,null,null,null,null,null,null,null,null,null,null,null,null,{"$f":"Data!B91","v":"Vzorkování"}]
[{"$f":"Data!B92","v":"Výsledky kontrol"}]
[]
[null,null,{"$f":"Data!B93","v":"Zpráva o kontrole prvních vzorků "},null,null,null,null,null,null,null,null,null,null,null,null,null,null,null,null,null,null,null,{"$f":"Data!B99","v":"Změna výrobních postupů"}]
[null,null,{"$f":"Data!B94","v":"Kontrola prvních vzorků"},null,null,null,null,null,null,null,null,null,null,null,null,null,null,null,null,null,null,null,{"$f":"Data!B100","v":"Delší přerušení výroby"}]
[null,null,{"$f":"Data!B95","v":"Nová kontrola vzorků"},null,null,null,null,null,null,null,null,null,null,null,null,null,null,null,null,null,null,null,{"$f":"Data!B101","v":"Nový subdodavatel"}]
[null,null,{"$f":"Data!B96","v":"Nový díl"},null,null,null,null,null,null,null,null,null,null,null,null,null,null,null,null,null,null,null,{"$f":"Data!B102","v":"Výrobek s DmbA"}]
[null,null,{"$f":"Data!B97","v":"Změna výrobku"},null,null,null,null,null,null,null,null,null,null,null,null,null,null,null,null,null,null,null,{"$f":"Data!B103","v":"Stanoven plán výroby/kontroly"}]
[null,null,{"$f":"Data!B98","v":"Přemístění a přerušení výroby delší 12 měsíců "},null,null,null,null,null,null,null,null,null,null,null,null,null,null,null,null,null,null,null,{"$f":"Data!B104","v":"Provedena FMEA"}]
[]
[{"$f":"Data!B105","v":"Přílohy"}]
[null,null,"01",{"$f":"Data!B106","v":"Rozměrová kontrola"},null,null,null,null,null,null,null,null,null,null,"09",{"$f":"Data!B114","v":"EMC-elmag. kompatabilita"},null,null,null,null,null,null,17,{"$f":"Data!B122","v":"Dokladování způsobilosti procesu"}]
[null,null,"02",{"$f":"Data!B107","v":"Funkční kontrola"},null,null,null,null,null,null,null,null,null,null,"10",{"$f":"Data!B115","v":"Kontrola spolehlivosti"},null,null,null,null,null,null,18,{"$f":"Data!B123","v":"List dat o bezpečnosti dle ES"}]
[null,null,"03",{"$f":"Data!B108","v":"Kontrola materiálu"},null,null,null,null,null,null,null,null,null,null,"11",{"$f":"Data!B116","v":"Konstrukční FMEA"},null,null,null,null,null,null,19,{"$f":"Data!B124","v":"Materiálový list IMDS"}]
[null,null,"04",{"$f":"Data!B109","v":"Pohmat"},null,null,null,null,null,null,null,null,null,null,"12",{"$f":"Data!B117","v":"Uvolnění konstrukce"},null,null,null,null,null,null,20,{"$f":"Data!B125","v":"Certifikáty"}]
[null,null,"05",{"$f":"Data!B110","v":"Hluk"},null,null,null,null,null,null,null,null,null,null,"13",{"$f":"Data!B118","v":"Procesní FMEA"},null,null,null,null,null,null,21,{"$f":"Data!B126","v":"Transportní prostředky, balení"}]
[null,null,"06",{"$f":"Data!B111","v":"Pach"},null,null,null,null,null,null,null,null,null,null,"14",{"$f":"Data!B119","v":"Diagram průběhu procesu"},null,null,null,null,null,null,22,{"$f":"Data!B127","v":"Prověrka procesu"}]
[null,null,"07",{"$f":"Data!B112","v":"Vzhled"},null,null,null,null,null,null,null,null,null,null,"15",{"$f":"Data!B120","v":"Kontrolní plán a seznam kontrolních prostředků"},null,null,null,null,null,null,23,{"$f":"Data!B128","v":"Ostatní"}]
[null,null,"08",{"$f":"Data!B113","v":"Povrch"},null,null,null,null,null,null,null,null,null,null,"16",{"$f":"Data!B121","v":"Průkaz způsobilosti kontr. prostředků"}]
[]
[null,{"$f":"Data!B129","v":"Identifikační číslo dodavatele:"},null,null,null,null,null,null,null,null,null,null,null,null,{"$f":"FORM!O29","v":0},null,null,null,null,{"$f":"Data!B137","v":"Identifikační číslo zákazníka"},null,null,null,null,null,{"$f":"FORM!AK29","v":0}]
[null,{"$f":"Data!B130","v":"Číslo zprávy o kontrole: "},null,null,null,null,null,null,null,null,null,null,{"$f":"FORM!N30","v":0},null,null,null,{"$f":"Data!B131","v":"Verze:"},null,{"$f":"FORM!T30","v":0},{"$f":"Data!B138","v":"Číslo zprávy o kontrole: "},null,null,null,null,{"$f":"FORM!AI30","v":0},null,{"$f":"Data!B139","v":"Verze:"},null,null,null,{"$f":"FORM!AR30","v":0}]
[null,{"$f":"Data!B132","v":"Číslo dílu:"},null,null,null,null,null,null,{"$f":"FORM!I31","v":0},null,null,null,null,null,null,null,null,null,null,{"$f":"Data!B140","v":"Číslo dílu:"},null,null,{"$f":"FORM!AD31","v":0}]
[null,{"$f":"Data!B133","v":"Číslo výkresu: "},null,null,null,null,null,null,{"$f":"FORM!I32","v":0},null,null,null,null,null,null,null,null,null,null,{"$f":"Data!B141","v":"Číslo výkresu: "},null,null,{"$f":"FORM!AD32","v":0}]
[null,{"$f":"Data!B134","v":"Stav / Datum:"},null,null,null,null,null,null,{"$f":"FORM!I33","v":0},null,null,null,null,null,null,null,null,null,null,{"$f":"Data!B142","v":"Stav / Datum:"},null,null,{"$f":"FORM!AD33","v":0}]
[null,{"$f":"Data!B135","v":"Číslo změny:"},null,null,null,null,null,null,{"$f":"FORM!I34","v":0},null,null,null,null,null,null,null,null,null,null,{"$f":"Data!B143","v":"Číslo změny:"},null,null,{"$f":"FORM!AD34","v":0}]
[null,{"$f":"Data!B136","v":"Název:"},null,null,null,null,null,null,{"$f":"FORM!I35","v":0},null,null,null,null,null,null,null,null,null,null,{"$f":"Data!B144","v":"Název:"},null,null,{"$f":"FORM!AD35","v":0}]
[{"$f":"Data!B145","v":"Číslo"},null,null,{"$f":"Data!B146","v":"Požadavky"},null,null,null,null,null,null,null,null,null,null,null,null,null,{"$f":"Data!B147","v":"Skutečné hodnoty - dodavatel"},null,null,null,null,{"$f":"Data!B148","v":"Skutečné hodnoty - zákazník"},null,null,null,null,"=Data!R[119]C[-23]",null,{"$f":"Data!B149","v":"Hodnocení"}]
[null,null,null,null,null,null,null,null,null,null,null,null,null,null,null,null,null,"1.","2.","3.","4.","5.","1.","2.","3.","4.","5.","Ano",null,{"$f":"Data!B150","v":"Ano"},null,{"$f":"Data!B151","v":"Ne"}]
["251."]
["252."]
["253."]
["254."]
["255."]
["256."]
["257."]
["258."]
["259."]
["260."]
["261."]
["262."]
["263."]
["264."]
["265."]
["266."]
["267."]
["268."]
["269."]
["270."]
["271."]
["272."]
["273."]
["274."]
["275."]
[null,{"$f":"Data!B152","v":"Dodavatel/poznámka:"},null,null,null,null,null,null,null,null,null,null,null,null,null,null,null,null,null,{"$f":"Data!B153","v":"Zákazník/poznámka:"}]
[]
[]
[]
[]
[]
[null,{"$f":"Data!B154","v":"Jméno:"},null,null,null,null,null,null,{"$f":"'FORM 1-25'!I62:S62","v":0},null,null,null,null,null,null,null,null,null,null,{"$f":"Data!B159","v":"Jméno:"},null,null,null,{"$f":"'FORM 1-25'!X62:AG62","v":0}]
[null,{"$f":"Data!B155","v":"Oddělení: "},null,null,null,null,null,null,{"$f":"'FORM 1-25'!I63:S63","v":0},null,null,null,null,null,null,null,null,null,null,{"$f":"Data!B160","v":"Oddělení: "},null,null,null,{"$f":"'FORM 1-25'!X63:AG63","v":0}]
[null,{"$f":"Data!B156","v":"E-Mail/Telefon:"},null,null,null,null,null,null,{"$f":"'FORM 1-25'!I64:P64","v":0},null,null,null,null,null,null,null,{"$f":"'FORM 1-25'!Q64:S64","v":0},null,null,{"$f":"Data!B161","v":"E-Mail/Telefon:"},null,null,null,{"$f":"'FORM 1-25'!X64:Z64","v":0},null,null,{"$f":"'FORM 1-25'!AA64:AG64","v":0}]
[]
[null,null,{"$f":"'FORM 1-25'!C66:F66","v":0},null,null,null,null,{"$f":"'FORM 1-25'!H66:R66","v":0},null,null,null,null,null,null,null,null,null,null,null,null,{"$f":"'FORM 1-25'!U66:V66","v":0},null,null,{"$f":"'FORM 1-25'!X66:AE66","v":0}]
[null,null,{"$f":"Data!B157","v":"Datum:"},null,null,null,null,{"$f":"Data!B158","v":"Podpis:"},null,null,null,null,null,null,null,null,null,null,null,null,{"$f":"Data!B162","v":"Datum:"},null,null,{"$f":"Data!B163","v":"Podpis:"}]
["ŘK-11-4-013-11-0  "]

{"sheet":"FORM 276-300","index":13,"n_rows":68,"n_cols":32,"rows_kept":68,"cut":false,"hidden":true,"merged":[[30,0,30,2],[32,0,32,2],[31,0,31,2],[31,3,31,16],[27,19,27,21],[23,1,23,7],[32,3,32,16],[28,3,29,16],[30,3,30,16],[28,17,28,21],[28,0,29,2],[27,8,27,18],[25,1,25,7],[26,8,26,18],[23,8,23,18],[22,24,22,25],[22,19,22,23],[12,23,12,32],[13,23,13,32],[14,23,14,32],[15,23,15,32],[16,23,16,32],[17,23,17,32],[22,1,22,11],[22,12,22,15],[22,30,22,32],[22,26,22,29],[0,0,0,32],[22,16,22,17],[1,18,1,31],[11,0,11,32],[2,0,2,32],[21,19,21,24],[18,23,18,32],[21,1,21,13],[21,14,21,18],[21,25,21,32],[6,2,6,20],[5,2,5,20],[4,2,4,20],[4,22,4,32],[5,22,5,32],[6,22,6,32],[9,2,9,20],[8,2,8,20],[7,2,7,20],[7,22,7,32],[8,22,8,32],[9,22,9,32],[32,31,32,32],[31,29,31,30],[27,22,27,32],[24,22,24,32],[25,22,25,32],[28,22,28,26],[30,29,30,30],[30,31,30,32],[31,31,31,32],[32,29,32,30],[29,31,29,32],[28,29,28,32],[29,29,29,30],[25,8,25,18],[24,1,24,7],[29,27,29,28],[27,1,27,7],[26,1,26,7],[26,19,26,21],[25,19,25,21],[24,8,24,18],[26,22,26,32],[33,0,33,2],[36,0,36,2],[35,0,35,2],[40,0,40,2],[34,0,34,2],[33,29,33,30],[36,3,36,16],[35,3,35,16],[34,29,34,30],[40,3,40,16],[39,3,39,16],[37,29,37,30],[34,3,34,16],[39,29,39,30],[40,29,40,30],[40,31,40,32],[48,31,48,32],[48,29,48,30],[47,29,47,30],[46,29,46,30],[46,31,46,32],[42,29,42,30],[33,31,33,32],[36,29,36,30],[37,31,37,32],[35,31,35,32],[35,29,35,30],[34,31,34,32],[41,29,41,30],[39,31,39,32],[47,31,47,32],[42,31,42,32],[41,31,41,32],[44,29,44,30],[44,31,44,32],[38,31,38,32],[37,3,37,16],[38,0,38,2],[38,3,38,16],[39,0,39,2],[41,0,41,2],[41,3,41,16],[47,3,47,16],[48,3,48,16],[52,0,52,2],[46,0,46,2],[46,3,46,16],[51,0,51,2],[49,3,49,16],[47,0,47,2],[48,0,48,2],[49,0,49,2],[45,3,45,16],[50,3,50,16],[63,8,63,15],[63,16,63,18],[66,2,66,5],[62,1,62,7],[65,2,65,5],[66,23,66,30],[63,19,63,22],[65,20,65,21],[64,19,64,32],[65,23,65,30],[62,8,62,18],[62,23,62,32],[66,7,66,17],[63,1,63,7],[62,19,62,22],[65,7,65,17],[64,1,64,18],[66,20,66,21],[63,23,63,25],[63,26,63,32],[24,19,24,21],[23,19,23,21],[23,22,23,32],[55,19,55,32],[56,19,60,32],[52,31,52,32],[54,29,54,30],[61,23,61,32],[61,19,61,22],[50,31,50,32],[51,31,51,32],[49,29,49,30],[49,31,49,32],[51,29,51,30],[45,31,45,32],[45,29,45,30],[50,29,50,30],[53,31,53,32],[54,31,54,32],[53,29,53,30],[43,31,43,32],[61,1,61,7],[53,3,53,16],[51,3,51,16],[52,29,52,30],[42,0,42,2],[38,29,38,30],[36,31,36,32],[43,29,43,30],[33,3,33,16],[44,0,44,2],[44,3,44,16],[61,8,61,18],[45,0,45,2],[50,0,50,2],[56,1,60,18],[54,0,54,2],[54,3,54,16],[52,3,52,16],[55,1,55,18],[53,0,53,2],[43,0,43,2],[43,3,43,16],[42,3,42,16],[37,0,37,2]]}
[{"$f":"Data!IF90","v":0}]
[null,null,null,null,null,null,null,null,null,null,null,null,null,null,null,null,null,null,{"$f":"Data!B91","v":"Vzorkování"}]
[{"$f":"Data!B92","v":"Výsledky kontrol"}]
[]
[null,null,{"$f":"Data!B93","v":"Zpráva o kontrole prvních vzorků "},null,null,null,null,null,null,null,null,null,null,null,null,null,null,null,null,null,null,null,{"$f":"Data!B99","v":"Změna výrobních postupů"}]
[null,null,{"$f":"Data!B94","v":"Kontrola prvních vzorků"},null,null,null,null,null,null,null,null,null,null,null,null,null,null,null,null,null,null,null,{"$f":"Data!B100","v":"Delší přerušení výroby"}]
[null,null,{"$f":"Data!B95","v":"Nová kontrola vzorků"},null,null,null,null,null,null,null,null,null,null,null,null,null,null,null,null,null,null,null,{"$f":"Data!B101","v":"Nový subdodavatel"}]
[null,null,{"$f":"Data!B96","v":"Nový díl"},null,null,null,null,null,null,null,null,null,null,null,null,null,null,null,null,null,null,null,{"$f":"Data!B102","v":"Výrobek s DmbA"}]
[null,null,{"$f":"Data!B97","v":"Změna výrobku"},null,null,null,null,null,null,null,null,null,null,null,null,null,null,null,null,null,null,null,{"$f":"Data!B103","v":"Stanoven plán výroby/kontroly"}]
[null,null,{"$f":"Data!B98","v":"Přemístění a přerušení výroby delší 12 měsíců "},null,null,null,null,null,null,null,null,null,null,null,null,null,null,null,null,null,null,null,{"$f":"Data!B104","v":"Provedena FMEA"}]
[]
[{"$f":"Data!B105","v":"Přílohy"}]
[null,null,"01",{"$f":"Data!B106","v":"Rozměrová kontrola"},null,null,null,null,null,null,null,null,null,null,"09",{"$f":"Data!B114","v":"EMC-elmag. kompatabilita"},null,null,null,null,null,null,17,{"$f":"Data!B122","v":"Dokladování způsobilosti procesu"}]
[null,null,"02",{"$f":"Data!B107","v":"Funkční kontrola"},null,null,null,null,null,null,null,null,null,null,"10",{"$f":"Data!B115","v":"Kontrola spolehlivosti"},null,null,null,null,null,null,18,{"$f":"Data!B123","v":"List dat o bezpečnosti dle ES"}]
[null,null,"03",{"$f":"Data!B108","v":"Kontrola materiálu"},null,null,null,null,null,null,null,null,null,null,"11",{"$f":"Data!B116","v":"Konstrukční FMEA"},null,null,null,null,null,null,19,{"$f":"Data!B124","v":"Materiálový list IMDS"}]
[null,null,"04",{"$f":"Data!B109","v":"Pohmat"},null,null,null,null,null,null,null,null,null,null,"12",{"$f":"Data!B117","v":"Uvolnění konstrukce"},null,null,null,null,null,null,20,{"$f":"Data!B125","v":"Certifikáty"}]
[null,null,"05",{"$f":"Data!B110","v":"Hluk"},null,null,null,null,null,null,null,null,null,null,"13",{"$f":"Data!B118","v":"Procesní FMEA"},null,null,null,null,null,null,21,{"$f":"Data!B126","v":"Transportní prostředky, balení"}]
[null,null,"06",{"$f":"Data!B111","v":"Pach"},null,null,null,null,null,null,null,null,null,null,"14",{"$f":"Data!B119","v":"Diagram průběhu procesu"},null,null,null,null,null,null,22,{"$f":"Data!B127","v":"Prověrka procesu"}]
[null,null,"07",{"$f":"Data!B112","v":"Vzhled"},null,null,null,null,null,null,null,null,null,null,"15",{"$f":"Data!B120","v":"Kontrolní plán a seznam kontrolních prostředků"},null,null,null,null,null,null,23,{"$f":"Data!B128","v":"Ostatní"}]
[null,null,"08",{"$f":"Data!B113","v":"Povrch"},null,null,null,null,null,null,null,null,null,null,"16",{"$f":"Data!B121","v":"Průkaz způsobilosti kontr. prostředků"}]
[]
[null,{"$f":"Data!B129","v":"Identifikační číslo dodavatele:"},null,null,null,null,null,null,null,null,null,null,null,null,{"$f":"FORM!O29","v":0},null,null,null,null,{"$f":"Data!B137","v":"Identifikační číslo zákazníka"},null,null,null,null,null,{"$f":"FORM!AK29","v":0}]
[null,{"$f":"Data!B130","v":"Číslo zprávy o kontrole: "},null,null,null,null,null,null,null,null,null,null,{"$f":"FORM!N30","v":0},null,null,null,{"$f":"Data!B131","v":"Verze:"},null,{"$f":"FORM!T30","v":0},{"$f":"Data!B138","v":"Číslo zprávy o kontrole: "},null,null,null,null,{"$f":"FORM!AI30","v":0},null,{"$f":"Data!B139","v":"Verze:"},null,null,null,{"$f":"FORM!AR30","v":0}]
[null,{"$f":"Data!B132","v":"Číslo dílu:"},null,null,null,null,null,null,{"$f":"FORM!I31","v":0},null,null,null,null,null,null,null,null,null,null,{"$f":"Data!B140","v":"Číslo dílu:"},null,null,{"$f":"FORM!AD31","v":0}]
[null,{"$f":"Data!B133","v":"Číslo výkresu: "},null,null,null,null,null,null,{"$f":"FORM!I32","v":0},null,null,null,null,null,null,null,null,null,null,{"$f":"Data!B141","v":"Číslo výkresu: "},null,null,{"$f":"FORM!AD32","v":0}]
[null,{"$f":"Data!B134","v":"Stav / Datum:"},null,null,null,null,null,null,{"$f":"FORM!I33","v":0},null,null,null,null,null,null,null,null,null,null,{"$f":"Data!B142","v":"Stav / Datum:"},null,null,{"$f":"FORM!AD33","v":0}]
[null,{"$f":"Data!B135","v":"Číslo změny:"},null,null,null,null,null,null,{"$f":"FORM!I34","v":0},null,null,null,null,null,null,null,null,null,null,{"$f":"Data!B143","v":"Číslo změny:"},null,null,{"$f":"FORM!AD34","v":0}]
[null,{"$f":"Data!B136","v":"Název:"},null,null,null,null,null,null,{"$f":"FORM!I35","v":0},null,null,null,null,null,null,null,null,null,null,{"$f":"Data!B144","v":"Název:"},null,null,{"$f":"FORM!AD35","v":0}]
[{"$f":"Data!B145","v":"Číslo"},null,null,{"$f":"Data!B146","v":"Požadavky"},null,null,null,null,null,null,null,null,null,null,null,null,null,{"$f":"Data!B147","v":"Skutečné hodnoty - dodavatel"},null,null,null,null,{"$f":"Data!B148","v":"Skutečné hodnoty - zákazník"},null,null,null,null,"=Data!R[119]C[-23]",null,{"$f":"Data!B149","v":"Hodnocení"}]
[null,null,null,null,null,null,null,null,null,null,null,null,null,null,null,null,null,"1.","2.","3.","4.","5.","1.","2.","3.","4.","5.","Ano",null,{"$f":"Data!B150","v":"Ano"},null,{"$f":"Data!B151","v":"Ne"}]
["276."]
["277."]
["278."]
["279."]
["280."]
["281."]
["282."]
["283."]
["284."]
["285."]
["286."]
["287."]
["288."]
["289."]
["290."]
["291."]
["292."]
["293."]
["294."]
["295."]
["296."]
["297."]
["298."]
["299."]
["300."]
[null,{"$f":"Data!B152","v":"Dodavatel/poznámka:"},null,null,null,null,null,null,null,null,null,null,null,null,null,null,null,null,null,{"$f":"Data!B153","v":"Zákazník/poznámka:"}]
[]
[]
[]
[]
[]
[null,{"$f":"Data!B154","v":"Jméno:"},null,null,null,null,null,null,{"$f":"'FORM 1-25'!I62:S62","v":0},null,null,null,null,null,null,null,null,null,null,{"$f":"Data!B159","v":"Jméno:"},null,null,null,{"$f":"'FORM 1-25'!X62:AG62","v":0}]
[null,{"$f":"Data!B155","v":"Oddělení: "},null,null,null,null,null,null,{"$f":"'FORM 1-25'!I63:S63","v":0},null,null,null,null,null,null,null,null,null,null,{"$f":"Data!B160","v":"Oddělení: "},null,null,null,{"$f":"'FORM 1-25'!X63:AG63","v":0}]
[null,{"$f":"Data!B156","v":"E-Mail/Telefon:"},null,null,null,null,null,null,{"$f":"'FORM 1-25'!I64:P64","v":0},null,null,null,null,null,null,null,{"$f":"'FORM 1-25'!Q64:S64","v":0},null,null,{"$f":"Data!B161","v":"E-Mail/Telefon:"},null,null,null,{"$f":"'FORM 1-25'!X64:Z64","v":0},null,null,{"$f":"'FORM 1-25'!AA64:AG64","v":0}]
[]
[null,null,{"$f":"'FORM 1-25'!C66:F66","v":0},null,null,null,null,{"$f":"'FORM 1-25'!H66:R66","v":0},null,null,null,null,null,null,null,null,null,null,null,null,{"$f":"'FORM 1-25'!U66:V66","v":0},null,null,{"$f":"'FORM 1-25'!X66:AE66","v":0}]
[null,null,{"$f":"Data!B157","v":"Datum:"},null,null,null,null,{"$f":"Data!B158","v":"Podpis:"},null,null,null,null,null,null,null,null,null,null,null,null,{"$f":"Data!B162","v":"Datum:"},null,null,{"$f":"Data!B163","v":"Podpis:"}]
["ŘK-11-4-013-11-0   "]

{"sheet":"FORM IMDS","index":14,"n_rows":69,"n_cols":41,"rows_kept":69,"cut":false,"hidden":false,"merged":[[7,2,7,20],[7,23,7,40],[0,0,0,42],[1,8,1,42],[4,1,4,21],[4,22,4,42],[2,0,2,42],[5,2,5,20],[12,22,12,26],[11,2,11,20],[12,2,12,20],[16,2,16,9],[14,22,14,31],[13,2,13,20],[13,22,13,26],[13,27,13,41],[14,40,14,41],[14,35,14,39],[12,27,12,41],[9,22,9,26],[16,10,16,20],[15,2,15,9],[29,1,29,41],[31,35,31,41],[17,10,17,20],[22,31,22,36],[31,1,31,14],[31,15,31,23],[30,31,30,34],[30,35,30,41],[31,24,31,26],[17,2,17,9],[20,2,20,20],[15,10,15,20],[14,32,14,34],[9,27,9,41],[10,27,10,41],[11,27,11,41],[9,2,9,20],[10,22,10,26],[11,22,11,26],[10,2,10,20],[32,35,32,41],[32,1,32,14],[32,15,32,23],[32,24,32,26],[32,27,32,30],[26,2,27,41],[30,1,30,14],[30,15,30,23],[30,24,30,26],[31,31,31,34],[33,24,33,26],[33,27,33,30],[34,1,34,14],[34,15,34,23],[33,1,33,14],[33,15,33,23],[33,31,33,34],[32,31,32,34],[18,2,18,9],[18,10,18,20],[24,4,24,23],[22,4,22,30],[36,1,36,14],[36,15,36,23],[35,1,35,14],[35,15,35,23],[36,24,36,26],[36,27,36,30],[31,27,31,30],[30,27,30,30],[39,1,39,14],[39,15,39,23],[38,24,38,26],[38,27,38,30],[38,1,38,14],[38,15,38,23],[37,1,37,14],[37,15,37,23],[37,24,37,26],[37,27,37,30],[37,31,37,34],[37,35,37,41],[39,24,39,26],[39,27,39,30],[39,31,39,34],[39,35,39,41],[38,31,38,34],[38,35,38,41],[33,35,33,41],[35,24,35,26],[35,27,35,30],[35,31,35,34],[35,35,35,41],[34,31,34,34],[34,35,34,41],[34,24,34,26],[34,27,34,30],[36,31,36,34],[36,35,36,41],[40,35,40,41],[41,31,41,34],[41,35,41,41],[43,31,43,34],[43,35,43,41],[40,1,40,14],[40,15,40,23],[40,24,40,26],[40,27,40,30],[42,31,42,34],[42,35,42,41],[41,1,41,14],[41,15,41,23],[41,24,41,26],[41,27,41,30],[42,1,42,14],[42,15,42,23],[43,1,43,14],[43,15,43,23],[43,24,43,26],[43,27,43,30],[42,24,42,26],[42,27,42,30],[40,31,40,34],[44,35,44,41],[45,31,45,34],[45,35,45,41],[47,31,47,34],[47,35,47,41],[44,1,44,14],[44,15,44,23],[44,24,44,26],[44,27,44,30],[46,31,46,34],[46,35,46,41],[45,1,45,14],[45,15,45,23],[45,24,45,26],[45,27,45,30],[46,1,46,14],[46,15,46,23],[47,1,47,14],[47,15,47,23],[47,24,47,26],[47,27,47,30],[46,24,46,26],[46,27,46,30],[44,31,44,34],[48,35,48,41],[49,31,49,34],[49,35,49,41],[51,31,51,34],[51,35,51,41],[48,1,48,14],[48,15,48,23],[48,24,48,26],[48,27,48,30],[50,31,50,34],[50,35,50,41],[49,1,49,14],[49,15,49,23],[49,24,49,26],[49,27,49,30],[50,1,50,14],[50,15,50,23],[51,1,51,14],[51,15,51,23],[51,24,51,26],[51,27,51,30],[50,24,50,26],[50,27,50,30],[48,31,48,34],[52,31,52,34],[52,35,52,41],[53,31,53,34],[53,35,53,41],[54,31,54,34],[54,35,54,41],[52,1,52,14],[52,15,52,23],[52,24,52,26],[52,27,52,30],[53,1,53,14],[53,15,53,23],[53,24,53,26],[53,27,53,30],[55,31,55,34],[55,35,55,41],[55,24,55,26],[55,27,55,30],[56,35,56,41],[57,31,57,34],[57,35,57,41],[54,1,54,14],[54,15,54,23],[55,1,55,14],[55,15,55,23],[56,24,56,26],[56,27,56,30],[56,1,56,14],[56,15,56,23],[54,24,54,26],[54,27,54,30],[58,31,58,34],[58,35,58,41],[60,1,60,14],[60,15,60,23],[60,24,60,26],[56,31,56,34],[57,1,57,14],[57,15,57,23],[57,24,57,26],[57,27,57,30],[59,31,59,34],[59,35,59,41],[60,31,60,34],[60,27,60,30],[60,35,60,41],[59,24,59,26],[59,27,59,30],[61,15,61,23],[61,24,61,26],[61,27,61,30],[61,35,61,41],[61,31,61,34],[59,1,59,14],[59,15,59,23],[63,1,63,14],[63,15,63,23],[63,24,63,26],[63,27,63,30],[58,1,58,14],[58,15,58,23],[61,1,61,14],[58,24,58,26],[58,27,58,30],[63,35,63,41],[62,1,62,14],[62,15,62,23],[62,24,62,26],[65,31,65,34],[65,35,65,41],[64,1,64,14],[62,35,62,41],[62,31,62,34],[65,27,65,30],[64,15,64,23],[64,24,64,26],[64,27,64,30],[62,27,62,30],[63,31,63,34],[64,31,64,34],[64,35,64,41],[65,1,65,14],[65,15,65,23],[65,24,65,26],[66,1,66,14],[66,15,66,23],[66,24,66,26],[66,27,66,30],[66,31,66,34],[66,35,66,41]]}
[{"$f":"Data!IP167","v":0}]
[null,null,null,null,null,null,null,null,{"$f":"Data!B168","v":"IMDS REPORT"}]
[]
[]
[]
[null,"1. Označení firmy a výrobku",{"$f":"Data!B169","v":"Údaje o výrobci a výrobku"}]
[]
[null,"1.1",{"$f":"Data!B170","v":"Údaje o dodavateli"},null,null,null,null,null,null,null,null,null,null,null,null,null,null,null,null,null,null,null,"1.2",{"$f":"Data!B175","v":"Údaje o výrobku"}]
[]
[null,null,{"$f":"FORM!B6","v":0},null,null,null,null,null,null,null,null,null,null,null,null,null,null,null,null,null,null,null,{"$f":"Data!B176","v":"Číslo dílu:"},null,null,null,null,{"$f":"FORM!AD31","v":0}]
[null,null,{"$f":"FORM!B7","v":0},null,null,null,null,null,null,null,null,null,null,null,null,null,null,null,null,null,null,null,{"$f":"Data!B177","v":"Název:"},null,null,null,null,{"$f":"FORM!AD35","v":0}]
[null,null,{"$f":"FORM!B8","v":0},null,null,null,null,null,null,null,null,null,null,null,null,null,null,null,null,null,null,null,{"$f":"Data!B178","v":"Číslo výkresu:"},null,null,null,null,{"$f":"FORM!AD32","v":0}]
[null,null,{"$f":"FORM!B9","v":0},null,null,null,null,null,null,null,null,null,null,null,null,null,null,null,null,null,null,null,{"$f":"Data!B179","v":"Stav / datum:"},null,null,null,null,{"$f":"FORM!AD33","v":0}]
[null,null,{"$f":"FORM!B10","v":0},null,null,null,null,null,null,null,null,null,null,null,null,null,null,null,null,null,null,null,{"$f":"Data!B180","v":"Číslo změny:"},null,null,null,null,{"$f":"FORM!AD34","v":0}]
[null,null,null,null,null,null,null,null,null,null,null,null,null,null,null,null,null,null,null,null,null,null,{"$f":"Data!B181","v":"Číslo zprávy o kontrole:"},null,null,null,null,null,null,null,null,null,{"$f":"FORM!AI30","v":0},null,null,{"$f":"Data!B182","v":"Verze:"},null,null,null,null,{"$f":"FORM!AR30","v":0}]
[null,null,{"$f":"Data!B171","v":"Kontaktní osoba: "}]
[null,null,{"$f":"Data!B172","v":"Telefon:"}]
[null,null,{"$f":"Data!B173","v":"Fax:"}]
[null,null,{"$f":"Data!B174","v":"E-mail: "}]
[]
[null,"2.",{"$f":"Data!B183","v":"Charakteristika komponent"}]
[]
[null,null,null,null,{"$f":"Data!B184","v":"Byl vytvořen datový soubor IMDS (http://www.mdsystem.com) pod číslem IMDS-ID-Nr.:"}]
[]
[null,null,null,null,{"$f":"Data!B185","v":"Nebyl vytvořen datový soubor IMDS "}]
[]
[null,null,{"$f":"Data!B186","v":"Pokud datový soubor IMDS nebyl vytvořen, doplňte následující tabulku. Musí být zadány všechny materiály a látky (včetně chemického složení materiálu) a povinně deklarované látky (podle VDA 232-102, směrnice EU 2000/53 ES).  "}]
[]
[]
[]
[null,{"$f":"Data!B187","v":"Název dílu / materiálu / látky"},null,null,null,null,null,null,null,null,null,null,null,null,null,{"$f":"Data!B188","v":"Číslo dílu / materiálu"},null,null,null,null,null,null,null,null,{"$f":"Data!B189","v":"Množství"},null,null,{"$f":"Data!B190","v":"Hmotnost\n(g)"},null,null,null,{"$f":"Data!B191","v":"Podíl \n(%)"},null,null,null,{"$f":"Data!B192","v":"Podíl \n(od - do)\n(%)"}]
[]
[]
[]
[]
[]
[]
[]
[]
[]
[]
[]
[]
[]
[]
[]
[]
[]
[]
[]
[]
[]
[]
[]
[]
[]
[]
[]
[]
[]
[]
[]
[]
[]
[]
[]
[]
[]
["ŘK-11-4-013-11-0  "]

{"sheet":"Vykres","index":15,"n_rows":0,"n_cols":0,"rows_kept":0,"cut":false,"hidden":false,"merged":[]}

{"sheet":"Posudek","index":16,"n_rows":0,"n_cols":0,"rows_kept":0,"cut":false,"hidden":false,"merged":[]}

{"sheet":"Ostatni","index":17,"n_rows":0,"n_cols":0,"rows_kept":0,"cut":false,"hidden":false,"merged":[]}

{"sheet":"Data","index":18,"n_rows":192,"n_cols":5,"rows_kept":192,"cut":false,"hidden":true,"merged":[]}
[null,"FORM"]
[null,"ČESKY","English","DEUTSCH","ПО-РУССКИ"]
[null,"Vzorkování","Quality Assurance","Qualitätssicherung","Отбор пробы"]
[null,"Titulní list","Cover sheet","Deckblatt","Титульный лист              "]
[null,"Dodavatel","Supplier","Lieferant","Поставщик "]
[null,"Zákazník","Customer","Kunde","Покупатель"]
[null,"Zpráva o kontrole prvních vzorků ","Initial sample inspection report VDA","Erstmusterprüfbericht VDA","Отчёт о результате тестирования первых образцов"]
[null,"Kontrola prvních vzorků","Initial sample inspection","Erstbemusterung","Тестирование первых образцов Тестирование первых образцов "]
[null,"Nová kontrola vzorků","Subsequent sample inspection","Nachbemusterung","Новое тестирование образцов"]
[null,"Nový díl","New part","Neuteil","Новая деталь"]
[null,"Změna výrobku","Product modification","Produktänderung","Изменение продукции"]
[null,"Přemístění a přerušení výroby delší 12 měsíců ","Production relocation","Produktionsverlagerung","Перенос производства или перерыв впроизводстве дольше 12 месяцев"]
[null,"Změna výrobních postupů","Change of production process","Änderung von Produktionsverfahren","Изменение последовательности в производстве"]
[null,"Delší přerušení výroby","Longer stoppage of production","Längeres Aussetzen der Fertigung","Другие изменения в производстве"]
[null,"Nový subdodavatel","New sub-supplier","Neuer Unterlieferant","Новый субподрядчик"]
[null,"Výrobek s DmbA","Product with DwSpA","Dokumentationspflichtiges Teil","Продукция с DwSpA"]
[null,"Stanoven plán výroby/kontroly","Production/Inspection and Test Plan prepared","Fertigungs-/Prüfplan erstellt","Предусмотренный план производства/контроля"]
[null,"Provedena FMEA","FMEA finisched","FMEA durchgeführt","Проведённая FMEA"]
[null,"Přílohy","Attachment","Anlagen","Приложение"]
[null,"Rozměrová kontrola","Dimensional Check","Maßprüfung","Измерительное тестирование"]
[null,"Funkční kontrola","Functional Test","Funktionsprüfung","Действующее тестирование"]
[null,"Kontrola materiálu","Material Test","Werkstoffprüfung","Тест материала"]
[null,"Pohmat","Haptics","Haptik","На ощупь"]
[null,"Hluk","Acoustics","Akustik","На шум"]
[null,"Pach","Smell","Geruch","На запах"]
[null,"Vzhled","Appearance","Erscheinungsbild","На вид"]
[null,"Povrch","Surface","Oberflache","Поверхность"]
[null,"EMC-elmag. kompatabilita","Electromagnetic Compatibility","EMC  - elektromagnetische kompaktibilität","Electromagnetic Compatibility"]
[null,"Kontrola spolehlivosti","Reliability Test","Zuverlässigkeitsprüfung","Тест надёжности"]
[null,"Konstrukční FMEA","DFMEA","DFMEA","DFMEA"]
[null,"Uvolnění konstrukce","Design Release","Konstruktionsfreigabe","Ослабление конструкции"]
[null,"Procesní FMEA","PFMEA","PFMEA","PFMEA"]
[null,"Diagram průběhu procesu","Process Flow Chart","Prozessablaufdiagramm","График процедуры процесса"]
[null,"Kontrolní plán a seznam kontrolních prostředků","Control plan and  List of measuring equipments","Kontrollplan und Prüfmittelliste","План тестирование и перечень средств контроля"]
[null,"Průkaz způsobilosti kontr. prostředků","Evidence of Inspection and Test Equipment Capability","Prüfmittelfähigkeitsnachweis","Документ платности тестирования/средств контроля "]
[null,"Dokladování způsobilosti procesu","Process Capability Evidence","Prozessfähigkeitsnachweis","Документ о платности процесса"]
[null,"List dat o bezpečnosti dle ES","EU-Data Safety Sheet","EG-Datensicherheitsblatt","Протокол о безопасности по EU"]
[null,"Materiálový list IMDS","Materials in Purchased Instruction","Materialdattenblatt IMDS","Протокол материала покупаемых деталей"]
[null,"Certifikáty","Certificates","Zertifikate","Сертификат"]
[null,"Transportní prostředky, balení","Packing Instruction","Transportmittel, Verpackung","Транспортные средства, упаковывание"]
[null,"Prověrka procesu","Process Audit","Prozessüberprüfung","Процесс проверки"]
[null,"Ostatní","Other","Sonstiges","Остальное"]
[null,"Identifikační číslo dodavatele:","Code number, supplier:","Kennnummer Lieferant:","Индефикационный номер поставщика:"]
[null,"Číslo zprávy o kontrole: ","Insp.report No.:    ","Prüfberichtsnummer:","№ отчёта результа тестирование:    "]
[null,"Verze:","Version:","Version:","Варианты:      "]
[null,"Číslo dílu:","Part No.:","Sachnummer:","Номер детали:"]
[null,"Číslo výkresu: ","Drawing No.:","Zeichnungsnummer:","Номер чертежа:"]
[null,"Stav / Datum:","Version/ Date:","Stand/Datum:","Состояние/Дата:"]
[null,"Číslo změny:","Modification No.:","Änderungsnummer:","Номер изменений"]
[null,"Název:","Part description:","Benennung:","Название:"]
[null,"Číslo a datum dodávky:","Order No./date:","Bestellabruf-Nr./datum","Номер и дата поставки:"]
[null,"Identifikační číslo zákazníka","Code number, customer:","Kennnummer Kunde:","Индефикационный номер заказчика:"]
[null,"Číslo zprávy o kontrole: ","Insp.report No.:    ","Prüfberichtsnummer:","№ отчёта результа тестирование:      "]
[null,"Verze:","Version:","Version:","Варианты:"]
[null,"Číslo dílu:","Part No.:","Sachnummer:","Номер детали:"]
[null,"Číslo výkresu: ","Drawing No.:","Zeichnungsnummer:","Номер чертежа:"]
[null,"Stav / Datum:","Version/ Date:","Stand/Datum:","Состояние/Дата:"]
[null,"Číslo změny:","Modification No.:","Änderungsnummer:","Номер изменений"]
[null,"Název:","Part description:","Benennung:","Название:"]
[null,"Číslo dodacího listu/datum:","Invoice No./date:","Lieferschein-Nr./datum:","Номер накладной о поставке /-дата:"]
[null,"Dodané množství:","Delivery quantity:","Liefermenge:","Поставленое количество:"]
[null,"Číslo šarže:","Batch number:","Chargennummer:","Номер партии"]
[null,"Hmotnost vzorku:","Sample wieght:","Mustergewicht:","Масса (вес) образцов:"]
[null,"Číslo příjmu zboží/datum:","Advice note/date:","Wareneingangs-Nr./datum","Номер накладной о принятие/-дата:"]
[null,"Místo složení:  ","Unloading:","Abladestelle:","Место складирование :"]
[null,"Potvrzení, dodavatel: ","Confirmation supplier:","Bestätigung Lieferant:","Потверждение, поставщик : "]
[null,"Tímto se potvrzuje, že byla provedena kontrola vzorků v souladu se svazkem VDA 2, kap.4","It is hereby confirmed that the samples inspection were carried out in accordance with VDA document, Volume 2 , Article 4","Hiermit wird bestätigt, dass die Bemusterungen entsprechend der VDA Schrift 2 Ziffer 4 durchgeführt worden sind.","Этим потверждаю, что было произведенно тестирование образцов в согласии с нормативом VDA 2, глава 4"]
[null,"Jméno:","Name:","Name:","Ф. И. О:"]
[null,"Oddělení: ","Department:","Abteilung:","Управление:"]
[null,"E-Mail/Telefon:","E-mail/Phone: ","E-Mail/Telefon: ","E-Mail/Телефон:"]
[null,"Datum:","Date:","Datum:","Дата::"]
[null,"Podpis:","Signature:","Unterschrift:","Подпись:"]
[null,"Poznámka: ","Comment:","Bemerkung:","Примечание:"]
[null,"Rozhodnutí zákazníka:","Decision Customer","Entscheidung Kunde","Решение заказчика:"]
[null,"Celkem","Overall","gesamt","всего:"]
[null,"Podle druhu","According to appendix","gemäß Anlage","Повидовой"]
[null,"Uvolněno: ","Approved:","frei ","одобренно"]
[null,"Podmínečně uvolněno:","Concession:","Sonderfreigabe","Одобренно с условием"]
[null,"Zamítnuto, nutná nová kontrola vzorků:","Rejected,new samples required:","abgelehnt, Nachbemusterung erforderlich","Не одобренно, нужно новое тестирование образцов"]
[null,"Číslo povolení odchylky:","Deviation-approving-No.","Abweich-Genehmigungs-Nr.","Номер разрешения отклонения:"]
[null,"Při vrácení číslo a datum dodacího listu:","In case of return delivery note No./date:","bei Rücksendung Lieferschein-Nr./datum:","При возврате, номер и дата накладной:"]
[null,"Jméno:","Name:","Name:","Ф. И. О:"]
[null,"Oddělení: ","Department:","Abteilung:","Управление:"]
[null,"E-Mail/Telefon:","E-mail/Phone: ","E-Mail/Telefon: ","E-Mail/Телефон:"]
[null,"Datum:","Date:","Datum:","Дата::"]
[null,"Podpis:","Signature:","Unterschrift:","Подпись:"]
[null,"Poznámka: ","Comment:","Bemerkung:","Примечание:"]
[]
[null,"FORM 1…."]
[null,"ČESKY","English","DEUTSCH","ПО-РУССКИ"]
[null,"Vzorkování","Quality Assurance","Qualitätssicherung","Отбор пробы"]
[null,"Výsledky kontrol","Results of check","Prüfergebnisse","Результат тестирования"]
[null,"Zpráva o kontrole prvních vzorků ","Initial sample inspection report VDA","Erstmusterprüfbericht VDA","Отчёт о результате тестирования первых образцов"]
[null,"Kontrola prvních vzorků","Initial sample inspection","Erstbemusterung","Тестирование первых образцов Тестирование первых образцов "]
[null,"Nová kontrola vzorků","Subsequent sample inspection","Nachbemusterung","Новое тестирование образцов"]
[null,"Nový díl","New part","Neuteil","Новая деталь"]
[null,"Změna výrobku","Product modification","Produktänderung","Изменение продукции"]
[null,"Přemístění a přerušení výroby delší 12 měsíců ","Production relocation","Produktionsverlagerung","Перенос производства или перерыв впроизводстве дольше 12 месяцев"]
[null,"Změna výrobních postupů","Change of production process","Änderung von Produktionsverfahren","Изменение последовательности в производстве"]
[null,"Delší přerušení výroby","Longer stoppage of production","Längeres Aussetzen der Fertigung","Другие изменения в производстве"]
[null,"Nový subdodavatel","New sub-supplier","Neuer Unterlieferant","Новый субподрядчик"]
[null,"Výrobek s DmbA","Product with DwSpA","Dokumentationspflichtiges Teil","Продукция с DwSpA"]
[null,"Stanoven plán výroby/kontroly","Production/Inspection and Test Plan prepared","Fertigungs-/Prüfplan erstellt","Предусмотренный план производства/контроля"]
[null,"Provedena FMEA","FMEA finisched","FMEA durchgeführt","Проведённая FMEA"]
[null,"Přílohy","Attachment","Anlagen","Приложение"]
[null,"Rozměrová kontrola","Dimensional Check","Maßprüfung","Измерительное тестирование"]
[null,"Funkční kontrola","Functional Test","Funktionsprüfung","Действующее тестирование"]
[null,"Kontrola materiálu","Material Test","Werkstoffprüfung","Тест материала"]
[null,"Pohmat","Haptics","Haptik","На ощупь"]
[null,"Hluk","Acoustics","Akustik","На шум"]
[null,"Pach","Smell","Geruch","На запах"]
[null,"Vzhled","Appearance","Erscheinungsbild","На вид"]
[null,"Povrch","Surface","Oberfläche","Поверхность"]
[null,"EMC-elmag. kompatabilita","Electromagnetic Compatibility","EMC  - elektromagnetische kompaktibilität","Electromagnetic Compatibility"]
[null,"Kontrola spolehlivosti","Reliability Test","Zuverlässigkeitsprüfung","Тест надёжности"]
[null,"Konstrukční FMEA","DFMEA","DFMEA","DFMEA"]
[null,"Uvolnění konstrukce","Design Release","Konstruktionsfreigabe","Ослабление конструкции"]
[null,"Procesní FMEA","PFMEA","PFMEA","PFMEA"]
[null,"Diagram průběhu procesu","Process Flow Chart","Prozessablaufdiagramm","График процедуры процесса"]
[null,"Kontrolní plán a seznam kontrolních prostředků","Control plan and  List of measuring equipments","Kontrollplan und Prüfmittelliste","План тестирование и перечень средств контроля"]
[null,"Průkaz způsobilosti kontr. prostředků","Evidence of Inspection and Test Equipment Capability","Prüfmittelfähigkeitsnachweis","Документ платности тестирования/средств контроля "]
[null,"Dokladování způsobilosti procesu","Process Capability Evidence","Prozessfähigkeitsnachweis","Документ о платности процесса"]
[null,"List dat o bezpečnosti dle ES","EU-Data Safety Sheet","EG-Datensicherheitsblatt","Протокол о безопасности по EU"]
[null,"Materiálový list IMDS","Materials in Purchased Instruction","Materialdattenblatt IMDS","Протокол материала покупаемых деталей"]
[null,"Certifikáty","Certificates","Zertifikate","Сертификат"]
[null,"Transportní prostředky, balení","Packing Instruction","Transportmittel, Verpackung","Транспортные средства, упаковывание"]
[null,"Prověrka procesu","Process Audit","Prozessüberprüfung","Процесс проверки"]
[null,"Ostatní","Other","Sonstiges","Остальное"]
[null,"Identifikační číslo dodavatele:","Code number, supplier:","Kennnummer Lieferant:","Индефикационный номер поставщика:"]
[null,"Číslo zprávy o kontrole: ","Insp.report No.:    ","Prüfberichtsnummer:","№ отчёта результа тестирование:    "]
[null,"Verze:","Version:","Version:","Варианты:      "]
[null,"Číslo dílu:","Part No.:","Sachnummer:","Номер детали:"]
[null,"Číslo výkresu: ","Drawing No.:","Zeichnungsnummer:","Номер чертежа:"]
[null,"Stav / Datum:","Version/ Date:","Stand/Datum:","Состояние/Дата:"]
[null,"Číslo změny:","Modification No.:","Änderungsnummer:","Номер изменений"]
[null,"Název:","Part description:","Benennung:","Название:"]
[null,"Identifikační číslo zákazníka","Code number, customer:","Kennnummer Kunde:","Индефикационный номер заказчика:"]
[null,"Číslo zprávy o kontrole: ","Insp.report No.:    ","Prüfberichtsnummer:","№ отчёта результа тестирование:      "]
[null,"Verze:","Version:","Version:","Варианты:"]
[null,"Číslo dílu:","Part No.:","Sachnummer:","Номер детали:"]
[null,"Číslo výkresu: ","Drawing No.:","Zeichnungsnummer:","Номер чертежа:"]
[null,"Stav / Datum:","Version/ Date:","Stand/Datum:","Состояние/Дата:"]
[null,"Číslo změny:","Modification No.:","Änderungsnummer:","Номер изменений"]
[null,"Název:","Part description:","Benennung:","Название:"]
[null,"Číslo","No.","Nr.","№"]
[null,"Požadavky","Nominal value","Forderungen","Запросы"]
[null,"Skutečné hodnoty - dodavatel","Real values - supplier","Ist - Werte Lieferant","Существующие данные - поставщик"]
[null,"Skutečné hodnoty - zákazník","Real values - customer","Ist - Werte Kunde","Существующие данные - заказчик"]
[null,"Hodnocení","Evalution","Bewertung","Оценка "]
[null,"Ano","Yes","Ja ","да"]
[null,"Ne","No","Nein","нет"]
[null,"Dodavatel/poznámka:","Supplier/Comment","Lieferant/Bemerkung","Поставщик - Примечание:"]
[null,"Zákazník/poznámka:","Customer/Comment","Kunde/Bemerkung","Примечание заказчика:"]
[null,"Jméno:","Name:","Name:","Ф. И. О:"]
[null,"Oddělení: ","Department:","Abteilung:","Управление:"]
[null,"E-Mail/Telefon:","E-mail/Phone: ","E-Mail/Telefon: ","E-Mail/Телефон:"]
[null,"Datum:","Date:","Datum:","Дата::"]
[null,"Podpis:","Signature:","Unterschrift:","Подпись:"]
[null,"Jméno:","Name:","Name:","Ф. И. О:"]
[null,"Oddělení: ","Department:","Abteilung:","Управление:"]
[null,"E-Mail/Telefon:","E-mail/Phone: ","E-Mail/Telefon: ","E-Mail/Телефон:"]
[null,"Datum:","Date:","Datum:","Дата::"]
[null,"Podpis:","Signature:","Unterschrift:","Подпись:"]
[]
[]
[null,"FORM IMDS"]
[null,"ČESKY","English","DEUTSCH","ПО-РУССКИ"]
[null,"IMDS REPORT","IMDS REPORT","IMDS Nr.:","IMDS РЕПОРТ"]
[null,"Údaje o výrobci a výrobku","Data about producer and product","Daten über den Hersteller und den Produkt","Данные о производителе и продукте"]
[null,"Údaje o dodavateli","Supplier data","Daten über den Lieferant","Данные о поставщике"]
[null,"Kontaktní osoba: ","Contact person","Kontaktpersone","Контактное лицо:"]
[null,"Telefon:","Phone:","Telefon:","Телефон:"]
[null,"Fax:","Fax: ","Fax:","Факс:"]
[null,"E-mail: ","E-mail: ","E-mail: ","E-Mail:"]
[null,"Údaje o výrobku","Data about product","Daten über den Produkt","Данные о продукте"]
[null,"Číslo dílu:","Part No.:","Sachnummer:","Номер детали:"]
[null,"Název:","Part description:","Benennung:","Название:"]
[null,"Číslo výkresu:","Drawing No.:","Zeichnungsnummer:","Номер чертежа:"]
[null,"Stav / datum:","Version/ Date:","Stand/Datum:","Состояние/Дата:"]
[null,"Číslo změny:","Modification No.:","Änderungsnummer:","Номер изменений"]
[null,"Číslo zprávy o kontrole:","Insp.report No.:    ","Prüfberichtsnummer:","№ отчёта результа тестирование:    "]
[null,"Verze:","Version:","Version:","Варианты:      "]
[null,"Charakteristika komponent","Characterization of the Component","Komponentencharakteristik","Характеристика компонентов"]
[null,"Byl vytvořen datový soubor IMDS (http://www.mdsystem.com) pod číslem IMDS-ID-Nr.:","A data file IMDS was created (http://www.mdsystem.com) under document number IMDS- ID- Nr.:","Datenbestand IMDS ist gebildet (http://www.mdsystem.com) IMDS-ID-Nr.:","Был создан файл данных IMDS (http://www.mdsystem.com) под номером IMDS-ID-№"]
[null,"Nebyl vytvořen datový soubor IMDS ","It wasn't created data file IMDS ","Datenbestand IMDS ist nicht gebildet","Не был создан файл данных IMDS"]
[null,"Pokud datový soubor IMDS nebyl vytvořen, doplňte následující tabulku. Musí být zadány všechny materiály a látky (včetně chemického složení materiálu) a povinně deklarované látky (podle VDA 232-102, směrnice EU 2000/53 ES).  ","If the data file IMDS wasn't created complete the following tables. All materials, substances (including chemical composition of material) and duly declare substances (after VDA 232- 102, EC directive 2000/53 ES) have to be entered.","Wenn Datenbestand IMDS nicht gebildet ist, ergänzen Sie folgende Tabelle. Sämtliche Materialien und Stoffe (einschl. chemische Materialzusammensetzung) und obligatorische deklarierte Stoffe (nach VDA 232-102, Richtlinie EU 2000/53 ES).","Если не был создан файл данных IMDS, заполните нижеследующию таблицу. Должны быть заданны все материалы и вещества (включительно химического состава материала) и полежащие обязательному декларированнию вещества (в соответствии VDA 232-102, деректива EU 2000/53 ES)."]
[null,"Název dílu / materiálu / látky","Part/Material/Substance description:","Teile-/Material-/ Stoffebennenung","Название детали / материала / вещества"]
[null,"Číslo dílu / materiálu","Part/Material No.:","Teil/ Material Nr.","Номер детали / материала"]
[null,"Množství","Quantity","Menge","Количество"]
[null,"Hmotnost\n(g)","Weight\n(g)","Gewicht\n(g)","Масса\n(g)"]
[null,"Podíl \n(%)","Portion\n(%)","Anteil\n(%)","Доля\n(%)"]
[null,"Podíl \n(od - do)\n(%)","Portion\n(from - to)\n(%)","Anteil\n(von - bis)\n(%)","Доля \n(oт - дo)\n(%)"]